{"text_format":"1","workbook":"xlsx","n_sheets":19,"sheets":["メインメニュー","作業用","セミオーダーユニ","フルオーダーユニ","練習着","ジャージ","ピステ","ウインドブレーカー","プラシャツ","プラシャツ(未使用)","インナー","ビブス","ポロシャツ","ノースリーブ","ベンチコート","準備中","デザインURL説明","読込中","お願い"],"not_rendered":{"charts":0,"images":56,"macros":1,"external_links":0,"defined_names":18,"comments":5,"pivot_tables":0},"unopened":[],"bounds":{"document_bytes":16777216,"sheet_cells":100000,"rows_first":2000,"rows_last":500,"rows_between":2000,"halvings":0,"cell_chars":16384,"cell_head_chars":4096},"cells_cut":0,"cells_raw":0,"read":"whole","date_system":"1900"}

{"sheet":"メインメニュー","index":0,"n_rows":60,"n_cols":15,"rows_kept":60,"cut":false,"hidden":true,"merged":[[44,9,44,14],[38,7,38,8],[38,13,38,14],[18,3,18,14],[36,13,36,14],[39,3,40,3],[39,4,39,8],[39,9,40,9],[39,10,39,14],[40,7,40,8],[40,13,40,14],[33,4,33,8],[33,9,34,9],[33,10,33,14],[33,3,34,3],[32,13,32,14],[29,3,30,3],[16,11,16,12],[20,11,20,13],[32,7,32,8],[31,10,31,14],[31,9,32,9],[31,4,31,8],[16,5,16,10],[20,5,20,10],[24,7,24,10],[31,3,32,3],[12,5,12,6],[15,5,15,6],[15,7,15,10],[3,1,3,2],[11,5,11,7],[11,8,11,10],[12,7,12,10],[13,5,13,10],[27,1,27,2],[26,3,26,14],[27,3,27,14],[14,5,14,6],[14,7,14,10],[0,11,0,12],[2,3,2,14],[7,5,7,10],[10,5,10,7],[10,8,10,10],[8,5,8,6],[8,7,8,10],[9,5,9,6],[9,7,9,10],[5,3,5,14],[3,3,3,14],[0,1,0,10],[54,5,54,6],[55,5,55,10],[35,3,36,3],[35,4,35,8],[34,7,34,8],[37,3,38,3],[37,4,37,8],[37,9,38,9],[37,10,37,14],[44,7,44,8],[41,3,42,3],[41,4,41,8],[41,9,42,9],[41,10,41,14],[42,7,42,8],[42,13,42,14],[46,1,46,2],[21,5,21,7],[21,8,21,10],[22,5,22,6],[22,7,22,10],[23,5,23,10],[29,4,29,8],[29,9,30,9],[29,10,29,14],[30,7,30,8],[30,13,30,14],[35,9,36,9],[35,10,35,14],[36,7,36,8],[34,13,34,14],[24,5,24,6],[48,3,48,14],[49,3,49,14],[46,3,46,14],[59,3,59,4],[59,5,59,6],[54,7,54,10],[55,3,55,4],[51,3,51,4],[51,5,51,10],[52,3,52,4],[52,5,52,7],[52,8,52,10],[53,3,53,4],[53,5,53,6],[53,7,53,10],[54,3,54,4]]}
[null,"アグリナゼロ注文書",null,null,null,null,null,null,null,null,null,"ご注文点数合計",null,{"$f":"F45","v":0},"点"]
[]
[null,null,null,"３Dシミュレーターでデザインを作成されている場合は、デザインURLを注文書に記入していただきますので、デザインURLがご不明の場合は３Dシミュレーターでご確認ください。"]
[null,"①",null," ご注文者様の情報をご記入ください"]
[]
[null,null,null,"ご注文者様情報"]
[]
[null,null,null,"●[必須]","チーム名"]
[null,null,null,"●[必須]","注文日",null,null,"日付を記入してください"]
[null,null,null,"●[必須]","新規/追加","※お選びください",null,"リストからお選びください"]
[null,null,null,"●[必須]","お名前",null,null,null,"全角"]
[null,null,null,"●[必須]","フリガナ",null,null,null,"全角カタカナ"]
[null,null,null,"●[必須]","郵便番号",null,null,"半角"]
[null,null,null,"●[必須]","住所"]
[null,null,null,"●[必須]","電話番号",null,null,"半角"]
[null,null,null,"●[任意]","FAX番号",null,null,"半角"]
[null,null,null,"●[必須]","メールアドレス",null,null,null,null,null,null,"半角"]
[]
[null,null,null,"発送先情報"]
[]
[null,null,null,"●[必須]","発送先","※お選びください",null,null,null,null,null,"リストからお選びください"]
[null,null,null,"●[必須]","お名前",null,null,null,"全角"]
[null,null,null,"●[必須]","郵便番号",null,null,"半角"]
[null,null,null,"●[必須]","住所"]
[null,null,null,"●[必須]","電話番号",null,null,"半角"]
[]
[]
[null,"②",null," ご希望のカスタムウェアを選択して、情報をご記入ください"]
[]
[]
[null,null,null,null,"注文点数",{"$f":"作業用!C5","v":0},"金額",{"$f":"作業用!D5","v":0},null,null,"注文点数",{"$f":"作業用!C6","v":0},"金額",{"$f":"作業用!D6","v":0}]
[]
[null,null,null,null,"注文点数",{"$f":"SUM(練習着!F52:Q52)","v":0},"金額",{"$f":"練習着!E61","v":0}]
[]
[null,null,null,null,"注文点数",{"$f":"作業用!C7","v":0},"金額",{"$f":"作業用!D7","v":0},null,null,"注文点数",{"$f":"作業用!C8","v":0},"金額",{"$f":"作業用!D8","v":0}]
[]
[null,null,null,null,"注文点数",{"$f":"作業用!C9","v":0},"金額",{"$f":"作業用!D9","v":0},null,null,"注文点数",{"$f":"作業用!C16","v":0},"金額",{"$f":"作業用!D16","v":0}]
[]
[null,null,null,null,"注文点数",{"$f":"作業用!C10","v":0},"金額",{"$f":"作業用!D10","v":0},null,null,"注文点数",{"$f":"作業用!C13","v":0},"金額",{"$f":"作業用!D13","v":0}]
[]
[null,null,null,null,"注文点数",{"$f":"作業用!C12","v":0},"金額",{"$f":"作業用!D12","v":0},null,null,"注文点数",{"$f":"作業用!C11","v":0},"金額",{"$f":"作業用!D11","v":0}]
[]
[null,null,null,null,"注文点数",{"$f":"作業用!C14","v":0},"金額",{"$f":"作業用!D14","v":0},null,null,"注文点数",{"$f":"作業用!C15","v":0},"金額",{"$f":"作業用!D15","v":0}]
[]
[null,null,null,"ご注文\n合計","注文点数",{"$f":"F31+L31+F35+L35+F37+L37+F39+L39+F41+L41+F43+L43","v":0},"金額",{"$f":"H31+N31+H35+N35+H37+N37+H39+N39+H41+N41+H43+N43","v":0},null,{"$f":"IF(COUNTIF(作業用!E5:E16,\"?*\")>0,\"ご注文に注意点がございます。\"\n& \"注文シートのご確認をお願いいたします。\",\"\")","v":""}]
[]
[null,"③",null," ご注文情報を記入後、この注文書ファイルを取扱店舗へ送付してください。"]
[]
[null,null,null,"以下はお客様が記入していただく必要はありません。"]
[null,null,null,"取扱店舗情報"]
[]
[null,null,null,"店舗名",null,null,null,null,null,null,null,null,"自動入力"]
[null,null,null,"担当者名",null,null,null,null,"全角",null,null,null,"森田卓志"]
[null,null,null,"電話番号",null,null,null,"半角",null,null,null,null,"加藤貴行"]
[null,null,null,"FAX番号",null,null,null,"半角",null,null,null,null,"小原秀一"]
[null,null,null,"メールアドレス",null,null,null,null,null,null,null,"半角"]
[]
[]
[]
[null,null,null,"ＷP"]

{"sheet":"作業用","index":1,"n_rows":22,"n_cols":16,"rows_kept":22,"cut":false,"hidden":true,"merged":[]}
[]
[null,"アグリナ注文書　作業用シート",null,null,null,null,"カラー番号設定（トムス用）",null,null,null,null,"担当者設定"]
[]
[null,"シート","受注数","受注金額","注意点表示",null,"プラシャツ","ポロシャツ","パンツ","ソックス",null,"担当者","店舗名","電話番号","FAX番号","メールアドレス"]
[null,"セミオーダーユニ",{"$f":"セミオーダーユニ!D59","v":0},{"$f":"セミオーダーユニ!E63","v":0},{"$f":"セミオーダーユニ!B71","v":""},null,"011ホワイト","011ホワイト","013Mグレー","011ホワイト",null,"森田卓志","ボアスコンプラス","049-293-2822","049-293-3443","t-morita@s-contigo.com"]
[null,"フルオーダーユニ",{"$f":"フルオーダーユニ!D60","v":0},{"$f":"フルオーダーユニ!E64","v":0},{"$f":"フルオーダーユニ!B72","v":""},null,"015ブラック","015ブラック","015ブラック","015ブラック",null,"加藤貴行","ボアスコンプラス","049-293-2822","049-293-3443","t-kato@s-contigo.com"]
[null,"練習着",{"$f":"練習着!D58","v":0},{"$f":"練習着!E62","v":0},{"$f":"練習着!B69","v":""},null,"020レッド","020レッド","041ネイビー","041ネイビー",null,"小原秀一","ボアスコンプラス","049-293-2822","049-293-3443","s-kohara@s-contigo.com"]
[null,"ジャージ",{"$f":"ジャージ!D56","v":0},{"$f":"ジャージ!E60","v":0},{"$f":"ジャージ!B68","v":""},null,"035ケリーグリーン","035ケリーグリーン"]
[null,"ピステ",{"$f":"ピステ!D57","v":0},{"$f":"ピステ!E61","v":0},{"$f":"ピステ!B69","v":""},null,"041ネイビー","041ネイビー",null,null,null,"※ 担当者の登録は４人まで"]
[null,"ウインドブレーカー",{"$f":"ウインドブレーカー!D56","v":0},{"$f":"ウインドブレーカー!E60","v":0},{"$f":"ウインドブレーカー!B68","v":""},null,"042コバルトブルー","042コバルトブルー"]
[null,"プラシャツ",{"$f":"プラシャツ!D60","v":0},{"$f":"プラシャツ!E64","v":0},{"$f":"プラシャツ!B71","v":""},null,"044Kサックス","044Kサックス"]
[null,"インナー",{"$f":"インナー!D53","v":0},{"$f":"インナー!E57","v":0},{"$f":"インナー!B65","v":""},null,"057蛍光イエロー","057蛍光イエロー"]
[null,"ビブス",{"$f":"SUM(ビブス!F19:K19)","v":0},{"$f":"ビブス!E29","v":0},{"$f":"ビブス!B37","v":""},null,"059蛍光ピンク","059蛍光ピンク"]
[null,"ポロシャツ",{"$f":"ポロシャツ!D55","v":0},{"$f":"ポロシャツ!E59","v":0},{"$f":"ポロシャツ!B66","v":""},null,"156ホットピンク","156ホットピンク"]
[null,"ノースリーブ",{"$f":"ノースリーブ!D54","v":0},{"$f":"ノースリーブ!E58","v":0},{"$f":"ノースリーブ!B65","v":""}]
[null,"ベンチコート",{"$f":"ベンチコート!D51","v":0},{"$f":"ベンチコート!E55","v":0},{"$f":"ベンチコート!B63","v":""}]
[null,"作業用",0,0]
[null,"準備中",0,0]
[null,"読込中",0,0]
[null,"お願い",0,0]
[null,"デザインURL説明",0,0]
[null,"プラシャツ(未使用)",0,0]

{"sheet":"セミオーダーユニ","index":2,"n_rows":71,"n_cols":27,"rows_kept":71,"cut":false,"hidden":true,"merged":[[29,25,29,26],[0,1,0,4],[1,1,2,3],[1,25,1,26],[2,25,2,26],[3,1,3,3],[3,4,4,4],[3,5,4,5],[3,6,4,6],[3,7,4,7],[3,8,4,8],[3,19,4,19],[3,20,4,20],[3,9,4,9],[3,10,4,10],[6,1,6,3],[6,9,6,12],[3,11,4,11],[3,12,4,12],[4,1,4,3],[5,1,5,3],[3,15,4,15],[3,16,4,16],[3,17,4,17],[3,18,4,18],[3,13,4,13],[3,14,4,14],[3,21,4,21],[3,22,4,22],[3,23,4,23],[3,24,4,24],[3,25,6,26],[70,1,72,4],[59,1,59,3],[59,6,59,8],[59,9,59,10],[6,19,6,24],[49,1,49,3],[51,1,51,3],[52,1,52,3],[53,1,53,3],[54,1,54,3],[55,1,55,3],[58,6,58,8],[58,9,58,10],[50,1,50,3],[61,6,61,8],[6,13,6,18],[70,6,70,10],[65,7,65,8],[65,9,65,10],[66,7,66,8],[66,9,66,10],[67,7,67,8],[67,9,67,10],[68,9,68,10],[69,7,69,8],[69,9,69,10],[63,9,63,10],[64,1,64,3],[64,6,64,8],[64,9,64,10],[60,9,60,10],[61,9,61,10],[62,6,62,8],[62,9,62,10],[48,1,48,3],[1,0,4,0],[69,1,69,4],[68,7,68,8],[60,1,60,3],[60,6,60,8],[61,1,61,3],[62,1,62,3],[58,1,58,2],[30,1,30,3],[63,1,63,3],[63,6,63,8],[6,5,6,8]]}
[]
["お客様記入→","agrina\nセミオーダーユニフォーム\n注文書",null,null,"種　別","FP-Home",null,null,null,"FP-Away",null,null,null,"GK-Home",null,null,null,null,null,"GK-Away",null,null,null,null,null,"メモ欄 "]
[null,null,null,null,"画　像"]
[null,{"$f":"IF(ご注文者様チーム名=\"\",\"「メインメニュー」のご注文者様情報をご記入ください。\",ご注文者様チーム名)","v":"「メインメニュー」のご注文者様情報をご記入ください。"},null,null,"名　称","半袖シャツ","長袖シャツ","パンツ","ソックス","半袖シャツ","長袖シャツ","パンツ","ソックス","半袖シャツ","長袖シャツ","パッド付\n長袖シャツ","パンツ","パッド付\nパンツ","ソックス","半袖\nシャツ","長袖シャツ","パッド付\n長袖シャツ","パンツ","パッド付\nパンツ","ソックス","　３Dシミュレーターの「デザインを保存\n　する」ボタンをクリックして表示される\n☜「デザインURL」を貼り付けて下さい。"]
[null,"ユニフォームタイプ"]
["非表示",null,null,null,"商品コード",{"$f":"IF(F53>0,IF(F51=\"\",\"追加商品コード未記入\",F50&F51),\"\")","v":""},{"$f":"IF(G53>0,IF(G51=\"\",\"追加商品コード未記入\",G50&G51),\"\")","v":""},{"$f":"IF(H53>0,IF(H51=\"\",\"追加商品コード未記入\",H50&H51),\"\")","v":""},"","","","","","","","","","","","","","","","",""]
["➡","選択して下さい",null,null,"デザイン\nURL","入力してください",null,null,null,"入力してください",null,null,null,"入力してください",null,null,null,null,null,"入力してください"]
[null,"#","注文者氏名","マーキング名","背番号","サイズ",null,null,null,"サイズ",null,null,null,"サイズ",null,null,null,null,null,"サイズ",null,null,null,null,null,"個人別価格","備考(お客様使用)"]
[null,"例","加藤貴行","T.KATO",10,"M","M","L","25x27","M","M","L","25x27"]
["➡",1,null,null,null,null,null,null,null,null,null,null,null,null,null,null,null,null,null,null,null,null,null,null,null,{"$f":"SUMIF(F10:Y10,\"<>\",$F$55:$Y$55)+IF($D10<>\"\",COUNTIFS(F10:Y10,\"<>\",$F$49:$Y$49,\">0\")*$M$66,0)","v":0}]
[null,2,null,null,null,null,null,null,null,null,null,null,null,null,null,null,null,null,null,null,null,null,null,null,null,{"$f":"SUMIF(F11:Y11,\"<>\",$F$55:$Y$55)+IF($D11<>\"\",COUNTIFS(F11:Y11,\"<>\",$F$49:$Y$49,\">0\")*$M$66,0)","v":0}]
[null,3,null,null,null,null,null,null,null,null,null,null,null,null,null,null,null,null,null,null,null,null,null,null,null,0]
[null,4,null,null,null,null,null,null,null,null,null,null,null,null,null,null,null,null,null,null,null,null,null,null,null,0]
[null,5,null,null,null,null,null,null,null,null,null,null,null,null,null,null,null,null,null,null,null,null,null,null,null,0]
[null,6,null,null,null,null,null,null,null,null,null,null,null,null,null,null,null,null,null,null,null,null,null,null,null,0]
[null,7,null,null,null,null,null,null,null,null,null,null,null,null,null,null,null,null,null,null,null,null,null,null,null,0]
[null,8,null,null,null,null,null,null,null,null,null,null,null,null,null,null,null,null,null,null,null,null,null,null,null,0]
[null,9,null,null,null,null,null,null,null,null,null,null,null,null,null,null,null,null,null,null,null,null,null,null,null,0]
[null,10,null,null,null,null,null,null,null,null,null,null,null,null,null,null,null,null,null,null,null,null,null,null,null,0]
[null,11,null,null,null,null,null,null,null,null,null,null,null,null,null,null,null,null,null,null,null,null,null,null,null,0]
[null,12,null,null,null,null,null,null,null,null,null,null,null,null,null,null,null,null,null,null,null,null,null,null,null,0]
[null,13,null,null,null,null,null,null,null,null,null,null,null,null,null,null,null,null,null,null,null,null,null,null,null,0]
[null,14,null,null,null,null,null,null,null,null,null,null,null,null,null,null,null,null,null,null,null,null,null,null,null,0]
[null,15,null,null,null,null,null,null,null,null,null,null,null,null,null,null,null,null,null,null,null,null,null,null,null,0]
[null,16,null,null,null,null,null,null,null,null,null,null,null,null,null,null,null,null,null,null,null,null,null,null,null,0]
[null,17,null,null,null,null,null,null,null,null,null,null,null,null,null,null,null,null,null,null,null,null,null,null,null,0]
[null,18,null,null,null,null,null,null,null,null,null,null,null,null,null,null,null,null,null,null,null,null,null,null,null,0]
[null,19,null,null,null,null,null,null,null,null,null,null,null,null,null,null,null,null,null,null,null,null,null,null,null,0]
[null,20,null,null,null,null,null,null,null,null,null,null,null,null,null,null,null,null,null,null,null,null,null,null,null,0]
[null,null,null,null,null,{"$f":"IF(AND((I53+M53+S53+Y53)>0,(I53+M53+S53+Y53)<5),\"　※ソックスは5点以上でご注文をお願いいたします。\"&\"（最低注文数まであと\"& 5-(I53+M53+S53+Y53) & \"点）\",\"\") &\nIF(AND(OR(B7=\"選択して下さい\",B7=\"\"),(SUM(F53:H53)+SUM(J53:L53)+SUM(N53:R53)+SUM(T53:X53))>0),\"　※ユニフォームタイプを選択して下さい。\",\"\")","v":""},null,null,null,null,null,null,null,null,null,null,null,null,null,null,null,null,null,null,null,{"$f":"IF(E61>0,\"※ 個人別価格に送料は含まれていません。\",\"\")","v":""}]
[null,"注 文 集 計",null,null,100,{"$f":"COUNTIF(F$10:F$29,$E31)","v":0},0,0,null,{"$f":"COUNTIF(J$10:J$29,$E31)","v":0},0,0,null,{"$f":"COUNTIF(N$10:N$29,$E31)","v":0},0,0,0,0,null,{"$f":"COUNTIF(T$10:T$29,$E31)","v":0},0,0,0,0]
[null,null,null,null,110,0,0,0,null,0,0,0,null,0,0,0,0,0,null,0,0,0,0,0]
[null,null,null,null,120,0,0,0,null,0,0,0,null,0,0,0,0,0,null,0,0,0,0,0]
[null,null,null,null,130,0,0,0,null,0,0,0,null,0,0,0,0,0,null,0,0,0,0,0]
[null,null,null,null,140,0,0,0,null,0,0,0,null,0,0,0,0,0,null,0,0,0,0,0]
[null,null,null,null,150,0,0,0,null,0,0,0,null,0,0,0,0,0,null,0,0,0,0,0]
[null,null,null,null,160,0,0,0,null,0,0,0,null,0,0,0,0,0,null,0,0,0,0,0]
[null,null,null,null,"S",0,0,0,null,0,0,0,null,0,0,0,0,0,null,0,0,0,0,0]
[null,null,null,null,"M",0,0,0,null,0,0,0,null,0,0,0,0,0,null,0,0,0,0,0]
[null,null,null,null,"L",0,0,0,null,0,0,0,null,0,0,0,0,0,null,0,0,0,0,0]
[null,null,null,null,"XL",0,0,0,null,0,0,0,null,0,0,0,0,0,null,0,0,0,0,0]
[null,null,null,null,"3L",0,0,0,null,0,0,0,null,0,0,0,0,0,null,0,0,0,0,0]
[null,null,null,null,"4L",0,0,0,null,0,0,0,null,0,0,0,0,0,null,0,0,0,0,0]
[null,null,null,null,"5L",0,0,0,null,0,0,0,null,0,0,0,0,0,null,0,0,0,0,0]
[null,null,null,null,"19x21",null,null,null,{"$f":"COUNTIF(I$10:I$29,$E45)","v":0},null,null,null,{"$f":"COUNTIF(M$10:M$29,$E45)","v":0},null,null,null,null,null,{"$f":"COUNTIF(S$10:S$29,$E45)","v":0},null,null,null,null,null,{"$f":"COUNTIF(Y$10:Y$29,$E45)","v":0}]
[null,null,null,null,"22x24",null,null,null,{"$f":"COUNTIF(I$10:I$29,$E46)","v":0},null,null,null,{"$f":"COUNTIF(M$10:M$29,$E46)","v":0},null,null,null,null,null,{"$f":"COUNTIF(S$10:S$29,$E46)","v":0},null,null,null,null,null,{"$f":"COUNTIF(Y$10:Y$29,$E46)","v":0}]
[null,null,null,null,"25x27",null,null,null,{"$f":"COUNTIF(I$10:I$29,$E47)","v":0},null,null,null,{"$f":"COUNTIF(M$10:M$29,$E47)","v":0},null,null,null,null,null,{"$f":"COUNTIF(S$10:S$29,$E47)","v":0},null,null,null,null,null,{"$f":"COUNTIF(Y$10:Y$29,$E47)","v":0}]
[null,null,null,null,"27x29",null,null,null,{"$f":"COUNTIF(I$10:I$29,$E48)","v":0},null,null,null,{"$f":"COUNTIF(M$10:M$29,$E48)","v":0},null,null,null,null,null,{"$f":"COUNTIF(S$10:S$29,$E48)","v":0},null,null,null,null,null,{"$f":"COUNTIF(Y$10:Y$29,$E48)","v":0}]
[null,"マーキング",null,null,"個人名",{"$f":"COUNTIFS($D$10:$D$29,\"<>\",F$10:F$29,\"<>\")","v":0},{"$f":"COUNTIFS($D$10:$D$29,\"<>\",G$10:G$29,\"<>\")","v":0},null,null,{"$f":"COUNTIFS($D$10:$D$29,\"<>\",J$10:J$29,\"<>\")","v":0},{"$f":"COUNTIFS($D$10:$D$29,\"<>\",K$10:K$29,\"<>\")","v":0},null,null,{"$f":"COUNTIFS($D$10:$D$29,\"<>\",N$10:N$29,\"<>\")","v":0},{"$f":"COUNTIFS($D$10:$D$29,\"<>\",O$10:O$29,\"<>\")","v":0},{"$f":"COUNTIFS($D$10:$D$29,\"<>\",P$10:P$29,\"<>\")","v":0},null,null,null,{"$f":"COUNTIFS($D$10:$D$29,\"<>\",T$10:T$29,\"<>\")","v":0},{"$f":"COUNTIFS($D$10:$D$29,\"<>\",U$10:U$29,\"<>\")","v":0},{"$f":"COUNTIFS($D$10:$D$29,\"<>\",V$10:V$29,\"<>\")","v":0}]
[null,"代表商品コード",null,null,{"$f":"$J$66","v":"ag-name1000"},{"$f":"$J$60","v":"ag-cs"},{"$f":"$J$61","v":"ag-cl"},{"$f":"$J$62","v":"ag-cp"},{"$f":"$J$63","v":"ag-st"},{"$f":"$J$60","v":"ag-cs"},{"$f":"$J$61","v":"ag-cl"},{"$f":"$J$62","v":"ag-cp"},{"$f":"$J$63","v":"ag-st"},{"$f":"$J$60","v":"ag-cs"},{"$f":"$J$61","v":"ag-cl"},{"$f":"$J$64","v":"ag-clp"},{"$f":"$J$62","v":"ag-cp"},{"$f":"$J$65","v":"ag-cpp"},{"$f":"$J$63","v":"ag-st"},{"$f":"$J$60","v":"ag-cs"},{"$f":"$J$61","v":"ag-cl"},{"$f":"$J$64","v":"ag-clp"},{"$f":"$J$62","v":"ag-cp"},{"$f":"$J$65","v":"ag-cpp"},{"$f":"$J$63","v":"ag-st"}]
[null,"追加商品コード"]
[null,"商 品 名",null,null,"個人名\nﾏｰｷﾝｸﾞ",{"$f":"$G$60&\"(\"& IF(COUNTIF($B$7,\"*公式戦*\"),\"公式戦\",\"\") & $F$2&\")\"","v":"セミオーダー昇華シャツ半袖(FP-Home)"},{"$f":"$G$61&\"(\"&IF(COUNTIF($B$7,\"*公式戦*\"),\"公式戦\",\"\") & $F$2&\")\"","v":"セミオーダー昇華シャツ長袖(FP-Home)"},{"$f":"$G$62&\"(\"&IF(COUNTIF($B$7,\"*公式戦*\"),\"公式戦\",\"\") & $F$2&\")\"","v":"セミオーダー昇華パンツ(FP-Home)"},{"$f":"$G$63&\"(\"&IF(COUNTIF($B$7,\"*公式戦*\"),\"公式戦\",\"\") & $F$2&\")\"","v":"セミオーダーソックス(FP-Home)"},{"$f":"$G$60&\"(\"&IF(COUNTIF($B$7,\"*公式戦*\"),\"公式戦\",\"\") & $J$2&\")\"","v":"セミオーダー昇華シャツ半袖(FP-Away)"},{"$f":"$G$61&\"(\"&IF(COUNTIF($B$7,\"*公式戦*\"),\"公式戦\",\"\") & $J$2&\")\"","v":"セミオーダー昇華シャツ長袖(FP-Away)"},{"$f":"$G$62&\"(\"&IF(COUNTIF($B$7,\"*公式戦*\"),\"公式戦\",\"\") & $J$2&\")\"","v":"セミオーダー昇華パンツ(FP-Away)"},{"$f":"$G$63&\"(\"&IF(COUNTIF($B$7,\"*公式戦*\"),\"公式戦\",\"\") & $J$2&\")\"","v":"セミオーダーソックス(FP-Away)"},{"$f":"$G$60&\"(\"&IF(COUNTIF($B$7,\"*公式戦*\"),\"公式戦\",\"\") & $N$2&\")\"","v":"セミオーダー昇華シャツ半袖(GK-Home)"},{"$f":"$G$61&\"(\"&IF(COUNTIF($B$7,\"*公式戦*\"),\"公式戦\",\"\") & $N$2&\")\"","v":"セミオーダー昇華シャツ長袖(GK-Home)"},{"$f":"$G$64&\"(\"&IF(COUNTIF($B$7,\"*公式戦*\"),\"公式戦\",\"\") & $N$2&\")\"","v":"セミオーダー昇華シャツ長袖パッド付(GK-Home)"},{"$f":"$G$62&\"(\"&IF(COUNTIF($B$7,\"*公式戦*\"),\"公式戦\",\"\") & $N$2&\")\"","v":"セミオーダー昇華パンツ(GK-Home)"},{"$f":"$G$65&\"(\"&IF(COUNTIF($B$7,\"*公式戦*\"),\"公式戦\",\"\") & $N$2&\")\"","v":"セミオーダー昇華パンツパッド付(GK-Home)"},{"$f":"$G$63&\"(\"&IF(COUNTIF($B$7,\"*公式戦*\"),\"公式戦\",\"\") & $N$2&\")\"","v":"セミオーダーソックス(GK-Home)"},{"$f":"$G$60&\"(\"&IF(COUNTIF($B$7,\"*公式戦*\"),\"公式戦\",\"\") & $T$2&\")\"","v":"セミオーダー昇華シャツ半袖(GK-Away)"},{"$f":"$G$61&\"(\"&IF(COUNTIF($B$7,\"*公式戦*\"),\"公式戦\",\"\") & $T$2&\")\"","v":"セミオーダー昇華シャツ長袖(GK-Away)"},{"$f":"$G$64&\"(\"&IF(COUNTIF($B$7,\"*公式戦*\"),\"公式戦\",\"\") & $T$2&\")\"","v":"セミオーダー昇華シャツ長袖パッド付(GK-Away)"},{"$f":"$G$62&\"(\"&IF(COUNTIF($B$7,\"*公式戦*\"),\"公式戦\",\"\") & $T$2&\")\"","v":"セミオーダー昇華パンツ(GK-Away)"},{"$f":"$G$65&\"(\"&IF(COUNTIF($B$7,\"*公式戦*\"),\"公式戦\",\"\") & $T$2&\")\"","v":"セミオーダー昇華パンツパッド付(GK-Away)"},{"$f":"$G$63&\"(\"&IF(COUNTIF($B$7,\"*公式戦*\"),\"公式戦\",\"\") & $T$2&\")\"","v":"セミオーダーソックス(GK-Away)"}]
[null,"注 文 数",null,null,{"$f":"SUM(F49:Y49)","v":0},{"$f":"SUM(F31:F48)","v":0},0,0,0,0,0,0,0,0,0,0,0,0,0,0,0,0,0,0,0]
[null,"定  価（税込）",null,null,{"$f":"$L$66","v":1080},{"$f":"$L$60","v":8640},{"$f":"$L$61","v":9720},{"$f":"$L$62","v":7020},{"$f":"$L$63","v":1944},{"$f":"$L$60","v":8640},{"$f":"$L$61","v":9720},{"$f":"$L$62","v":7020},{"$f":"$L$63","v":1944},{"$f":"$L$60","v":8640},{"$f":"$L$61","v":9720},{"$f":"$L$64","v":10800},{"$f":"$L$62","v":7020},{"$f":"$L$65","v":8100},{"$f":"$L$63","v":1944},{"$f":"$L$60","v":8640},{"$f":"$L$61","v":9720},{"$f":"$L$64","v":10800},{"$f":"$L$62","v":7020},{"$f":"$L$65","v":8100},{"$f":"$L$63","v":1944}]
[null,"販売価格（税込）",null,null,{"$f":"$M$66","v":1080},{"$f":"$M$60","v":8640},{"$f":"$M$61","v":9720},{"$f":"$M$62","v":7020},{"$f":"$M$63","v":1944},{"$f":"$M$60","v":8640},{"$f":"$M$61","v":9720},{"$f":"$M$62","v":7020},{"$f":"$M$63","v":1944},{"$f":"$M$60","v":8640},{"$f":"$M$61","v":9720},{"$f":"$M$64","v":10800},{"$f":"$M$62","v":7020},{"$f":"$M$65","v":8100},{"$f":"$M$63","v":1944},{"$f":"$M$60","v":8640},{"$f":"$M$61","v":9720},{"$f":"$M$64","v":10800},{"$f":"$M$62","v":7020},{"$f":"$M$65","v":8100},{"$f":"$M$63","v":1944}]
[null,"商品金額小計（税込）",null,null,{"$f":"E55*E53","v":0},0,0,0,0,0,0,0,0,0,0,0,0,0,0,0,0,0,0,0,0]
[]
[null,"■ 簡易見積表",null,null,null,null,"■ 料金について（金額は税込定価です）"]
[null,"商 品 合 計",null,{"$f":"SUM(F53:Y53)","v":0},{"$f":"SUM(F56:Y56)","v":0},null,"商品名",null,null,"代表商品コード",null,"定価(税込)","売価(税込)","掛率(X10%)","注文数"]
[null,"マーキング代合計",null,null,{"$f":"E56","v":0},null,"セミオーダー昇華シャツ半袖",null,null,"ag-cs",null,8640,{"$f":"ROUND(L60*N60*0.1,0)","v":8640},10,{"$f":"SUMIF(F$50:Y$50,J60,F$53:Y$53)","v":0}]
[null,"送 料",null,null,{"$f":"IF(AND((E60+E59)>0,(E60+E59)<10800),$L$71,0)","v":0},null,"セミオーダー昇華シャツ長袖",null,null,"ag-cl",null,9720,{"$f":"ROUND(L61*N61*0.1,0)","v":9720},{"$f":"$N$60","v":10},0]
[null," ―",null,null,0,null,"セミオーダー昇華パンツ",null,null,"ag-cp",null,7020,7020,{"$f":"$N$60","v":10},0]
[null,"合計金額（税込）",null,null,{"$f":"SUM(E59:E62)","v":0},null,"セミオーダーソックス",null,null,"ag-st",null,1944,1944,10,0]
[null,"税抜金額",null,null,{"$f":"E62-E65","v":0},null,"セミオーダー昇華シャツ長袖パッド付",null,null,"ag-clp",null,10800,10800,10,0]
[null,0.08,null,null,{"$f":"E62-ROUND(E62/(1+B65),0)","v":0},null,"セミオーダー昇華パンツパッド付",null,null,"ag-cpp",null,8100,8100,10,0]
[null,null,null,null,null,null,"マーキング","個人名",null,"ag-name1000",null,1080,1080,10,{"$f":"E53","v":0}]
[null,null,null,null,null,null,"マーキング","背/胸/パンツ番号",null,"無料サービス",null,0,0,10]
[null,null,null,null,null,null,"マーキング","エンブレム",null,"無料サービス",null,0,0,10]
[null,null,null,null,null,null,"マーキング","チーム名",null,"無料サービス",null,0,0,10]
[null,{"$f":"IF(F30<>\"\",\"ご注意\",\"\")","v":""},null,null,null,null,"マーキング","スポンサーバナー",null,"無料サービス",null,0,0,10]
[null,{"$f":"IF(F30<>\"\",F30,\"\")","v":""},null,null,null,null,"送料（税込10,800円以上で送料無料）",null,null,null,null,540]

{"sheet":"フルオーダーユニ","index":3,"n_rows":72,"n_cols":27,"rows_kept":72,"cut":false,"hidden":true,"merged":[[5,1,5,3],[29,25,29,26],[69,7,69,8],[69,9,69,10],[70,7,70,8],[70,9,70,10],[59,6,59,8],[59,9,59,10],[64,1,64,3],[64,6,64,8],[64,9,64,10],[65,1,65,3],[65,6,65,8],[65,9,65,10],[61,1,61,3],[61,6,61,8],[71,6,71,10],[66,7,66,8],[66,9,66,10],[67,7,67,8],[67,9,67,10],[68,7,68,8],[68,9,68,10],[61,9,61,10],[62,6,62,8],[62,9,62,10],[63,6,63,8],[63,9,63,10],[62,1,62,3],[63,1,63,3],[51,1,51,3],[6,1,6,3],[59,1,59,2],[48,1,48,3],[49,1,49,3],[30,1,30,3],[0,1,0,4],[1,25,1,26],[2,25,2,26],[4,1,4,3],[3,9,4,9],[3,10,4,10],[3,11,4,11],[3,25,6,26],[6,9,6,12],[6,13,6,18],[1,1,2,3],[3,1,3,3],[3,5,4,5],[3,6,4,6],[6,5,6,8],[3,8,4,8],[3,21,4,21],[3,12,4,12],[3,13,4,13],[3,14,4,14],[3,15,4,15],[3,16,4,16],[3,4,4,4],[3,17,4,17],[3,18,4,18],[3,19,4,19],[3,20,4,20],[3,7,4,7],[70,1,70,4],[71,1,73,4],[1,0,4,0],[3,22,4,22],[3,23,4,23],[60,1,60,3],[60,6,60,8],[60,9,60,10],[6,19,6,24],[50,1,50,3],[52,1,52,3],[53,1,53,3],[54,1,54,3],[55,1,55,3],[56,1,56,3],[3,24,4,24]]}
[]
["お客様記入→","agrina\nフルオーダーユニフォーム\n注文書",null,null,"種　別","FP-Home",null,null,null,"FP-Away",null,null,null,"GK-Home",null,null,null,null,null,"GK-Away",null,null,null,null,null,"メモ欄 "]
[null,null,null,null,"画　像"]
[null,{"$f":"IF(ご注文者様チーム名=\"\",\"「メインメニュー」のご注文者様情報をご記入ください。\",ご注文者様チーム名)","v":"「メインメニュー」のご注文者様情報をご記入ください。"},null,null,"名　称","半袖シャツ","長袖シャツ","パンツ","ソックス","半袖シャツ","長袖シャツ","パンツ","ソックス","半袖シャツ","長袖シャツ","パッド付\n長袖シャツ","パンツ","パッド付\nパンツ","ソックス","半袖\nシャツ","長袖シャツ","パッド付\n長袖シャツ","パンツ","パッド付\nパンツ","ソックス"]
[null,"ユニフォームタイプ"]
["非表示",null,null,null,"商品コード",{"$f":"IF(F54>0,F51,\"\")","v":""},{"$f":"IF(G54>0,G51,\"\")","v":""},"","","","","","","","","","","","","","","","","",""]
["➡","選択して下さい",null,null,"メ　モ"]
[null,"#","注文者氏名",{"$f":"\"マーキング名\"","v":"マーキング名"},"背番号","サイズ",null,null,null,"サイズ",null,null,null,"サイズ",null,null,null,null,null,"サイズ",null,null,null,null,null,"個人別価格","備考(お客様使用)"]
[null,"例","加藤貴行","T.KATO",10,"M","M","L","25x27","M","M","L","25x27"]
["➡",1,null,null,null,null,null,null,null,null,null,null,null,null,null,null,null,null,null,null,null,null,null,null,null,{"$f":"SUMIF(F10:Y10,\"<>\",$F$56:$Y$56)+IF($D10<>\"\",COUNTIFS(F10:Y10,\"<>\",$F$50:$Y$50,\">0\")*$M$67,0)","v":0}]
[null,2,null,null,null,null,null,null,null,null,null,null,null,null,null,null,null,null,null,null,null,null,null,null,null,{"$f":"SUMIF(F11:Y11,\"<>\",$F$56:$Y$56)+IF($D11<>\"\",COUNTIFS(F11:Y11,\"<>\",$F$50:$Y$50,\">0\")*$M$67,0)","v":0}]
[null,3,null,null,null,null,null,null,null,null,null,null,null,null,null,null,null,null,null,null,null,null,null,null,null,0]
[null,4,null,null,null,null,null,null,null,null,null,null,null,null,null,null,null,null,null,null,null,null,null,null,null,0]
[null,5,null,null,null,null,null,null,null,null,null,null,null,null,null,null,null,null,null,null,null,null,null,null,null,0]
[null,6,null,null,null,null,null,null,null,null,null,null,null,null,null,null,null,null,null,null,null,null,null,null,null,0]
[null,7,null,null,null,null,null,null,null,null,null,null,null,null,null,null,null,null,null,null,null,null,null,null,null,0]
[null,8,null,null,null,null,null,null,null,null,null,null,null,null,null,null,null,null,null,null,null,null,null,null,null,0]
[null,9,null,null,null,null,null,null,null,null,null,null,null,null,null,null,null,null,null,null,null,null,null,null,null,0]
[null,10,null,null,null,null,null,null,null,null,null,null,null,null,null,null,null,null,null,null,null,null,null,null,null,0]
[null,11,null,null,null,null,null,null,null,null,null,null,null,null,null,null,null,null,null,null,null,null,null,null,null,0]
[null,12,null,null,null,null,null,null,null,null,null,null,null,null,null,null,null,null,null,null,null,null,null,null,null,0]
[null,13,null,null,null,null,null,null,null,null,null,null,null,null,null,null,null,null,null,null,null,null,null,null,null,0]
[null,14,null,null,null,null,null,null,null,null,null,null,null,null,null,null,null,null,null,null,null,null,null,null,null,0]
[null,15,null,null,null,null,null,null,null,null,null,null,null,null,null,null,null,null,null,null,null,null,null,null,null,0]
[null,16,null,null,null,null,null,null,null,null,null,null,null,null,null,null,null,null,null,null,null,null,null,null,null,0]
[null,17,null,null,null,null,null,null,null,null,null,null,null,null,null,null,null,null,null,null,null,null,null,null,null,0]
[null,18,null,null,null,null,null,null,null,null,null,null,null,null,null,null,null,null,null,null,null,null,null,null,null,0]
[null,19,null,null,null,null,null,null,null,null,null,null,null,null,null,null,null,null,null,null,null,null,null,null,null,0]
[null,20,null,null,null,null,null,null,null,null,null,null,null,null,null,null,null,null,null,null,null,null,null,null,null,0]
[null,null,null,null,null,{"$f":"IF(AND((I54+M54+S54+Y54)>0,(I54+M54+S54+Y54)<5),\"　※ソックスは5点以上でご注文をお願いいたします。\"&\"（最低注文数まであと\"& 5-(I54+M54+S54+Y54) & \"点）\",\"\") &\nIF(AND(OR(B7=\"選択して下さい\",B7=\"\"),(SUM(F54:H54)+SUM(J54:L54)+SUM(N54:R54)+SUM(T54:X54))>0),\"　※ユニフォームタイプを選択して下さい。\",\"\")","v":""},null,null,null,null,null,null,null,null,null,null,null,null,null,null,null,null,null,null,null,{"$f":"IF(E62>0,\"※ 個人別価格に送料は含まれていません。\",\"\")","v":""}]
[null,"注 文 集 計",null,null,100,{"$f":"COUNTIF(F$10:F$29,$E31)","v":0},0,0,null,{"$f":"COUNTIF(J$10:J$29,$E31)","v":0},0,0,null,{"$f":"COUNTIF(N$10:N$29,$E31)","v":0},0,0,0,0,null,{"$f":"COUNTIF(T$10:T$29,$E31)","v":0},0,0,0,0]
[null,null,null,null,110,0,0,0,null,0,0,0,null,0,0,0,0,0,null,0,0,0,0,0]
[null,null,null,null,120,0,0,0,null,0,0,0,null,0,0,0,0,0,null,0,0,0,0,0]
[null,null,null,null,130,0,0,0,null,0,0,0,null,0,0,0,0,0,null,0,0,0,0,0]
[null,null,null,null,140,0,0,0,null,0,0,0,null,0,0,0,0,0,null,0,0,0,0,0]
[null,null,null,null,150,0,0,0,null,0,0,0,null,0,0,0,0,0,null,0,0,0,0,0]
[null,null,null,null,160,0,0,0,null,0,0,0,null,0,0,0,0,0,null,0,0,0,0,0]
[null,null,null,null,"S",0,0,0,null,0,0,0,null,0,0,0,0,0,null,0,0,0,0,0]
[null,null,null,null,"M",0,0,0,null,0,0,0,null,0,0,0,0,0,null,0,0,0,0,0]
[null,null,null,null,"L",0,0,0,null,0,0,0,null,0,0,0,0,0,null,0,0,0,0,0]
[null,null,null,null,"XL",0,0,0,null,0,0,0,null,0,0,0,0,0,null,0,0,0,0,0]
[null,null,null,null,"3L",0,0,0,null,0,0,0,null,0,0,0,0,0,null,0,0,0,0,0]
[null,null,null,null,"4L",0,0,0,null,0,0,0,null,0,0,0,0,0,null,0,0,0,0,0]
[null,null,null,null,"5L",0,0,0,null,0,0,0,null,0,0,0,0,0,null,0,0,0,0,0]
[null,null,null,null,"19x21",null,null,null,{"$f":"COUNTIF(I$10:I$29,$E45)","v":0},null,null,null,{"$f":"COUNTIF(M$10:M$29,$E45)","v":0},null,null,null,null,null,{"$f":"COUNTIF(S$10:S$29,$E45)","v":0},null,null,null,null,null,{"$f":"COUNTIF(Y$10:Y$29,$E45)","v":0}]
[null,null,null,null,"22x24",null,null,null,{"$f":"COUNTIF(I$10:I$29,$E46)","v":0},null,null,null,{"$f":"COUNTIF(M$10:M$29,$E46)","v":0},null,null,null,null,null,{"$f":"COUNTIF(S$10:S$29,$E46)","v":0},null,null,null,null,null,{"$f":"COUNTIF(Y$10:Y$29,$E46)","v":0}]
[null,null,null,null,"25x27",null,null,null,{"$f":"COUNTIF(I$10:I$29,$E47)","v":0},null,null,null,{"$f":"COUNTIF(M$10:M$29,$E47)","v":0},null,null,null,null,null,{"$f":"COUNTIF(S$10:S$29,$E47)","v":0},null,null,null,null,null,{"$f":"COUNTIF(Y$10:Y$29,$E47)","v":0}]
[null,null,null,null,"27x29",null,null,null,{"$f":"COUNTIF(I$10:I$29,$E48)","v":0},null,null,null,{"$f":"COUNTIF(M$10:M$29,$E48)","v":0},null,null,null,null,null,{"$f":"COUNTIF(S$10:S$29,$E48)","v":0},null,null,null,null,null,{"$f":"COUNTIF(Y$10:Y$29,$E48)","v":0}]
[null,"マーキング",null,null,"個人名有無","個人名【有】","個人名【有】","個人名【有】",null,"個人名【有】","個人名【有】","個人名【無】",null,"個人名【有】","個人名【有】","個人名【無】","個人名【無】","個人名【無】",null,"個人名【有】","個人名【有】","個人名【無】","個人名【無】","個人名【無】"]
[null,null,null,null,"マーキング数",{"$f":"IF(F49=\"個人名【有】\",COUNTIFS($D$10:$D$29,\"<>\",F$10:F$29,\"<>\"),0)","v":0},{"$f":"IF(G49=\"個人名【有】\",COUNTIFS($D$10:$D$29,\"<>\",G$10:G$29,\"<>\"),0)","v":0},0,null,{"$f":"IF(J49=\"個人名【有】\",COUNTIFS($D$10:$D$29,\"<>\",J$10:J$29,\"<>\"),0)","v":0},{"$f":"IF(K49=\"個人名【有】\",COUNTIFS($D$10:$D$29,\"<>\",K$10:K$29,\"<>\"),0)","v":0},{"$f":"IF(L49=\"個人名【有】\",COUNTIFS($D$10:$D$29,\"<>\",L$10:L$29,\"<>\"),0)","v":0},null,{"$f":"IF(N49=\"個人名【有】\",COUNTIFS($D$10:$D$29,\"<>\",N$10:N$29,\"<>\"),0)","v":0},{"$f":"IF(O49=\"個人名【有】\",COUNTIFS($D$10:$D$29,\"<>\",O$10:O$29,\"<>\"),0)","v":0},{"$f":"IF(P49=\"個人名【有】\",COUNTIFS($D$10:$D$29,\"<>\",P$10:P$29,\"<>\"),0)","v":0},{"$f":"IF(Q49=\"個人名【有】\",COUNTIFS($D$10:$D$29,\"<>\",Q$10:Q$29,\"<>\"),0)","v":0},{"$f":"IF(R49=\"個人名【有】\",COUNTIFS($D$10:$D$29,\"<>\",R$10:R$29,\"<>\"),0)","v":0},null,{"$f":"IF(T49=\"個人名【有】\",COUNTIFS($D$10:$D$29,\"<>\",T$10:T$29,\"<>\"),0)","v":0},{"$f":"IF(U49=\"個人名【有】\",COUNTIFS($D$10:$D$29,\"<>\",U$10:U$29,\"<>\"),0)","v":0},{"$f":"IF(V49=\"個人名【有】\",COUNTIFS($D$10:$D$29,\"<>\",V$10:V$29,\"<>\"),0)","v":0},{"$f":"IF(W49=\"個人名【有】\",COUNTIFS($D$10:$D$29,\"<>\",W$10:W$29,\"<>\"),0)","v":0},{"$f":"IF(X49=\"個人名【有】\",COUNTIFS($D$10:$D$29,\"<>\",X$10:X$29,\"<>\"),0)","v":0}]
[null,"代表商品コード",null,null,{"$f":"$J$67","v":"ag-name1000"},{"$f":"$J$61","v":"ag-c001"},{"$f":"$J$62","v":"ag-c001L"},{"$f":"$J$63","v":"ag-c002"},{"$f":"$J$64","v":"ag-st"},{"$f":"$J$61","v":"ag-c001"},{"$f":"$J$62","v":"ag-c001L"},{"$f":"$J$63","v":"ag-c002"},{"$f":"$J$64","v":"ag-st"},{"$f":"$J$61","v":"ag-c001"},{"$f":"$J$62","v":"ag-c001L"},{"$f":"$J$65","v":"ag-c001LP"},{"$f":"$J$63","v":"ag-c002"},{"$f":"$J$66","v":"ag-c002P"},{"$f":"$J$64","v":"ag-st"},{"$f":"$J$61","v":"ag-c001"},{"$f":"$J$62","v":"ag-c001L"},{"$f":"$J$65","v":"ag-c001LP"},{"$f":"$J$63","v":"ag-c002"},{"$f":"$J$66","v":"ag-c002P"},{"$f":"$J$64","v":"ag-st"}]
[null,"追加商品コード(不要)"]
[null,"商 品 名",null,null,"個人名\nマーキング",{"$f":"$G$61&\"(\"&IF(COUNTIF($B$7,\"*公式戦*\"),\"公式戦\",\"\") & $F$2&\")\"","v":"フルオーダー昇華シャツ半袖(FP-Home)"},{"$f":"$G$62&\"(\"&IF(COUNTIF($B$7,\"*公式戦*\"),\"公式戦\",\"\") & $F$2&\")\"","v":"フルオーダー昇華シャツ長袖(FP-Home)"},{"$f":"$G$63&\"(\"&IF(COUNTIF($B$7,\"*公式戦*\"),\"公式戦\",\"\") & $F$2&\")\"","v":"フルオーダー昇華パンツ(FP-Home)"},{"$f":"$G$64&\"(\"&IF(COUNTIF($B$7,\"*公式戦*\"),\"公式戦\",\"\") & $F$2&\")\"","v":"フルオーダーソックス(FP-Home)"},{"$f":"$G$61&\"(\"&IF(COUNTIF($B$7,\"*公式戦*\"),\"公式戦\",\"\") & $J$2&\")\"","v":"フルオーダー昇華シャツ半袖(FP-Away)"},{"$f":"$G$62&\"(\"&IF(COUNTIF($B$7,\"*公式戦*\"),\"公式戦\",\"\") & $J$2&\")\"","v":"フルオーダー昇華シャツ長袖(FP-Away)"},{"$f":"$G$63&\"(\"&IF(COUNTIF($B$7,\"*公式戦*\"),\"公式戦\",\"\") & $J$2&\")\"","v":"フルオーダー昇華パンツ(FP-Away)"},{"$f":"$G$64&\"(\"&IF(COUNTIF($B$7,\"*公式戦*\"),\"公式戦\",\"\") & $J$2&\")\"","v":"フルオーダーソックス(FP-Away)"},{"$f":"$G$61&\"(\"&IF(COUNTIF($B$7,\"*公式戦*\"),\"公式戦\",\"\") & $N$2&\")\"","v":"フルオーダー昇華シャツ半袖(GK-Home)"},{"$f":"$G$62&\"(\"&IF(COUNTIF($B$7,\"*公式戦*\"),\"公式戦\",\"\") & $N$2&\")\"","v":"フルオーダー昇華シャツ長袖(GK-Home)"},{"$f":"$G$65&\"(\"&IF(COUNTIF($B$7,\"*公式戦*\"),\"公式戦\",\"\") & $N$2&\")\"","v":"フルオーダー昇華シャツ長袖パッド付(GK-Home)"},{"$f":"$G$63&\"(\"&IF(COUNTIF($B$7,\"*公式戦*\"),\"公式戦\",\"\") & $N$2&\")\"","v":"フルオーダー昇華パンツ(GK-Home)"},{"$f":"$G$66&\"(\"&IF(COUNTIF($B$7,\"*公式戦*\"),\"公式戦\",\"\") & $N$2&\")\"","v":"フルオーダー昇華パンツパッド付(GK-Home)"},{"$f":"$G$64&\"(\"&IF(COUNTIF($B$7,\"*公式戦*\"),\"公式戦\",\"\") & $N$2&\")\"","v":"フルオーダーソックス(GK-Home)"},{"$f":"$G$61&\"(\"&IF(COUNTIF($B$7,\"*公式戦*\"),\"公式戦\",\"\") & $T$2&\")\"","v":"フルオーダー昇華シャツ半袖(GK-Away)"},{"$f":"$G$62&\"(\"&IF(COUNTIF($B$7,\"*公式戦*\"),\"公式戦\",\"\") & $T$2&\")\"","v":"フルオーダー昇華シャツ長袖(GK-Away)"},{"$f":"$G$65&\"(\"&IF(COUNTIF($B$7,\"*公式戦*\"),\"公式戦\",\"\") & $T$2&\")\"","v":"フルオーダー昇華シャツ長袖パッド付(GK-Away)"},{"$f":"$G$63&\"(\"&IF(COUNTIF($B$7,\"*公式戦*\"),\"公式戦\",\"\") & $T$2&\")\"","v":"フルオーダー昇華パンツ(GK-Away)"},{"$f":"$G$66&\"(\"&IF(COUNTIF($B$7,\"*公式戦*\"),\"公式戦\",\"\") & $T$2&\")\"","v":"フルオーダー昇華パンツパッド付(GK-Away)"},{"$f":"$G$64&\"(\"&IF(COUNTIF($B$7,\"*公式戦*\"),\"公式戦\",\"\") & $T$2&\")\"","v":"フルオーダーソックス(GK-Away)"}]
[null,"注 文 数",null,null,{"$f":"SUM(F50:Y50)","v":0},{"$f":"SUM(F31:F48)","v":0},{"$f":"SUM(G31:G48)","v":0},0,0,0,0,0,0,0,0,0,0,0,0,0,0,0,0,0,0]
[null,"定  価（税込）",null,null,{"$f":"$L$67","v":1080},{"$f":"$L$61","v":11880},{"$f":"$L$62","v":13500},{"$f":"$L$63","v":7344},{"$f":"$L$64","v":1944},{"$f":"$L$61","v":11880},{"$f":"$L$62","v":13500},{"$f":"$L$63","v":7344},{"$f":"$L$64","v":1944},{"$f":"$L$61","v":11880},{"$f":"$L$62","v":13500},{"$f":"$L$65","v":12960},{"$f":"$L$63","v":7344},{"$f":"$L$66","v":8424},{"$f":"$L$64","v":1944},{"$f":"$L$61","v":11880},{"$f":"$L$62","v":13500},{"$f":"$L$65","v":12960},{"$f":"$L$63","v":7344},{"$f":"$L$66","v":8424},{"$f":"$L$64","v":1944}]
[null,"販売価格（税込）",null,null,{"$f":"$M$67","v":1080},{"$f":"$M$61","v":11880},{"$f":"$M$62","v":13500},{"$f":"$M$63","v":7344},{"$f":"$M$64","v":1944},{"$f":"$M$61","v":11880},{"$f":"$M$62","v":13500},{"$f":"$M$63","v":7344},{"$f":"$M$64","v":1944},{"$f":"$M$61","v":11880},{"$f":"$M$62","v":13500},{"$f":"$M$65","v":12960},{"$f":"$M$63","v":7344},{"$f":"$M$66","v":8424},{"$f":"$M$64","v":1944},{"$f":"$M$61","v":11880},{"$f":"$M$62","v":13500},{"$f":"$M$65","v":12960},{"$f":"$M$63","v":7344},{"$f":"$M$66","v":8424},{"$f":"$M$64","v":1944}]
[null,"商品金額小計（税込）",null,null,{"$f":"E56*E54","v":0},0,0,0,0,0,0,0,0,0,0,0,0,0,0,0,0,0,0,0,0]
[]
[null,"■ 簡易見積表",null,null,null,null,"■ 料金について（金額は税込定価です）"]
[null,"商 品 合 計",null,{"$f":"SUM(F54:Y54)","v":0},{"$f":"SUM(F57:Y57)","v":0},null,"商品名",null,null,"代表商品コード",null,"定価(税込)","売価(税込)","掛率(X10%)","注文数"]
[null,"マーキング代合計",null,null,{"$f":"E57","v":0},null,"フルオーダー昇華シャツ半袖",null,null,"ag-c001",null,11880,{"$f":"ROUND(L61*N61*0.1,0)","v":11880},10,{"$f":"SUMIF(F$51:Y$51,J61,F$54:Y$54)","v":0}]
[null,"送 料",null,null,{"$f":"IF(AND((E61+E60)>0,(E61+E60)<10800),$L$72,0)","v":0},null,"フルオーダー昇華シャツ長袖",null,null,"ag-c001L",null,13500,{"$f":"ROUND(L62*N62*0.1,0)","v":13500},{"$f":"$N$61","v":10},0]
[null," ―",null,null,0,null,"フルオーダー昇華パンツ",null,null,"ag-c002",null,7344,7344,{"$f":"$N$61","v":10},0]
[null,"合計金額（税込）",null,null,{"$f":"SUM(E60:E63)","v":0},null,"フルオーダーソックス",null,null,"ag-st",null,1944,1944,10,0]
[null,"税抜金額",null,null,{"$f":"E63-E66","v":0},null,"フルオーダー昇華シャツ長袖パッド付",null,null,"ag-c001LP",null,12960,12960,10,0]
[null,0.08,null,null,{"$f":"E63-ROUND(E63/(1+B66),0)","v":0},null,"フルオーダー昇華パンツパッド付",null,null,"ag-c002P",null,8424,8424,10,0]
[null,null,null,null,null,null,"マーキング","個人名",null,"ag-name1000",null,1080,1080,10,{"$f":"E54","v":0}]
[null,null,null,null,null,null,"マーキング","背/胸/パンツ番号",null,"無料サービス",null,0,0,10]
[null,null,null,null,null,null,"マーキング","エンブレム",null,"無料サービス",null,0,0,10]
[null,null,null,null,null,null,"マーキング","チーム名",null,"無料サービス",null,0,0,10]
[null,{"$f":"IF(F30<>\"\",\"ご注意\",\"\")","v":""},null,null,null,null,"マーキング","スポンサーバナー",null,"無料サービス",null,0,0,10]
[null,{"$f":"IF(F30<>\"\",F30,\"\")","v":""},null,null,null,null,"送料（税込10,800円以上で送料無料）",null,null,null,null,540]

{"sheet":"練習着","index":4,"n_rows":69,"n_cols":19,"rows_kept":69,"cut":false,"hidden":true,"merged":[[29,1,29,3],[57,6,57,8],[57,9,57,10],[58,6,58,8],[58,9,58,10],[3,17,5,18],[1,1,2,3],[5,5,5,7],[5,8,5,10],[28,17,28,18],[5,11,5,13],[5,14,5,16],[1,17,1,18],[2,17,2,18],[59,1,59,3],[60,9,60,10],[61,7,61,8],[61,9,61,10],[62,7,62,8],[62,9,62,10],[59,6,59,8],[59,9,59,10],[60,6,60,8],[61,1,61,3],[60,1,60,3],[66,6,66,10],[63,7,63,8],[63,9,63,10],[64,7,64,8],[64,9,64,10],[65,7,65,8],[65,9,65,10],[63,1,63,3],[47,1,47,3],[67,1,67,4],[68,1,70,4],[1,0,3,0],[53,1,53,3],[54,1,54,3],[62,1,62,3],[58,1,58,3],[48,1,48,3],[50,1,50,3],[51,1,51,3],[52,1,52,3],[49,1,49,3],[3,1,5,3],[57,1,57,2]]}
[]
["お客様記入→","agrina\n昇華練習着\n注文書",null,null,"種　別","FP用",null,null,"GK用",null,null,"MG用",null,null,"コーチ用",null,null,"メモ欄 "]
[null,null,null,null,"画　像"]
[null,{"$f":"IF(ご注文者様チーム名=\"\",\"「メインメニュー」のご注文者様情報をご記入ください。\",ご注文者様チーム名)","v":"「メインメニュー」のご注文者様情報をご記入ください。"},null,null,"名　称","半袖シャツ","パンツ","ソックス","半袖シャツ","パンツ","ソックス","半袖シャツ","パンツ","ソックス","半袖\nシャツ","パンツ","ソックス","　３Dシミュレーターの「デザインを保存\n　する」ボタンをクリックして表示される\n☜「デザインURL」を貼り付けて下さい。"]
["非表示",null,null,null,"商品コード",{"$f":"IF(F52>0,IF(F50=\"\",\"追加商品コード未記入\",F49&F50),\"\")","v":""},"","","","","","","","","","",""]
["➡",null,null,null,"デザイン\nURL","入力してください",null,null,"入力してください",null,null,"入力してください",null,null,"入力してください"]
[null,"#","注文者氏名",{"$f":"\"マーキング名\"","v":"マーキング名"},"背番号","サイズ",null,null,"サイズ",null,null,"サイズ",null,null,"サイズ",null,null,"個人別価格","備考(お客様使用)"]
[null,"例","加藤貴行","T.KATO",10,"M","M","25x27","M","M","25x27","M","M","25x27","M","M","25x27"]
["➡",1,null,null,null,null,null,null,null,null,null,null,null,null,null,null,null,{"$f":"SUMIF(F9:Q9,\"<>\",$F$54:$Q$54)+IF($D9<>\"\",COUNTIFS(F9:Q9,\"<>\",$F$48:$Q$48,\">0\")*$M$62,0)","v":0}]
[null,2,null,null,null,null,null,null,null,null,null,null,null,null,null,null,null,{"$f":"SUMIF(F10:Q10,\"<>\",$F$54:$Q$54)+IF($D10<>\"\",COUNTIFS(F10:Q10,\"<>\",$F$48:$Q$48,\">0\")*$M$62,0)","v":0}]
[null,3,null,null,null,null,null,null,null,null,null,null,null,null,null,null,null,0]
[null,4,null,null,null,null,null,null,null,null,null,null,null,null,null,null,null,0]
[null,5,null,null,null,null,null,null,null,null,null,null,null,null,null,null,null,0]
[null,6,null,null,null,null,null,null,null,null,null,null,null,null,null,null,null,0]
[null,7,null,null,null,null,null,null,null,null,null,null,null,null,null,null,null,0]
[null,8,null,null,null,null,null,null,null,null,null,null,null,null,null,null,null,0]
[null,9,null,null,null,null,null,null,null,null,null,null,null,null,null,null,null,0]
[null,10,null,null,null,null,null,null,null,null,null,null,null,null,null,null,null,0]
[null,11,null,null,null,null,null,null,null,null,null,null,null,null,null,null,null,0]
[null,12,null,null,null,null,null,null,null,null,null,null,null,null,null,null,null,0]
[null,13,null,null,null,null,null,null,null,null,null,null,null,null,null,null,null,0]
[null,14,null,null,null,null,null,null,null,null,null,null,null,null,null,null,null,0]
[null,15,null,null,null,null,null,null,null,null,null,null,null,null,null,null,null,0]
[null,16,null,null,null,null,null,null,null,null,null,null,null,null,null,null,null,0]
[null,17,null,null,null,null,null,null,null,null,null,null,null,null,null,null,null,0]
[null,18,null,null,null,null,null,null,null,null,null,null,null,null,null,null,null,0]
[null,19,null,null,null,null,null,null,null,null,null,null,null,null,null,null,null,0]
[null,20,null,null,null,null,null,null,null,null,null,null,null,null,null,null,null,0]
[null,null,null,null,null,{"$f":"IF(AND((H52+K52+N52+Q52)>0,(H52+K52+N52+Q52)<5),\"　※ソックスは5点以上でご注文をお願いいたします。\"&\"（最低注文数まであと\"& 5-(H52+K52+N52+Q52) & \"点）\",\"\")","v":""},null,null,null,null,null,null,null,null,null,null,null,{"$f":"IF(E60>0,\"※ 個人別価格に送料は含まれていません。\",\"\")","v":""}]
[null,"注 文 集 計",null,null,100,{"$f":"COUNTIF(F$9:F$28,$E30)","v":0},0,null,{"$f":"COUNTIF(I$9:I$28,$E30)","v":0},0,null,{"$f":"COUNTIF(L$9:L$28,$E30)","v":0},0,null,{"$f":"COUNTIF(O$9:O$28,$E30)","v":0},0]
[null,null,null,null,110,0,0,null,0,0,null,0,0,null,0,0]
[null,null,null,null,120,0,0,null,0,0,null,0,0,null,0,0]
[null,null,null,null,130,0,0,null,0,0,null,0,0,null,0,0]
[null,null,null,null,140,0,0,null,0,0,null,0,0,null,0,0]
[null,null,null,null,150,0,0,null,0,0,null,0,0,null,0,0]
[null,null,null,null,160,0,0,null,0,0,null,0,0,null,0,0]
[null,null,null,null,"S",0,0,null,0,0,null,0,0,null,0,0]
[null,null,null,null,"M",0,0,null,0,0,null,0,0,null,0,0]
[null,null,null,null,"L",0,0,null,0,0,null,0,0,null,0,0]
[null,null,null,null,"XL",0,0,null,0,0,null,0,0,null,0,0]
[null,null,null,null,"3L",0,0,null,0,0,null,0,0,null,0,0]
[null,null,null,null,"4L",0,0,null,0,0,null,0,0,null,0,0]
[null,null,null,null,"5L",0,0,null,0,0,null,0,0,null,0,0]
[null,null,null,null,"19x21",null,null,{"$f":"COUNTIF(H$9:H$28,$E44)","v":0},null,null,{"$f":"COUNTIF(K$9:K$28,$E44)","v":0},null,null,{"$f":"COUNTIF(N$9:N$28,$E44)","v":0},null,null,{"$f":"COUNTIF(Q$9:Q$28,$E44)","v":0}]
[null,null,null,null,"22x24",null,null,{"$f":"COUNTIF(H$9:H$28,$E45)","v":0},null,null,{"$f":"COUNTIF(K$9:K$28,$E45)","v":0},null,null,{"$f":"COUNTIF(N$9:N$28,$E45)","v":0},null,null,{"$f":"COUNTIF(Q$9:Q$28,$E45)","v":0}]
[null,null,null,null,"25x27",null,null,{"$f":"COUNTIF(H$9:H$28,$E46)","v":0},null,null,{"$f":"COUNTIF(K$9:K$28,$E46)","v":0},null,null,{"$f":"COUNTIF(N$9:N$28,$E46)","v":0},null,null,{"$f":"COUNTIF(Q$9:Q$28,$E46)","v":0}]
[null,null,null,null,"27x29",null,null,{"$f":"COUNTIF(H$9:H$28,$E47)","v":0},null,null,{"$f":"COUNTIF(K$9:K$28,$E47)","v":0},null,null,{"$f":"COUNTIF(N$9:N$28,$E47)","v":0},null,null,{"$f":"COUNTIF(Q$9:Q$28,$E47)","v":0}]
[null,"マーキング",null,null,"個人名",{"$f":"COUNTIFS($D$9:$D$28,\"<>\",F$9:F$28,\"<>\")","v":0},null,null,{"$f":"COUNTIFS($D$9:$D$28,\"<>\",I$9:I$28,\"<>\")","v":0},null,null,{"$f":"COUNTIFS($D$9:$D$28,\"<>\",L$9:L$28,\"<>\")","v":0},null,null,{"$f":"COUNTIFS($D$9:$D$28,\"<>\",O$9:O$28,\"<>\")","v":0}]
[null,"代表商品コード",null,null,{"$f":"$J$62","v":"ag-name1000"},{"$f":"$J$59","v":"ag-bs"},{"$f":"$J$60","v":"ag-bp"},{"$f":"$J$61","v":"ag-st"},{"$f":"$J$59","v":"ag-bs"},{"$f":"$J$60","v":"ag-bp"},{"$f":"$J$61","v":"ag-st"},{"$f":"$J$59","v":"ag-bs"},{"$f":"$J$60","v":"ag-bp"},{"$f":"$J$61","v":"ag-st"},{"$f":"$J$59","v":"ag-bs"},{"$f":"$J$60","v":"ag-bp"},{"$f":"$J$61","v":"ag-st"}]
[null,"追加商品コード"]
[null,"商 品 名",null,null,"個人名\nﾏｰｷﾝｸﾞ",{"$f":"$G$59&\"(\"&F2&\")\"","v":"セミオーダー昇華練習着シャツ半袖(FP用)"},{"$f":"$G$60&\"(\"&F2&\")\"","v":"セミオーダー昇華練習着パンツ(FP用)"},{"$f":"$G$61&\"(\"&F2&\")\"","v":"セミオーダーソックス(FP用)"},{"$f":"$G$59&\"(\"&I2&\")\"","v":"セミオーダー昇華練習着シャツ半袖(GK用)"},{"$f":"$G$60&\"(\"&I2&\")\"","v":"セミオーダー昇華練習着パンツ(GK用)"},{"$f":"$G$61&\"(\"&I2&\")\"","v":"セミオーダーソックス(GK用)"},{"$f":"$G$59&\"(\"&L2&\")\"","v":"セミオーダー昇華練習着シャツ半袖(MG用)"},{"$f":"$G$60&\"(\"&L2&\")\"","v":"セミオーダー昇華練習着パンツ(MG用)"},{"$f":"$G$61&\"(\"&L2&\")\"","v":"セミオーダーソックス(MG用)"},{"$f":"$G$59&\"(\"&O2&\")\"","v":"セミオーダー昇華練習着シャツ半袖(コーチ用)"},{"$f":"$G$60&\"(\"&O2&\")\"","v":"セミオーダー昇華練習着パンツ(コーチ用)"},{"$f":"$G$61&\"(\"&O2&\")\"","v":"セミオーダーソックス(コーチ用)"}]
[null,"注 文 数",null,null,{"$f":"SUM(F48:Q48)","v":0},{"$f":"SUM(F30:F47)","v":0},0,0,0,0,0,0,0,0,0,0,0]
[null,"定  価（税込）",null,null,{"$f":"$L$62","v":1080},{"$f":"$L$59","v":5292},{"$f":"$L$60","v":4860},{"$f":"$L$61","v":1944},{"$f":"$L$59","v":5292},{"$f":"$L$60","v":4860},{"$f":"$L$61","v":1944},{"$f":"$L$59","v":5292},{"$f":"$L$60","v":4860},{"$f":"$L$61","v":1944},{"$f":"$L$59","v":5292},{"$f":"$L$60","v":4860},{"$f":"$L$61","v":1944}]
[null,"販売価格（税込）",null,null,{"$f":"$M$62","v":1080},{"$f":"$M$59","v":5292},{"$f":"$M$60","v":4860},{"$f":"$M$61","v":1944},{"$f":"$M$59","v":5292},{"$f":"$M$60","v":4860},{"$f":"$M$61","v":1944},{"$f":"$M$59","v":5292},{"$f":"$M$60","v":4860},{"$f":"$M$61","v":1944},{"$f":"$M$59","v":5292},{"$f":"$M$60","v":4860},{"$f":"$M$61","v":1944}]
[null,"商品金額小計（税込）",null,null,{"$f":"E54*E52","v":0},0,0,0,0,0,0,0,0,0,0,0,0]
[]
[null,"■ 簡易見積表",null,null,null,null,"■ 料金について（金額は税込定価です）"]
[null,"商 品 合 計",null,{"$f":"SUM(F52:Q52)","v":0},{"$f":"SUM(F55:Q55)","v":0},null,"商品名",null,null,"代表商品コード",null,"定価(税込)","売価(税込)","掛率(X10%)","注文数"]
[null,"マーキング代合計",null,null,{"$f":"E55","v":0},null,"セミオーダー昇華練習着シャツ半袖",null,null,"ag-bs",null,5292,{"$f":"ROUND(L59*N59*0.1,0)","v":5292},10,{"$f":"SUMIF(F$49:Q$49,J59,F$52:Q$52)","v":0}]
[null,"送 料",null,null,{"$f":"IF(AND((E59+E58)>0,(E59+E58)<10800),$L$67,0)","v":0},null,"セミオーダー昇華練習着パンツ",null,null,"ag-bp",null,4860,{"$f":"ROUND(L60*N60*0.1,0)","v":4860},{"$f":"$N$59","v":10},{"$f":"SUMIF(F$49:Q$49,J60,F$52:Q$52)","v":0}]
[null," ―",null,null,0,null,"セミオーダーソックス",null,null,"ag-st",null,1944,1944,10,{"$f":"SUMIF(F$49:Q$49,J61,F$52:Q$52)","v":0}]
[null,"合計金額（税込）",null,null,{"$f":"SUM(E58:E61)","v":0},null,"マーキング","個人名",null,"ag-name1000",null,1080,1080,10,{"$f":"E52","v":0}]
[null,"税抜金額",null,null,{"$f":"E61-E64","v":0},null,"マーキング","胸/パンツ番号",null,"無料サービス",null,0,0,10]
[null,0.08,null,null,{"$f":"E61-ROUND(E61/(1+B64),0)","v":0},null,"マーキング","エンブレム",null,"無料サービス",null,0,0,10]
[null,null,null,null,null,null,"マーキング","チーム名",null,"無料サービス",null,0,0,10]
[null,null,null,null,null,null,"マーキング","スポンサーバナー",null,"無料サービス",null,0,0,10]
[null,null,null,null,null,null,"送料（税込10,800円以上で送料無料）",null,null,null,null,540]
[null,{"$f":"IF(F29<>\"\",\"ご注意\",\"\")","v":""}]
[null,{"$f":"IF(F29<>\"\",F29,\"\")","v":""}]

{"sheet":"ジャージ","index":5,"n_rows":68,"n_cols":19,"rows_kept":68,"cut":false,"hidden":true,"merged":[[58,1,58,3],[59,1,59,3],[55,1,55,2],[29,17,29,18],[62,9,62,10],[59,6,59,8],[59,9,59,10],[61,9,61,10],[61,6,61,8],[50,1,50,3],[58,6,58,8],[58,9,58,10],[55,6,55,8],[55,9,55,10],[52,1,52,3],[51,1,51,3],[56,1,56,3],[56,6,56,8],[56,9,56,10],[57,6,57,8],[57,9,57,10],[57,1,57,3],[66,1,66,4],[67,1,69,4],[66,7,66,8],[67,6,67,10],[60,1,60,3],[63,7,63,8],[63,9,63,10],[61,1,61,3],[64,7,64,8],[64,9,64,10],[60,6,60,8],[60,9,60,10],[66,9,66,10],[62,7,62,8],[65,7,65,8],[65,9,65,10],[1,17,1,18],[2,17,2,18],[3,1,6,3],[3,17,6,18],[6,5,6,7],[6,8,6,10],[6,11,6,13],[6,14,6,16],[5,11,5,13],[5,14,5,16],[5,5,5,7],[5,8,5,10],[1,0,3,0],[46,1,46,3],[48,1,48,3],[49,1,49,3],[1,1,2,3],[47,1,47,3],[44,1,44,3],[45,1,45,3],[30,1,30,3]]}
[]
["お客様記入→","agrina\nジャージ注文書",null,null,"種　別","カラー１",null,null,"カラー２",null,null,"カラー３",null,null,"カラー４",null,null,"メモ欄 "]
[null,null,null,null,"画　像"]
[null,{"$f":"IF(ご注文者様チーム名=\"\",\"「メインメニュー」のご注文者様情報をご記入ください。\",ご注文者様チーム名)","v":"「メインメニュー」のご注文者様情報をご記入ください。"},null,null,"名　称","ジャージ\nトップ","ジャージ\nパンツ","ハーフ\nパンツ","ジャージ\nトップ","ジャージ\nパンツ","ハーフ\nパンツ","ジャージ\nトップ","ジャージ\nパンツ","ハーフ\nパンツ","ジャージ\nトップ","ジャージ\nパンツ","ハーフ\nパンツ","　３Dシミュレーターの「デザインを保存\n　する」ボタンをクリックして表示される\n☜「デザインURL」を貼り付けて下さい。"]
["非表示",null,null,null,"商品コード",{"$f":"IF(F50>0,IF(F48=\"\",\"追加商品コード未記入\",F47&F48),\"\")","v":""},{"$f":"IF(G50>0,IF(G48=\"\",\"追加商品コード未記入\",G47&G48),\"\")","v":""},"",{"$f":"IF(I50>0,IF(I48=\"\",\"追加商品コード未記入\",I47&I48),\"\")","v":""},"","",{"$f":"IF(L50>0,IF(L48=\"\",\"追加商品コード未記入\",L47&L48),\"\")","v":""},"","",{"$f":"IF(O50>0,IF(O48=\"\",\"追加商品コード未記入\",O47&O48),\"\")","v":""},"",""]
["➡",null,null,null,"シルエット","シルエットを選択",null,null,"シルエットを選択",null,null,"シルエットを選択",null,null,"シルエットを選択"]
["➡",null,null,null,"デザイン\nURL","入力してください",null,null,"入力してください",null,null,"入力してください",null,null,"入力してください"]
[null,"#","注文者氏名",{"$f":"\"マーキング名\"","v":"マーキング名"},"背番号","サイズ",null,null,"サイズ",null,null,"サイズ",null,null,"サイズ",null,null,"個人別価格","備考(お客様使用)"]
[null,"例","加藤貴行","T.KATO",10,"M","L","M","M","L","M"]
["➡",1,null,null,null,null,null,null,null,null,null,null,null,null,null,null,null,{"$f":"SUMIF(F10:Q10,\"<>\",$F$52:$Q$52)+IF($D10<>\"\",COUNTIFS(F10:Q10,\"<>\",$F$46:$Q$46,\">0\")*$M$63,0)","v":0}]
[null,2,null,null,null,null,null,null,null,null,null,null,null,null,null,null,null,{"$f":"SUMIF(F11:Q11,\"<>\",$F$52:$Q$52)+IF($D11<>\"\",COUNTIFS(F11:Q11,\"<>\",$F$46:$Q$46,\">0\")*$M$63,0)","v":0}]
[null,3,null,null,null,null,null,null,null,null,null,null,null,null,null,null,null,0]
[null,4,null,null,null,null,null,null,null,null,null,null,null,null,null,null,null,0]
[null,5,null,null,null,null,null,null,null,null,null,null,null,null,null,null,null,0]
[null,6,null,null,null,null,null,null,null,null,null,null,null,null,null,null,null,0]
[null,7,null,null,null,null,null,null,null,null,null,null,null,null,null,null,null,0]
[null,8,null,null,null,null,null,null,null,null,null,null,null,null,null,null,null,0]
[null,9,null,null,null,null,null,null,null,null,null,null,null,null,null,null,null,0]
[null,10,null,null,null,null,null,null,null,null,null,null,null,null,null,null,null,0]
[null,11,null,null,null,null,null,null,null,null,null,null,null,null,null,null,null,0]
[null,12,null,null,null,null,null,null,null,null,null,null,null,null,null,null,null,0]
[null,13,null,null,null,null,null,null,null,null,null,null,null,null,null,null,null,0]
[null,14,null,null,null,null,null,null,null,null,null,null,null,null,null,null,null,0]
[null,15,null,null,null,null,null,null,null,null,null,null,null,null,null,null,null,0]
[null,16,null,null,null,null,null,null,null,null,null,null,null,null,null,null,null,0]
[null,17,null,null,null,null,null,null,null,null,null,null,null,null,null,null,null,0]
[null,18,null,null,null,null,null,null,null,null,null,null,null,null,null,null,null,0]
[null,19,null,null,null,null,null,null,null,null,null,null,null,null,null,null,null,0]
[null,20,null,null,null,null,null,null,null,null,null,null,null,null,null,null,null,0]
[null,null,null,null,null,{"$f":"IF(COUNTIF(F54:Q54,\"?*\")>0,\"　※シルエットを選択して下さい。\",\"\")","v":""},null,null,null,null,null,null,null,null,null,null,null,{"$f":"IF(E58>0,\"※ 個人別価格に送料は含まれていません。\",\"\")","v":""}]
[null,"注 文 集 計",null,null,100,{"$f":"COUNTIF(F$10:F$29,$E31)","v":0},0,0,0,0,0,0,0,0,0,0,0]
[null,null,null,null,110,0,0,0,0,0,0,0,0,0,0,0,0]
[null,null,null,null,120,0,0,0,0,0,0,0,0,0,0,0,0]
[null,null,null,null,130,0,0,0,0,0,0,0,0,0,0,0,0]
[null,null,null,null,140,0,0,0,0,0,0,0,0,0,0,0,0]
[null,null,null,null,150,0,0,0,0,0,0,0,0,0,0,0,0]
[null,null,null,null,160,0,0,0,0,0,0,0,0,0,0,0,0]
[null,null,null,null,"S",0,0,0,0,0,0,0,0,0,0,0,0]
[null,null,null,null,"M",0,0,0,0,0,0,0,0,0,0,0,0]
[null,null,null,null,"L",0,0,0,0,0,0,0,0,0,0,0,0]
[null,null,null,null,"XL",0,0,0,0,0,0,0,0,0,0,0,0]
[null,null,null,null,"3L",0,0,0,0,0,0,0,0,0,0,0,0]
[null,null,null,null,"4L",0,0,0,0,0,0,0,0,0,0,0,0]
[null,null,null,null,"5L",0,0,0,0,0,0,0,0,0,0,0,0]
[null,"マーキング",null,null,"個人名有無","個人名【有】","個人名【無】","個人名【無】","個人名【有】","個人名【無】","個人名【無】","個人名【有】","個人名【無】","個人名【無】","個人名【有】","個人名【無】","個人名【無】"]
[null,null,null,null,"マーキング数",{"$f":"IF(F45=\"個人名【有】\",COUNTIFS($D$10:$D$29,\"<>\",F$10:F$29,\"<>\"),0)","v":0},{"$f":"IF(G45=\"個人名【有】\",COUNTIFS($D$10:$D$29,\"<>\",G$10:G$29,\"<>\"),0)","v":0},{"$f":"IF(H45=\"個人名【有】\",COUNTIFS($D$10:$D$29,\"<>\",H$10:H$29,\"<>\"),0)","v":0},{"$f":"IF(I45=\"個人名【有】\",COUNTIFS($D$10:$D$29,\"<>\",I$10:I$29,\"<>\"),0)","v":0},{"$f":"IF(J45=\"個人名【有】\",COUNTIFS($D$10:$D$29,\"<>\",J$10:J$29,\"<>\"),0)","v":0},{"$f":"IF(K45=\"個人名【有】\",COUNTIFS($D$10:$D$29,\"<>\",K$10:K$29,\"<>\"),0)","v":0},{"$f":"IF(L45=\"個人名【有】\",COUNTIFS($D$10:$D$29,\"<>\",L$10:L$29,\"<>\"),0)","v":0},{"$f":"IF(M45=\"個人名【有】\",COUNTIFS($D$10:$D$29,\"<>\",M$10:M$29,\"<>\"),0)","v":0},{"$f":"IF(N45=\"個人名【有】\",COUNTIFS($D$10:$D$29,\"<>\",N$10:N$29,\"<>\"),0)","v":0},{"$f":"IF(O45=\"個人名【有】\",COUNTIFS($D$10:$D$29,\"<>\",O$10:O$29,\"<>\"),0)","v":0},{"$f":"IF(P45=\"個人名【有】\",COUNTIFS($D$10:$D$29,\"<>\",P$10:P$29,\"<>\"),0)","v":0},{"$f":"IF(Q45=\"個人名【有】\",COUNTIFS($D$10:$D$29,\"<>\",Q$10:Q$29,\"<>\"),0)","v":0}]
[null,"代表商品コード",null,null,{"$f":"$J$63","v":"ag-name1000"},{"$f":"IF($F$6=\"ノーマル\",$J$57,\nIF($F$6=\"スリム\",$J$60,\n\"\"))","v":""},{"$f":"IF($F$6=\"ノーマル\",$J$58,\nIF($F$6=\"スリム\",$J$61,\n\"\"))","v":""},{"$f":"IF($F$6=\"ノーマル\",$J$59,\nIF($F$6=\"スリム\",$J$62,\n\"\"))","v":""},{"$f":"IF($I$6=\"ノーマル\",$J$57,\nIF($I$6=\"スリム\",$J$60,\n\"\"))","v":""},{"$f":"IF($I$6=\"ノーマル\",$J$57,\nIF($I$6=\"スリム\",$J$60,\n\"\"))","v":""},{"$f":"IF($I$6=\"ノーマル\",$J$57,\nIF($I$6=\"スリム\",$J$60,\n\"\"))","v":""},{"$f":"IF($L$6=\"ノーマル\",$J$57,\nIF($L$6=\"スリム\",$J$60,\n\"\"))","v":""},{"$f":"IF($L$6=\"ノーマル\",$J$58,\nIF($L$6=\"スリム\",$J$61,\n\"\"))","v":""},{"$f":"IF($L$6=\"ノーマル\",$J$59,\nIF($L$6=\"スリム\",$J$62,\n\"\"))","v":""},{"$f":"IF($O$6=\"ノーマル\",$J$57,\nIF($O$6=\"スリム\",$J$60,\n\"\"))","v":""},{"$f":"IF($O$6=\"ノーマル\",$J$58,\nIF($O$6=\"スリム\",$J$61,\n\"\"))","v":""},{"$f":"IF($O$6=\"ノーマル\",$J$59,\nIF($O$6=\"スリム\",$J$62,\n\"\"))","v":""}]
[null,"追加商品コード",null,null,null,null,null,null,null,null,null,null,null,null,"02","02","02"]
[null,"商 品 名",null,null,"個人名\nﾏｰｷﾝｸﾞ",{"$f":"IF(F6=\"ノーマル\",$G$57&\"(\"&F2&\")\",\nIF(F6=\"スリム\",$G$60&\"(\"&F2&\")\",\n\"\"))","v":""},{"$f":"IF(F6=\"ノーマル\",$G$58&\"(\"&F2&\")\",\nIF(F6=\"スリム\",$G$61&\"(\"&F2&\")\",\n\"\"))","v":""},{"$f":"IF(F6=\"ノーマル\",$G$59&\"(\"&F2&\")\",\nIF(F6=\"スリム\",$G$62&\"(\"&F2&\")\",\n\"\"))","v":""},{"$f":"IF(I6=\"ノーマル\",$G$57&\"(\"&I2&\")\",\nIF(I6=\"スリム\",$G$60&\"(\"&I2&\")\",\n\"\"))","v":""},{"$f":"IF(I6=\"ノーマル\",$G$58&\"(\"&I2&\")\",\nIF(I6=\"スリム\",$G$61&\"(\"&I2&\")\",\n\"\"))","v":""},{"$f":"IF(I6=\"ノーマル\",$G$59&\"(\"&I2&\")\",\nIF(I6=\"スリム\",$G$62&\"(\"&I2&\")\",\n\"\"))","v":""},{"$f":"IF(L6=\"ノーマル\",$G$57&\"(\"&L2&\")\",\nIF(L6=\"スリム\",$G$60&\"(\"&L2&\")\",\n\"\"))","v":""},{"$f":"IF(L6=\"ノーマル\",$G$58&\"(\"&L2&\")\",\nIF(L6=\"スリム\",$G$61&\"(\"&L2&\")\",\n\"\"))","v":""},{"$f":"IF(L6=\"ノーマル\",$G$59&\"(\"&L2&\")\",\nIF(L6=\"スリム\",$G$62&\"(\"&L2&\")\",\n\"\"))","v":""},{"$f":"IF(O6=\"ノーマル\",$G$57&\"(\"&O2&\")\",\nIF(O6=\"スリム\",$G$60&\"(\"&O2&\")\",\n\"\"))","v":""},{"$f":"IF(O6=\"ノーマル\",$G$58&\"(\"&O2&\")\",\nIF(O6=\"スリム\",$G$61&\"(\"&O2&\")\",\n\"\"))","v":""},{"$f":"IF(O6=\"ノーマル\",$G$59&\"(\"&O2&\")\",\nIF(O6=\"スリム\",$G$62&\"(\"&O2&\")\",\n\"\"))","v":""}]
[null,"注 文 数",null,null,{"$f":"SUM(F46:Q46)","v":0},{"$f":"SUM(F31:F44)","v":0},0,0,0,0,0,0,0,0,0,0,0]
[null,"定  価（税込）",null,null,{"$f":"$L$63","v":1080},{"$f":"IF($F$6=\"ノーマル\",$L$57,\nIF($F$6=\"スリム\",$L$60,\n0))","v":0},{"$f":"IF($F$6=\"ノーマル\",$L$58,\nIF($F$6=\"スリム\",$L$61,\n0))","v":0},{"$f":"IF($F$6=\"ノーマル\",$L$59,\nIF($F$6=\"スリム\",$L$62,\n0))","v":0},{"$f":"IF($I$6=\"ノーマル\",$L$57,\nIF($I$6=\"スリム\",$L$60,\n0))","v":0},{"$f":"IF($I$6=\"ノーマル\",$L$58,\nIF($I$6=\"スリム\",$L$61,\n0))","v":0},{"$f":"IF($I$6=\"ノーマル\",$L$59,\nIF($I$6=\"スリム\",$L$62,\n0))","v":0},{"$f":"IF($L$6=\"ノーマル\",$L$57,\nIF($L$6=\"スリム\",$L$60,\n0))","v":0},{"$f":"IF($L$6=\"ノーマル\",$L$58,\nIF($L$6=\"スリム\",$L$61,\n0))","v":0},{"$f":"IF($L$6=\"ノーマル\",$L$59,\nIF($L$6=\"スリム\",$L$62,\n0))","v":0},{"$f":"IF($O$6=\"ノーマル\",$L$57,\nIF($O$6=\"スリム\",$L$60,\n0))","v":0},{"$f":"IF($O$6=\"ノーマル\",$L$58,\nIF($O$6=\"スリム\",$L$61,\n0))","v":0},{"$f":"IF($O$6=\"ノーマル\",$L$59,\nIF($O$6=\"スリム\",$L$62,\n0))","v":0}]
[null,"販売価格（税込）",null,null,{"$f":"IF(SUM(F50:Q50)=0,0,$M$63)","v":0},{"$f":"IF($F$6=\"ノーマル\",$M$57,\nIF($F$6=\"スリム\",$M$60,\n0))","v":0},{"$f":"IF($F$6=\"ノーマル\",$M$58,\nIF($F$6=\"スリム\",$M$61,\n0))","v":0},{"$f":"IF($F$6=\"ノーマル\",$M$59,\nIF($F$6=\"スリム\",$M$62,\n0))","v":0},{"$f":"IF($I$6=\"ノーマル\",$M$57,\nIF($I$6=\"スリム\",$M$60,\n0))","v":0},{"$f":"IF($I$6=\"ノーマル\",$M$58,\nIF($I$6=\"スリム\",$M$61,\n0))","v":0},{"$f":"IF($I$6=\"ノーマル\",$M$59,\nIF($I$6=\"スリム\",$M$62,\n0))","v":0},{"$f":"IF($L$6=\"ノーマル\",$M$57,\nIF($L$6=\"スリム\",$M$60,\n0))","v":0},{"$f":"IF($L$6=\"ノーマル\",$M$58,\nIF($L$6=\"スリム\",$M$61,\n0))","v":0},{"$f":"IF($L$6=\"ノーマル\",$M$59,\nIF($L$6=\"スリム\",$M$62,\n0))","v":0},{"$f":"IF($O$6=\"ノーマル\",$M$57,\nIF($O$6=\"スリム\",$M$60,\n0))","v":0},{"$f":"IF($O$6=\"ノーマル\",$M$58,\nIF($O$6=\"スリム\",$M$61,\n0))","v":0},{"$f":"IF($O$6=\"ノーマル\",$M$59,\nIF($O$6=\"スリム\",$M$62,\n0))","v":0}]
[null,"商品金額小計（税込）",null,null,{"$f":"E52*E50","v":0},0,0,0,0,0,0,0,0,0,0,0,0]
[null,null,null,null,null,{"$f":"IF(AND(F47=\"\",F50>0),\"↑注文エラー\",\"\")","v":""},{"$f":"IF(AND(G47=\"\",G50>0),\"↑注文エラー\",\"\")","v":""},"","","","","","","","","",""]
[null,"■ 簡易見積表",null,null,null,null,"■ 料金について（金額は税込定価です）"]
[null,"商 品 合 計",null,{"$f":"SUM(F50:Q50)","v":0},{"$f":"SUM(F53:Q53)","v":0},null,"商品名",null,null,"代表商品コード",null,"定価(税込)","売価(税込)","掛率(X10%)","注文数"]
[null,"マーキング代合計",null,null,{"$f":"E53","v":0},null,"セミオーダー昇華ジャージトップノーマル",null,null,"ag-jt",null,9720,{"$f":"ROUND(L57*N57*0.1,0)","v":9720},10,{"$f":"SUMIF(F$47:Q$47,J57,F$50:Q$50)","v":0}]
[null,"送 料",null,null,{"$f":"IF(AND((E57+E56)>0,(E57+E56)<10800),$L$68,0)","v":0},null,"セミオーダー昇華ジャージパンツノーマル",null,null,"ag-jp",null,9720,{"$f":"ROUND(L58*N58*0.1,0)","v":9720},{"$f":"$N$57","v":10},0]
[null," ―",null,null,0,null,"セミオーダー昇華ジャージハーフパンツノーマル",null,null,"ag-jh",null,8640,{"$f":"ROUND(L59*N59*0.1,0)","v":8640},10,0]
[null,"合計金額（税込）",null,null,{"$f":"SUM(E56:E59)","v":0},null,"セミオーダー昇華ジャージトップスリム",null,null,"ag-jtns",null,9720,{"$f":"ROUND(L60*N60*0.1,0)","v":9720},10,0]
[null,"税抜金額",null,null,{"$f":"E59-E62","v":0},null,"セミオーダー昇華ジャージパンツスリム",null,null,"ag-jpns",null,9720,{"$f":"ROUND(L61*N61*0.1,0)","v":9720},10,0]
[null,0.08,null,null,{"$f":"E59-ROUND(E59/(1+B62),0)","v":0},null,"セミオーダー昇華ジャージハーフパンツスリム",null,null,"ag-jhns",null,8640,8640,10,0]
[null,null,null,null,null,null,"マーキング","個人名",null,"ag-name1000",null,1080,1080,10,{"$f":"E50","v":0}]
[null,null,null,null,null,null,"マーキング","背/胸/パンツ番号",null,"無料サービス",null,0,0,{"$f":"$N$60","v":10}]
[null,null,null,null,null,null,"マーキング","エンブレム",null,"無料サービス",null,0,0,{"$f":"$N$60","v":10}]
[null,null,null,null,null,null,"マーキング","チーム名",null,"無料サービス",null,0,0,{"$f":"$N$60","v":10}]
[null,{"$f":"IF(F30<>\"\",\"ご注意\",\"\")","v":""},null,null,null,null,"マーキング","スポンサーバナー",null,"無料サービス",null,0,0,{"$f":"$N$60","v":10}]
[null,{"$f":"IF(F30<>\"\",F30,\"\")","v":""},null,null,null,null,"送料（税込10,800円以上で送料無料）",null,null,null,null,540]

{"sheet":"ピステ","index":6,"n_rows":78,"n_cols":19,"rows_kept":78,"cut":false,"hidden":true,"merged":[[30,17,30,18],[56,6,56,8],[56,9,56,10],[57,9,57,10],[58,9,58,10],[6,15,6,16],[7,13,7,14],[7,11,7,12],[59,1,59,3],[60,1,60,3],[60,6,60,8],[60,9,60,10],[56,1,56,2],[6,7,6,8],[7,7,7,8],[6,9,6,10],[6,11,6,12],[6,13,6,14],[45,1,45,3],[46,1,46,3],[5,13,5,14],[5,15,5,16],[1,1,2,3],[1,17,1,18],[2,17,2,18],[3,17,5,18],[3,1,7,3],[7,9,7,10],[5,5,5,6],[5,7,5,8],[5,9,5,10],[5,11,5,12],[7,15,7,16],[6,17,7,18],[6,5,6,6],[7,5,7,6],[76,7,76,8],[76,9,76,10],[77,6,77,10],[58,1,58,3],[72,9,72,10],[73,9,73,10],[74,9,74,10],[71,9,71,10],[61,1,61,3],[72,7,72,8],[62,1,62,3],[73,7,73,8],[67,9,67,10],[68,6,68,8],[68,9,68,10],[65,6,65,8],[75,7,75,8],[75,9,75,10],[71,6,71,8],[70,6,70,8],[70,9,70,10],[74,7,74,8],[68,1,70,4],[1,0,3,0],[61,9,61,10],[62,6,62,8],[62,9,62,10],[53,1,53,3],[57,1,57,3],[47,1,47,3],[49,1,49,3],[50,1,50,3],[51,1,51,3],[52,1,52,3],[48,1,48,3],[69,6,69,8],[69,9,69,10],[31,1,31,3],[64,6,64,8],[64,9,64,10],[57,6,57,8],[67,1,67,4],[65,9,65,10],[66,6,66,8],[66,9,66,10],[67,6,67,8],[63,6,63,8],[63,9,63,10],[59,6,59,8],[59,9,59,10],[58,6,58,8],[61,6,61,8]]}
[]
["お客様記入→","agrina\nピステ注文書",null,null,"種　別","カラー１",null,null,null,"カラー２",null,null,null,"カラー３",null,null,null,"メモ欄 "]
[null,null,null,null,"画　像"]
[null,{"$f":"IF(ご注文者様チーム名=\"\",\"「メインメニュー」のご注文者様情報をご記入ください。\",ご注文者様チーム名)","v":"「メインメニュー」のご注文者様情報をご記入ください。"},null,null,"名　称","ピステトップ","ピステパンツ","フード付ピステトップ","ピステパンツ","ピステトップ","ピステパンツ","フード付ピステトップ","ピステパンツ","ピステトップ","ピステパンツ","フード付ピステトップ","ピステパンツ"]
["非表示",null,null,null,"商品コード",{"$f":"IF(F51>0,IF(F49=\"\",\"追加商品コード未記入\",F48&F49),\"\")","v":""},{"$f":"IF(G51>0,IF(G49=\"\",\"追加商品コード未記入\",G48&G49),\"\")","v":""},{"$f":"IF(H51>0,IF(H49=\"\",\"追加商品コード未記入\",H48&H49),\"\")","v":""},{"$f":"IF(I51>0,IF(I49=\"\",\"追加商品コード未記入\",I48&I49),\"\")","v":""},{"$f":"IF(J51>0,IF(J49=\"\",\"追加商品コード未記入\",J48&J49),\"\")","v":""},"","","","","","",""]
["➡",null,null,null,"シルエット","シルエットを選択",null,"シルエットを選択",null,"シルエットを選択",null,"シルエットを選択",null,"シルエットを選択",null,"シルエットを選択"]
["➡",null,null,null,"裏素材","裏素材を選択",null,"裏素材を選択",null,"裏素材を選択",null,"裏素材を選択",null,"裏素材を選択",null,"裏素材を選択",null,"　３Dシミュレーターの「デザインを保存\n　する」ボタンをクリックして表示される\n☜「デザインURL」を貼り付けて下さい。"]
["➡",null,null,null,"デザイン\nURL","入力してください",null,"入力してください",null,"入力してください",null,"入力してください",null,"入力してください",null,"入力してください"]
[null,"#","注文者氏名",{"$f":"\"マーキング名\"","v":"マーキング名"},"背番号","サイズ",null,null,null,"サイズ",null,null,null,"サイズ",null,null,null,"個人別価格","備考(お客様使用)"]
[null,"例","加藤貴行","T.KATO",10,"M","M","M","L","M","M","M","L"]
["➡",1,null,null,null,null,null,null,null,null,null,null,null,null,null,null,null,{"$f":"SUMIF(F11:Q11,\"<>\",$F$53:$Q$53)+IF($D11<>\"\",COUNTIFS(F11:Q11,\"<>\",$F$47:$Q$47,\">0\")*$M$73,0)","v":0}]
[null,2,null,null,null,null,null,null,null,null,null,null,null,null,null,null,null,{"$f":"SUMIF(F12:Q12,\"<>\",$F$53:$Q$53)+IF($D12<>\"\",COUNTIFS(F12:Q12,\"<>\",$F$47:$Q$47,\">0\")*$M$73,0)","v":0}]
[null,3,null,null,null,null,null,null,null,null,null,null,null,null,null,null,null,0]
[null,4,null,null,null,null,null,null,null,null,null,null,null,null,null,null,null,0]
[null,5,null,null,null,null,null,null,null,null,null,null,null,null,null,null,null,0]
[null,6,null,null,null,null,null,null,null,null,null,null,null,null,null,null,null,0]
[null,7,null,null,null,null,null,null,null,null,null,null,null,null,null,null,null,0]
[null,8,null,null,null,null,null,null,null,null,null,null,null,null,null,null,null,0]
[null,9,null,null,null,null,null,null,null,null,null,null,null,null,null,null,null,0]
[null,10,null,null,null,null,null,null,null,null,null,null,null,null,null,null,null,0]
[null,11,null,null,null,null,null,null,null,null,null,null,null,null,null,null,null,0]
[null,12,null,null,null,null,null,null,null,null,null,null,null,null,null,null,null,0]
[null,13,null,null,null,null,null,null,null,null,null,null,null,null,null,null,null,0]
[null,14,null,null,null,null,null,null,null,null,null,null,null,null,null,null,null,0]
[null,15,null,null,null,null,null,null,null,null,null,null,null,null,null,null,null,0]
[null,16,null,null,null,null,null,null,null,null,null,null,null,null,null,null,null,0]
[null,17,null,null,null,null,null,null,null,null,null,null,null,null,null,null,null,0]
[null,18,null,null,null,null,null,null,null,null,null,null,null,null,null,null,null,0]
[null,19,null,null,null,null,null,null,null,null,null,null,null,null,null,null,null,0]
[null,20,null,null,null,null,null,null,null,null,null,null,null,null,null,null,null,0]
[null,null,null,null,null,{"$f":"IF(COUNTIF(F55:Q55,\"?*\")>0,\"　※シルエットと裏素材を正しく選択して下さい。\",\"\")","v":""},null,null,null,null,null,null,null,null,null,null,null,{"$f":"IF(E59>0,\"※ 個人別価格に送料は含まれていません。\",\"\")","v":""}]
[null,"注 文 集 計",null,null,100,{"$f":"COUNTIF(F$11:F$30,$E32)","v":0},{"$f":"COUNTIF(G$11:G$30,$E32)","v":0},0,0,0,0,0,0,0,0,0,0]
[null,null,null,null,110,0,0,0,0,0,0,0,0,0,0,0,0]
[null,null,null,null,120,0,0,0,0,0,0,0,0,0,0,0,0]
[null,null,null,null,130,0,0,0,0,0,0,0,0,0,0,0,0]
[null,null,null,null,140,0,0,0,0,0,0,0,0,0,0,0,0]
[null,null,null,null,150,0,0,0,0,0,0,0,0,0,0,0,0]
[null,null,null,null,160,0,0,0,0,0,0,0,0,0,0,0,0]
[null,null,null,null,"S",0,0,0,0,0,0,0,0,0,0,0,0]
[null,null,null,null,"M",0,0,0,0,0,0,0,0,0,0,0,0]
[null,null,null,null,"L",0,0,0,0,0,0,0,0,0,0,0,0]
[null,null,null,null,"XL",0,0,0,0,0,0,0,0,0,0,0,0]
[null,null,null,null,"3L",0,0,0,0,0,0,0,0,0,0,0,0]
[null,null,null,null,"4L",0,0,0,0,0,0,0,0,0,0,0,0]
[null,null,null,null,"5L",0,0,0,0,0,0,0,0,0,0,0,0]
[null,"マーキング",null,null,"個人名有無","個人名【有】","個人名【無】","個人名【有】","個人名【無】","個人名【有】","個人名【無】","個人名【有】","個人名【無】","個人名【有】","個人名【無】","個人名【有】","個人名【無】"]
[null,null,null,null,"マーキング数",{"$f":"IF(F46=\"個人名【有】\",COUNTIFS($D$11:$D$30,\"<>\",F$11:F$30,\"<>\"),0)","v":0},0,0,0,0,0,0,0,0,0,0,0]
[null,"代表商品コード",null,null,{"$f":"$J$73","v":"ag-name1000"},{"$f":"IF(AND(F6=\"ノーマル\",F7=\"裏地なし\"),$J$58,\nIF(AND(F6=\"ノーマル\",F7=\"裏メッシュ\"),$J$61,\nIF(AND(F6=\"ノーマル\",F7=\"裏トリコット\"),$J$64,\nIF(AND(F6=\"スリム\",F7=\"裏地なし\"),$J$67,\nIF(AND(F6=\"スリム\",F7=\"裏メッシュ\"),$J$70,\nIF(AND(F6=\"スリム\",F7=\"裏トリコット\"),\"\",\n\"\"))))))","v":""},{"$f":"IF(AND(F6=\"ノーマル\",F7=\"裏地なし\"),$J$60,\nIF(AND(F6=\"ノーマル\",F7=\"裏メッシュ\"),$J$63,\nIF(AND(F6=\"ノーマル\",F7=\"裏トリコット\"),$J$66,\nIF(AND(F6=\"スリム\",F7=\"裏地なし\"),$J$69,\nIF(AND(F6=\"スリム\",F7=\"裏メッシュ\"),$J$72,\nIF(AND(F6=\"スリム\",F7=\"裏トリコット\"),\"\",\n\"\"))))))","v":""},{"$f":"IF(AND(H6=\"ノーマル\",H7=\"裏地なし\"),$J$59,\nIF(AND(H6=\"ノーマル\",H7=\"裏メッシュ\"),$J$62,\nIF(AND(H6=\"ノーマル\",H7=\"裏トリコット\"),$J$65,\nIF(AND(H6=\"スリム\",H7=\"裏地なし\"),$J$68,\nIF(AND(H6=\"スリム\",H7=\"裏メッシュ\"),$J$71,\nIF(AND(H6=\"スリム\",H7=\"裏トリコット\"),\"\",\n\"\"))))))","v":""},{"$f":"IF(AND(H6=\"ノーマル\",H7=\"裏地なし\"),$J$60,\nIF(AND(H6=\"ノーマル\",H7=\"裏メッシュ\"),$J$63,\nIF(AND(H6=\"ノーマル\",H7=\"裏トリコット\"),$J$66,\nIF(AND(H6=\"スリム\",H7=\"裏地なし\"),$J$69,\nIF(AND(H6=\"スリム\",H7=\"裏メッシュ\"),$J$72,\nIF(AND(H6=\"スリム\",H7=\"裏トリコット\"),\"\",\n\"\"))))))","v":""},{"$f":"IF(AND(J6=\"ノーマル\",J7=\"裏地なし\"),$J$58,\nIF(AND(J6=\"ノーマル\",J7=\"裏メッシュ\"),$J$61,\nIF(AND(J6=\"ノーマル\",J7=\"裏トリコット\"),$J$64,\nIF(AND(J6=\"スリム\",J7=\"裏地なし\"),$J$67,\nIF(AND(J6=\"スリム\",J7=\"裏メッシュ\"),$J$70,\nIF(AND(J6=\"スリム\",J7=\"裏トリコット\"),\"\",\n\"\"))))))","v":""},{"$f":"IF(AND(J6=\"ノーマル\",J7=\"裏地なし\"),$J$60,\nIF(AND(J6=\"ノーマル\",J7=\"裏メッシュ\"),$J$63,\nIF(AND(J6=\"ノーマル\",J7=\"裏トリコット\"),$J$66,\nIF(AND(J6=\"スリム\",J7=\"裏地なし\"),$J$69,\nIF(AND(J6=\"スリム\",J7=\"裏メッシュ\"),$J$72,\nIF(AND(J6=\"スリム\",J7=\"裏トリコット\"),\"\",\n\"\"))))))","v":""},{"$f":"IF(AND(L6=\"ノーマル\",L7=\"裏地なし\"),$J$59,\nIF(AND(L6=\"ノーマル\",L7=\"裏メッシュ\"),$J$62,\nIF(AND(L6=\"ノーマル\",L7=\"裏トリコット\"),$J$65,\nIF(AND(L6=\"スリム\",L7=\"裏地なし\"),$J$68,\nIF(AND(L6=\"スリム\",L7=\"裏メッシュ\"),$J$71,\nIF(AND(L6=\"スリム\",L7=\"裏トリコット\"),\"\",\n\"\"))))))","v":""},{"$f":"IF(AND(L6=\"ノーマル\",L7=\"裏地なし\"),$J$60,\nIF(AND(L6=\"ノーマル\",L7=\"裏メッシュ\"),$J$63,\nIF(AND(L6=\"ノーマル\",L7=\"裏トリコット\"),$J$66,\nIF(AND(L6=\"スリム\",L7=\"裏地なし\"),$J$69,\nIF(AND(L6=\"スリム\",L7=\"裏メッシュ\"),$J$72,\nIF(AND(L6=\"スリム\",L7=\"裏トリコット\"),\"\",\n\"\"))))))","v":""},{"$f":"IF(AND(N6=\"ノーマル\",N7=\"裏地なし\"),$J$58,\nIF(AND(N6=\"ノーマル\",N7=\"裏メッシュ\"),$J$61,\nIF(AND(N6=\"ノーマル\",N7=\"裏トリコット\"),$J$64,\nIF(AND(N6=\"スリム\",N7=\"裏地なし\"),$J$67,\nIF(AND(N6=\"スリム\",N7=\"裏メッシュ\"),$J$70,\nIF(AND(N6=\"スリム\",N7=\"裏トリコット\"),\"\",\n\"\"))))))","v":""},{"$f":"IF(AND(N6=\"ノーマル\",N7=\"裏地なし\"),$J$60,\nIF(AND(N6=\"ノーマル\",N7=\"裏メッシュ\"),$J$63,\nIF(AND(N6=\"ノーマル\",N7=\"裏トリコット\"),$J$66,\nIF(AND(N6=\"スリム\",N7=\"裏地なし\"),$J$69,\nIF(AND(N6=\"スリム\",N7=\"裏メッシュ\"),$J$72,\nIF(AND(N6=\"スリム\",N7=\"裏トリコット\"),\"\",\n\"\"))))))","v":""},{"$f":"IF(AND(P6=\"ノーマル\",P7=\"裏地なし\"),$J$59,\nIF(AND(P6=\"ノーマル\",P7=\"裏メッシュ\"),$J$62,\nIF(AND(P6=\"ノーマル\",P7=\"裏トリコット\"),$J$65,\nIF(AND(P6=\"スリム\",P7=\"裏地なし\"),$J$68,\nIF(AND(P6=\"スリム\",P7=\"裏メッシュ\"),$J$71,\nIF(AND(P6=\"スリム\",P7=\"裏トリコット\"),\"\",\n\"\"))))))","v":""},{"$f":"IF(AND(P6=\"ノーマル\",P7=\"裏地なし\"),$J$60,\nIF(AND(P6=\"ノーマル\",P7=\"裏メッシュ\"),$J$63,\nIF(AND(P6=\"ノーマル\",P7=\"裏トリコット\"),$J$66,\nIF(AND(P6=\"スリム\",P7=\"裏地なし\"),$J$69,\nIF(AND(P6=\"スリム\",P7=\"裏メッシュ\"),$J$72,\nIF(AND(P6=\"スリム\",P7=\"裏トリコット\"),\"\",\n\"\"))))))","v":""}]
[null,"追加商品コード"]
[null,"商 品 名",null,null,"個人名\nﾏｰｷﾝｸﾞ",{"$f":"IF(AND(F6=\"ノーマル\",F7=\"裏地なし\"),$G$58&\"(\"&F2&\")\",\nIF(AND(F6=\"ノーマル\",F7=\"裏メッシュ\"),$G$61&\"(\"&F2&\")\",\nIF(AND(F6=\"ノーマル\",F7=\"裏トリコット\"),$G$64&\"(\"&F2&\")\",\nIF(AND(F6=\"スリム\",F7=\"裏地なし\"),$G$67&\"(\"&F2&\")\",\nIF(AND(F6=\"スリム\",F7=\"裏メッシュ\"),$G$70&\"(\"&F2&\")\",\nIF(AND(F6=\"スリム\",F7=\"裏トリコット\"),\"スリム×裏トリコットの組み合わせはできません\",\n\"\"))))))","v":""},{"$f":"IF(AND(F6=\"ノーマル\",F7=\"裏地なし\"),$G$60&\"(\"&F2&\")\",\nIF(AND(F6=\"ノーマル\",F7=\"裏メッシュ\"),$G$63&\"(\"&F2&\")\",\nIF(AND(F6=\"ノーマル\",F7=\"裏トリコット\"),$G$66&\"(\"&F2&\")\",\nIF(AND(F6=\"スリム\",F7=\"裏地なし\"),$G$69&\"(\"&F2&\")\",\nIF(AND(F6=\"スリム\",F7=\"裏メッシュ\"),$G$72&\"(\"&F2&\")\",\nIF(AND(F6=\"スリム\",F7=\"裏トリコット\"),\"スリム×裏トリコットの組み合わせはできません\",\n\"\"))))))","v":""},{"$f":"IF(AND(H6=\"ノーマル\",H7=\"裏地なし\"),$G$59&\"(\"&F2&\")\",\nIF(AND(H6=\"ノーマル\",H7=\"裏メッシュ\"),$G$62&\"(\"&F2&\")\",\nIF(AND(H6=\"ノーマル\",H7=\"裏トリコット\"),$G$65&\"(\"&F2&\")\",\nIF(AND(H6=\"スリム\",H7=\"裏地なし\"),$G$68&\"(\"&F2&\")\",\nIF(AND(H6=\"スリム\",H7=\"裏メッシュ\"),$G$71&\"(\"&F2&\")\",\nIF(AND(H6=\"スリム\",H7=\"裏トリコット\"),\"スリム×裏トリコットの組み合わせはできません\",\n\"\"))))))","v":""},{"$f":"IF(AND(H6=\"ノーマル\",H7=\"裏地なし\"),$G$60&\"(\"&F2&\")\",\nIF(AND(H6=\"ノーマル\",H7=\"裏メッシュ\"),$G$63&\"(\"&F2&\")\",\nIF(AND(H6=\"ノーマル\",H7=\"裏トリコット\"),$G$66&\"(\"&F2&\")\",\nIF(AND(H6=\"スリム\",H7=\"裏地なし\"),$G$69&\"(\"&F2&\")\",\nIF(AND(H6=\"スリム\",H7=\"裏メッシュ\"),$G$72&\"(\"&F2&\")\",\nIF(AND(H6=\"スリム\",H7=\"裏トリコット\"),\"スリム×裏トリコットの組み合わせはできません\",\n\"\"))))))","v":""},{"$f":"IF(AND(J6=\"ノーマル\",J7=\"裏地なし\"),$G$58&\"(\"&J2&\")\",\nIF(AND(J6=\"ノーマル\",J7=\"裏メッシュ\"),$G$61&\"(\"&J2&\")\",\nIF(AND(J6=\"ノーマル\",J7=\"裏トリコット\"),$G$64&\"(\"&J2&\")\",\nIF(AND(J6=\"スリム\",J7=\"裏地なし\"),$G$67&\"(\"&J2&\")\",\nIF(AND(J6=\"スリム\",J7=\"裏メッシュ\"),$G$70&\"(\"&J2&\")\",\nIF(AND(J6=\"スリム\",J7=\"裏トリコット\"),\"スリム×裏トリコットの組み合わせはできません\",\n\"\"))))))","v":""},{"$f":"IF(AND(J6=\"ノーマル\",J7=\"裏地なし\"),$G$60&\"(\"&J2&\")\",\nIF(AND(J6=\"ノーマル\",J7=\"裏メッシュ\"),$G$63&\"(\"&J2&\")\",\nIF(AND(J6=\"ノーマル\",J7=\"裏トリコット\"),$G$66&\"(\"&J2&\")\",\nIF(AND(J6=\"スリム\",J7=\"裏地なし\"),$G$69&\"(\"&J2&\")\",\nIF(AND(J6=\"スリム\",J7=\"裏メッシュ\"),$G$72&\"(\"&J2&\")\",\nIF(AND(J6=\"スリム\",J7=\"裏トリコット\"),\"スリム×裏トリコットの組み合わせはできません\",\n\"\"))))))","v":""},{"$f":"IF(AND(L6=\"ノーマル\",L7=\"裏地なし\"),$G$59&\"(\"&J2&\")\",\nIF(AND(L6=\"ノーマル\",L7=\"裏メッシュ\"),$G$62&\"(\"&J2&\")\",\nIF(AND(L6=\"ノーマル\",L7=\"裏トリコット\"),$G$65&\"(\"&J2&\")\",\nIF(AND(L6=\"スリム\",L7=\"裏地なし\"),$G$68&\"(\"&J2&\")\",\nIF(AND(L6=\"スリム\",L7=\"裏メッシュ\"),$G$71&\"(\"&J2&\")\",\nIF(AND(L6=\"スリム\",L7=\"裏トリコット\"),\"スリム×裏トリコットの組み合わせはできません\",\n\"\"))))))","v":""},{"$f":"IF(AND(L6=\"ノーマル\",L7=\"裏地なし\"),$G$60&\"(\"&J2&\")\",\nIF(AND(L6=\"ノーマル\",L7=\"裏メッシュ\"),$G$63&\"(\"&J2&\")\",\nIF(AND(L6=\"ノーマル\",L7=\"裏トリコット\"),$G$66&\"(\"&J2&\")\",\nIF(AND(L6=\"スリム\",L7=\"裏地なし\"),$G$69&\"(\"&J2&\")\",\nIF(AND(L6=\"スリム\",L7=\"裏メッシュ\"),$G$72&\"(\"&J2&\")\",\nIF(AND(L6=\"スリム\",L7=\"裏トリコット\"),\"スリム×裏トリコットの組み合わせはできません\",\n\"\"))))))","v":""},{"$f":"IF(AND(N6=\"ノーマル\",N7=\"裏地なし\"),$G$58&\"(\"&N2&\")\",\nIF(AND(N6=\"ノーマル\",N7=\"裏メッシュ\"),$G$61&\"(\"&N2&\")\",\nIF(AND(N6=\"ノーマル\",N7=\"裏トリコット\"),$G$64&\"(\"&N2&\")\",\nIF(AND(N6=\"スリム\",N7=\"裏地なし\"),$G$67&\"(\"&N2&\")\",\nIF(AND(N6=\"スリム\",N7=\"裏メッシュ\"),$G$70&\"(\"&N2&\")\",\nIF(AND(N6=\"スリム\",N7=\"裏トリコット\"),\"スリム×裏トリコットの組み合わせはできません\",\n\"\"))))))","v":""},{"$f":"IF(AND(N6=\"ノーマル\",N7=\"裏地なし\"),$G$60&\"(\"&N2&\")\",\nIF(AND(N6=\"ノーマル\",N7=\"裏メッシュ\"),$G$63&\"(\"&N2&\")\",\nIF(AND(N6=\"ノーマル\",N7=\"裏トリコット\"),$G$66&\"(\"&N2&\")\",\nIF(AND(N6=\"スリム\",N7=\"裏地なし\"),$G$69&\"(\"&N2&\")\",\nIF(AND(N6=\"スリム\",N7=\"裏メッシュ\"),$G$72&\"(\"&N2&\")\",\nIF(AND(N6=\"スリム\",N7=\"裏トリコット\"),\"スリム×裏トリコットの組み合わせはできません\",\n\"\"))))))","v":""},{"$f":"IF(AND(P6=\"ノーマル\",P7=\"裏地なし\"),$G$59&\"(\"&N2&\")\",\nIF(AND(P6=\"ノーマル\",P7=\"裏メッシュ\"),$G$62&\"(\"&N2&\")\",\nIF(AND(P6=\"ノーマル\",P7=\"裏トリコット\"),$G$65&\"(\"&N2&\")\",\nIF(AND(P6=\"スリム\",P7=\"裏地なし\"),$G$68&\"(\"&N2&\")\",\nIF(AND(P6=\"スリム\",P7=\"裏メッシュ\"),$G$71&\"(\"&N2&\")\",\nIF(AND(P6=\"スリム\",P7=\"裏トリコット\"),\"スリム×裏トリコットの組み合わせはできません\",\n\"\"))))))","v":""},{"$f":"IF(AND(P6=\"ノーマル\",P7=\"裏地なし\"),$G$60&\"(\"&N2&\")\",\nIF(AND(P6=\"ノーマル\",P7=\"裏メッシュ\"),$G$63&\"(\"&N2&\")\",\nIF(AND(P6=\"ノーマル\",P7=\"裏トリコット\"),$G$66&\"(\"&N2&\")\",\nIF(AND(P6=\"スリム\",P7=\"裏地なし\"),$G$69&\"(\"&N2&\")\",\nIF(AND(P6=\"スリム\",P7=\"裏メッシュ\"),$G$72&\"(\"&N2&\")\",\nIF(AND(P6=\"スリム\",P7=\"裏トリコット\"),\"スリム×裏トリコットの組み合わせはできません\",\n\"\"))))))","v":""}]
[null,"注 文 数",null,null,{"$f":"SUM(F47:Q47)","v":0},{"$f":"SUM(F32:F45)","v":0},{"$f":"SUM(G32:G45)","v":0},{"$f":"SUM(H32:H45)","v":0},{"$f":"SUM(I32:I45)","v":0},{"$f":"SUM(J32:J45)","v":0},0,0,0,0,0,0,0]
[null,"定  価（税込）",null,null,{"$f":"$L$73","v":1080},{"$f":"IF(AND(F6=\"ノーマル\",F7=\"裏地なし\"),$L$58,\nIF(AND(F6=\"ノーマル\",F7=\"裏メッシュ\"),$L$61,\nIF(AND(F6=\"ノーマル\",F7=\"裏トリコット\"),$L$64,\nIF(AND(F6=\"スリム\",F7=\"裏地なし\"),$L$67,\nIF(AND(F6=\"スリム\",F7=\"裏メッシュ\"),$L$70,\nIF(AND(F6=\"スリム\",F7=\"裏トリコット\"),0,\n0))))))","v":0},{"$f":"IF(AND(F6=\"ノーマル\",F7=\"裏地なし\"),$L$60,\nIF(AND(F6=\"ノーマル\",F7=\"裏メッシュ\"),$L$63,\nIF(AND(F6=\"ノーマル\",F7=\"裏トリコット\"),$L$66,\nIF(AND(F6=\"スリム\",F7=\"裏地なし\"),$L$69,\nIF(AND(F6=\"スリム\",F7=\"裏メッシュ\"),$L$72,\nIF(AND(F6=\"スリム\",F7=\"裏トリコット\"),0,\n0))))))","v":0},{"$f":"IF(AND(H6=\"ノーマル\",H7=\"裏地なし\"),$L$59,\nIF(AND(H6=\"ノーマル\",H7=\"裏メッシュ\"),$L$62,\nIF(AND(H6=\"ノーマル\",H7=\"裏トリコット\"),$L$65,\nIF(AND(H6=\"スリム\",H7=\"裏地なし\"),$L$68,\nIF(AND(H6=\"スリム\",H7=\"裏メッシュ\"),$L$71,\nIF(AND(H6=\"スリム\",H7=\"裏トリコット\"),0,\n0))))))","v":0},{"$f":"IF(AND(H6=\"ノーマル\",H7=\"裏地なし\"),$L$60,\nIF(AND(H6=\"ノーマル\",H7=\"裏メッシュ\"),$L$63,\nIF(AND(H6=\"ノーマル\",H7=\"裏トリコット\"),$L$66,\nIF(AND(H6=\"スリム\",H7=\"裏地なし\"),$L$69,\nIF(AND(H6=\"スリム\",H7=\"裏メッシュ\"),$L$72,\nIF(AND(H6=\"スリム\",H7=\"裏トリコット\"),0,\n0))))))","v":0},{"$f":"IF(AND(J6=\"ノーマル\",J7=\"裏地なし\"),$L$58,\nIF(AND(J6=\"ノーマル\",J7=\"裏メッシュ\"),$L$61,\nIF(AND(J6=\"ノーマル\",J7=\"裏トリコット\"),$L$64,\nIF(AND(J6=\"スリム\",J7=\"裏地なし\"),$L$67,\nIF(AND(J6=\"スリム\",J7=\"裏メッシュ\"),$L$70,\nIF(AND(J6=\"スリム\",J7=\"裏トリコット\"),0,\n0))))))","v":0},{"$f":"IF(AND(J6=\"ノーマル\",J7=\"裏地なし\"),$L$60,\nIF(AND(J6=\"ノーマル\",J7=\"裏メッシュ\"),$L$63,\nIF(AND(J6=\"ノーマル\",J7=\"裏トリコット\"),$L$66,\nIF(AND(J6=\"スリム\",J7=\"裏地なし\"),$L$69,\nIF(AND(J6=\"スリム\",J7=\"裏メッシュ\"),$L$72,\nIF(AND(J6=\"スリム\",J7=\"裏トリコット\"),0,\n0))))))","v":0},{"$f":"IF(AND(L6=\"ノーマル\",L7=\"裏地なし\"),$L$59,\nIF(AND(L6=\"ノーマル\",L7=\"裏メッシュ\"),$L$62,\nIF(AND(L6=\"ノーマル\",L7=\"裏トリコット\"),$L$65,\nIF(AND(L6=\"スリム\",L7=\"裏地なし\"),$L$68,\nIF(AND(L6=\"スリム\",L7=\"裏メッシュ\"),$L$71,\nIF(AND(L6=\"スリム\",L7=\"裏トリコット\"),0,\n0))))))","v":0},{"$f":"IF(AND(L6=\"ノーマル\",L7=\"裏地なし\"),$L$60,\nIF(AND(L6=\"ノーマル\",L7=\"裏メッシュ\"),$L$63,\nIF(AND(L6=\"ノーマル\",L7=\"裏トリコット\"),$L$66,\nIF(AND(L6=\"スリム\",L7=\"裏地なし\"),$L$69,\nIF(AND(L6=\"スリム\",L7=\"裏メッシュ\"),$L$72,\nIF(AND(L6=\"スリム\",L7=\"裏トリコット\"),0,\n0))))))","v":0},{"$f":"IF(AND(N6=\"ノーマル\",N7=\"裏地なし\"),$L$58,\nIF(AND(N6=\"ノーマル\",N7=\"裏メッシュ\"),$L$61,\nIF(AND(N6=\"ノーマル\",N7=\"裏トリコット\"),$L$64,\nIF(AND(N6=\"スリム\",N7=\"裏地なし\"),$L$67,\nIF(AND(N6=\"スリム\",N7=\"裏メッシュ\"),$L$70,\nIF(AND(N6=\"スリム\",N7=\"裏トリコット\"),0,\n0))))))","v":0},{"$f":"IF(AND(N6=\"ノーマル\",N7=\"裏地なし\"),$L$60,\nIF(AND(N6=\"ノーマル\",N7=\"裏メッシュ\"),$L$63,\nIF(AND(N6=\"ノーマル\",N7=\"裏トリコット\"),$L$66,\nIF(AND(N6=\"スリム\",N7=\"裏地なし\"),$L$69,\nIF(AND(N6=\"スリム\",N7=\"裏メッシュ\"),$L$72,\nIF(AND(N6=\"スリム\",N7=\"裏トリコット\"),0,\n0))))))","v":0},{"$f":"IF(AND(P6=\"ノーマル\",P7=\"裏地なし\"),$L$59,\nIF(AND(P6=\"ノーマル\",P7=\"裏メッシュ\"),$L$62,\nIF(AND(P6=\"ノーマル\",P7=\"裏トリコット\"),$L$65,\nIF(AND(P6=\"スリム\",P7=\"裏地なし\"),$L$68,\nIF(AND(P6=\"スリム\",P7=\"裏メッシュ\"),$L$71,\nIF(AND(P6=\"スリム\",P7=\"裏トリコット\"),0,\n0))))))","v":0},{"$f":"IF(AND(P6=\"ノーマル\",P7=\"裏地なし\"),$L$60,\nIF(AND(P6=\"ノーマル\",P7=\"裏メッシュ\"),$L$63,\nIF(AND(P6=\"ノーマル\",P7=\"裏トリコット\"),$L$66,\nIF(AND(P6=\"スリム\",P7=\"裏地なし\"),$L$69,\nIF(AND(P6=\"スリム\",P7=\"裏メッシュ\"),$L$72,\nIF(AND(P6=\"スリム\",P7=\"裏トリコット\"),0,\n0))))))","v":0}]
[null,"販売価格（税込）",null,null,{"$f":"IF(SUM(F53:Q53)=0,0,$M$73)","v":0},{"$f":"IF(AND(F6=\"ノーマル\",F7=\"裏地なし\"),$M$58,\nIF(AND(F6=\"ノーマル\",F7=\"裏メッシュ\"),$M$61,\nIF(AND(F6=\"ノーマル\",F7=\"裏トリコット\"),$M$64,\nIF(AND(F6=\"スリム\",F7=\"裏地なし\"),$M$67,\nIF(AND(F6=\"スリム\",F7=\"裏メッシュ\"),$M$70,\nIF(AND(F6=\"スリム\",F7=\"裏トリコット\"),0,\n0))))))","v":0},{"$f":"IF(AND(F6=\"ノーマル\",F7=\"裏地なし\"),$M$60,\nIF(AND(F6=\"ノーマル\",F7=\"裏メッシュ\"),$M$63,\nIF(AND(F6=\"ノーマル\",F7=\"裏トリコット\"),$M$66,\nIF(AND(F6=\"スリム\",F7=\"裏地なし\"),$M$69,\nIF(AND(F6=\"スリム\",F7=\"裏メッシュ\"),$M$72,\nIF(AND(F6=\"スリム\",F7=\"裏トリコット\"),0,\n0))))))","v":0},{"$f":"IF(AND(H6=\"ノーマル\",H7=\"裏地なし\"),$M$59,\nIF(AND(H6=\"ノーマル\",H7=\"裏メッシュ\"),$M$62,\nIF(AND(H6=\"ノーマル\",H7=\"裏トリコット\"),$M$65,\nIF(AND(H6=\"スリム\",H7=\"裏地なし\"),$M$68,\nIF(AND(H6=\"スリム\",H7=\"裏メッシュ\"),$M$71,\nIF(AND(H6=\"スリム\",H7=\"裏トリコット\"),0,\n0))))))","v":0},{"$f":"IF(AND(H6=\"ノーマル\",H7=\"裏地なし\"),$M$60,\nIF(AND(H6=\"ノーマル\",H7=\"裏メッシュ\"),$M$63,\nIF(AND(H6=\"ノーマル\",H7=\"裏トリコット\"),$M$66,\nIF(AND(H6=\"スリム\",H7=\"裏地なし\"),$M$69,\nIF(AND(H6=\"スリム\",H7=\"裏メッシュ\"),$M$72,\nIF(AND(H6=\"スリム\",H7=\"裏トリコット\"),0,\n0))))))","v":0},{"$f":"IF(AND(J6=\"ノーマル\",J7=\"裏地なし\"),$M$58,\nIF(AND(J6=\"ノーマル\",J7=\"裏メッシュ\"),$M$61,\nIF(AND(J6=\"ノーマル\",J7=\"裏トリコット\"),$M$64,\nIF(AND(J6=\"スリム\",J7=\"裏地なし\"),$M$67,\nIF(AND(J6=\"スリム\",J7=\"裏メッシュ\"),$M$70,\nIF(AND(J6=\"スリム\",J7=\"裏トリコット\"),0,\n0))))))","v":0},{"$f":"IF(AND(J6=\"ノーマル\",J7=\"裏地なし\"),$M$60,\nIF(AND(J6=\"ノーマル\",J7=\"裏メッシュ\"),$M$63,\nIF(AND(J6=\"ノーマル\",J7=\"裏トリコット\"),$M$66,\nIF(AND(J6=\"スリム\",J7=\"裏地なし\"),$M$69,\nIF(AND(J6=\"スリム\",J7=\"裏メッシュ\"),$M$72,\nIF(AND(J6=\"スリム\",J7=\"裏トリコット\"),0,\n0))))))","v":0},{"$f":"IF(AND(L6=\"ノーマル\",L7=\"裏地なし\"),$M$59,\nIF(AND(L6=\"ノーマル\",L7=\"裏メッシュ\"),$M$62,\nIF(AND(L6=\"ノーマル\",L7=\"裏トリコット\"),$M$65,\nIF(AND(L6=\"スリム\",L7=\"裏地なし\"),$M$68,\nIF(AND(L6=\"スリム\",L7=\"裏メッシュ\"),$M$71,\nIF(AND(L6=\"スリム\",L7=\"裏トリコット\"),0,\n0))))))","v":0},{"$f":"IF(AND(L6=\"ノーマル\",L7=\"裏地なし\"),$M$60,\nIF(AND(L6=\"ノーマル\",L7=\"裏メッシュ\"),$M$63,\nIF(AND(L6=\"ノーマル\",L7=\"裏トリコット\"),$M$66,\nIF(AND(L6=\"スリム\",L7=\"裏地なし\"),$M$69,\nIF(AND(L6=\"スリム\",L7=\"裏メッシュ\"),$M$72,\nIF(AND(L6=\"スリム\",L7=\"裏トリコット\"),0,\n0))))))","v":0},{"$f":"IF(AND(N6=\"ノーマル\",N7=\"裏地なし\"),$M$58,\nIF(AND(N6=\"ノーマル\",N7=\"裏メッシュ\"),$M$61,\nIF(AND(N6=\"ノーマル\",N7=\"裏トリコット\"),$M$64,\nIF(AND(N6=\"スリム\",N7=\"裏地なし\"),$M$67,\nIF(AND(N6=\"スリム\",N7=\"裏メッシュ\"),$M$70,\nIF(AND(N6=\"スリム\",N7=\"裏トリコット\"),0,\n0))))))","v":0},{"$f":"IF(AND(N6=\"ノーマル\",N7=\"裏地なし\"),$M$60,\nIF(AND(N6=\"ノーマル\",N7=\"裏メッシュ\"),$M$63,\nIF(AND(N6=\"ノーマル\",N7=\"裏トリコット\"),$M$66,\nIF(AND(N6=\"スリム\",N7=\"裏地なし\"),$M$69,\nIF(AND(N6=\"スリム\",N7=\"裏メッシュ\"),$M$72,\nIF(AND(N6=\"スリム\",N7=\"裏トリコット\"),0,\n0))))))","v":0},{"$f":"IF(AND(P6=\"ノーマル\",P7=\"裏地なし\"),$M$59,\nIF(AND(P6=\"ノーマル\",P7=\"裏メッシュ\"),$M$62,\nIF(AND(P6=\"ノーマル\",P7=\"裏トリコット\"),$M$65,\nIF(AND(P6=\"スリム\",P7=\"裏地なし\"),$M$68,\nIF(AND(P6=\"スリム\",P7=\"裏メッシュ\"),$M$71,\nIF(AND(P6=\"スリム\",P7=\"裏トリコット\"),0,\n0))))))","v":0},{"$f":"IF(AND(P6=\"ノーマル\",P7=\"裏地なし\"),$M$60,\nIF(AND(P6=\"ノーマル\",P7=\"裏メッシュ\"),$M$63,\nIF(AND(P6=\"ノーマル\",P7=\"裏トリコット\"),$M$66,\nIF(AND(P6=\"スリム\",P7=\"裏地なし\"),$M$69,\nIF(AND(P6=\"スリム\",P7=\"裏メッシュ\"),$M$72,\nIF(AND(P6=\"スリム\",P7=\"裏トリコット\"),0,\n0))))))","v":0}]
[null,"商品金額小計（税込）",null,null,{"$f":"E53*E51","v":0},{"$f":"F53*F51","v":0},{"$f":"G53*G51","v":0},{"$f":"H53*H51","v":0},{"$f":"I53*I51","v":0},{"$f":"J53*J51","v":0},0,0,0,0,0,0,0]
[null,null,null,null,null,{"$f":"IF(AND(F48=\"\",F51>0),\"↑注文エラー\",\"\")","v":""},{"$f":"IF(AND(G48=\"\",G51>0),\"↑注文エラー\",\"\")","v":""},{"$f":"IF(AND(H48=\"\",H51>0),\"↑注文エラー\",\"\")","v":""},{"$f":"IF(AND(I48=\"\",I51>0),\"↑注文エラー\",\"\")","v":""},{"$f":"IF(AND(J48=\"\",J51>0),\"↑注文エラー\",\"\")","v":""},{"$f":"IF(AND(K48=\"\",K51>0),\"↑注文エラー\",\"\")","v":""},"","","","","",""]
[null,"■ 簡易見積表",null,null,null,null,"■ 料金について（金額は税込定価です）"]
[null,"商 品 合 計",null,{"$f":"SUM(F51:Q51)","v":0},{"$f":"SUM(F54:Q54)","v":0},null,"商品名",null,null,"代表商品コード",null,"定価(税込)","売価(税込)","掛率(X10%)","注文数"]
[null,"マーキング代合計",null,null,{"$f":"E54","v":0},null,"セミオーダー昇華ピステトップノーマル裏地なし",null,null,"ag-pt",null,8640,{"$f":"ROUND(L58*N58*0.1,0)","v":8640},10,{"$f":"SUMIF($F$48:$Q$48,J58,$F$51:$Q$51)","v":0}]
[null,"送 料",null,null,{"$f":"IF(AND((E58+E57)>0,(E58+E57)<10800),$L$78,0)","v":0},null,"セミオーダー昇華フード付ピステトップノーマル裏地なし",null,null,"ag-pf",null,9720,{"$f":"ROUND(L59*N59*0.1,0)","v":9720},{"$f":"$N$58","v":10},0]
[null," ―",null,null,0,null,"セミオーダー昇華ピステパンツノーマル裏地なし",null,null,"ag-pp",null,8640,{"$f":"ROUND(L60*N60*0.1,0)","v":8640},{"$f":"$N$58","v":10},0]
[null,"合計金額（税込）",null,null,{"$f":"SUM(E57:E60)","v":0},null,"セミオーダー昇華ピステトップノーマル裏メッシュ",null,null,"ag-ptm",null,9720,{"$f":"ROUND(L61*N61*0.1,0)","v":9720},{"$f":"$N$58","v":10},0]
[null,"税抜金額",null,null,{"$f":"E60-E63","v":0},null,"セミオーダー昇華フード付ピステトップノーマル裏メッシュ",null,null,"ag-pfm",null,10800,{"$f":"ROUND(L62*N62*0.1,0)","v":10800},10,0]
[null,0.08,null,null,{"$f":"E60-ROUND(E60/(1+B63),0)","v":0},null,"セミオーダー昇華ピステパンツノーマル裏メッシュ",null,null,"ag-ppm",null,9720,9720,10,0]
[null,null,null,null,null,null,"セミオーダー昇華ピステトップノーマル裏トリコット",null,null,"ag-ptt",null,10800,{"$f":"ROUND(L64*N64*0.1,0)","v":10800},10,0]
[null,null,null,null,null,null,"セミオーダー昇華フード付ピステトップノーマル裏トリコット",null,null,"ag-pft",null,11880,11880,10,0]
[null,null,null,null,null,null,"セミオーダー昇華ピステパンツノーマル裏トリコット",null,null,"ag-ppt",null,10800,10800,10,0]
[null,null,null,null,null,null,"セミオーダー昇華ピステトップスリム裏地なし",null,null,"ag-ptns",null,8640,8640,{"$f":"$N$58","v":10},0]
[null,{"$f":"IF(F31<>\"\",\"ご注意\",\"\")","v":""},null,null,null,null,"セミオーダー昇華フード付ピステトップスリム裏地なし",null,null,"ag-pfns",null,9720,{"$f":"ROUND(L68*N68*0.1,0)","v":9720},10,0]
[null,{"$f":"IF(F31<>\"\",F31,\"\")","v":""},null,null,null,null,"セミオーダー昇華ピステパンツスリム裏地なし",null,null,"ag-ppns",null,8640,{"$f":"ROUND(L69*N69*0.1,0)","v":8640},10,0]
[null,null,null,null,null,null,"セミオーダー昇華ピステトップスリム裏メッシュ",null,null,"ag-ptms",null,9720,{"$f":"ROUND(L70*N70*0.1,0)","v":9720},10,0]
[null,null,null,null,null,null,"セミオーダー昇華フード付ピステトップスリム裏メッシュ",null,null,"ag-pfms",null,10800,{"$f":"ROUND(L71*N71*0.1,0)","v":10800},10,0]
[null,null,null,null,null,null,"セミオーダー昇華ピステパンツスリム裏メッシュ",null,null,"ag-ppms",null,9720,9720,10,0]
[null,null,null,null,null,null,"マーキング","個人名",null,"ag-name1000",null,1080,1080,10,{"$f":"E51","v":0}]
[null,null,null,null,null,null,"マーキング","背/胸/パンツ番号",null,"無料サービス",null,0,0,10]
[null,null,null,null,null,null,"マーキング","エンブレム",null,"無料サービス",null,0,0,10]
[null,null,null,null,null,null,"マーキング","チーム名",null,"無料サービス",null,0,0,10]
[null,null,null,null,null,null,"マーキング","スポンサーバナー",null,"無料サービス",null,0,0,10]
[null,null,null,null,null,null,"送料（税込10,800円以上で送料無料）",null,null,null,null,540]

{"sheet":"ウインドブレーカー","index":7,"n_rows":71,"n_cols":19,"rows_kept":71,"cut":false,"hidden":true,"merged":[[1,1,2,3],[1,17,1,18],[2,17,2,18],[3,17,3,18],[3,1,6,3],[6,5,6,7],[6,8,6,10],[6,11,6,13],[6,14,6,16],[5,5,5,7],[5,8,5,10],[5,11,5,13],[5,14,5,16],[51,1,51,3],[5,17,6,18],[46,1,46,3],[48,1,48,3],[49,1,49,3],[50,1,50,3],[47,1,47,3],[29,17,29,18],[44,1,44,3],[45,1,45,3],[30,1,30,3],[52,1,52,3],[55,6,55,8],[55,9,55,10],[56,1,56,3],[56,6,56,8],[56,9,56,10],[55,1,55,2],[60,6,60,8],[60,9,60,10],[63,6,63,8],[63,9,63,10],[57,1,57,3],[58,6,58,8],[58,9,58,10],[57,6,57,8],[57,9,57,10],[61,1,61,3],[58,1,58,3],[59,1,59,3],[66,7,66,8],[66,9,66,10],[62,6,62,8],[62,9,62,10],[64,6,64,8],[64,9,64,10],[65,9,65,10],[66,1,66,4],[67,1,69,4],[1,0,3,0],[70,6,70,10],[59,6,59,8],[59,9,59,10],[61,6,61,8],[61,9,61,10],[67,7,67,8],[67,9,67,10],[68,7,68,8],[68,9,68,10],[69,7,69,8],[69,9,69,10],[60,1,60,3],[65,7,65,8]]}
[]
["お客様記入→","agrina\nウインドブレーカー注文書",null,null,"種　別","カラー１",null,null,"カラー２",null,null,"カラー３",null,null,"カラー４",null,null,"メモ欄 "]
[null,null,null,null,"画　像"]
[null,{"$f":"IF(ご注文者様チーム名=\"\",\"「メインメニュー」のご注文者様情報をご記入ください。\",ご注文者様チーム名)","v":"「メインメニュー」のご注文者様情報をご記入ください。"},null,null,"名　称","ウインドブレーカー トップ","フード付ウインドブレーカー トップ","ウインドブレーカー パンツ","ウインドブレーカー トップ","フード付ウインドブレーカー トップ","ウインドブレーカー パンツ","ウインドブレーカー トップ","フード付ウインドブレーカー トップ","ウインドブレーカー パンツ","ウインドブレーカー トップ","フード付ウインドブレーカー トップ","ウインドブレーカー パンツ"]
["非表示",null,null,null,"商品コード",{"$f":"IF(F50>0,IF(F48=\"\",\"追加商品コード未記入\",F47&F48),\"\")","v":""},{"$f":"IF(G50>0,IF(G48=\"\",\"追加商品コード未記入\",G47&G48),\"\")","v":""},"",{"$f":"IF(I50>0,IF(I48=\"\",\"追加商品コード未記入\",I47&I48),\"\")","v":""},"","",{"$f":"IF(L50>0,IF(L48=\"\",\"追加商品コード未記入\",L47&L48),\"\")","v":""},"","",{"$f":"IF(O50>0,IF(O48=\"\",\"追加商品コード未記入\",O47&O48),\"\")","v":""},"",""]
["➡",null,null,null,"裏素材","裏素材を選択",null,null,"裏素材を選択",null,null,"裏素材を選択",null,null,"裏素材を選択",null,null,"　３Dシミュレーターの「デザインを保存\n　する」ボタンをクリックして表示される\n☜「デザインURL」を貼り付けて下さい。"]
["➡",null,null,null,"デザイン\nURL","入力してください",null,null,"入力してください",null,null,"入力してください",null,null,"入力してください"]
[null,"#","注文者氏名",{"$f":"\"マーキング名\"","v":"マーキング名"},"背番号","サイズ",null,null,"サイズ",null,null,"サイズ",null,null,"サイズ",null,null,"個人別価格","備考(お客様使用)"]
[null,"例","加藤貴行","T.KATO",10,"M","M","L","M","M","L"]
["➡",1,null,null,null,null,null,null,null,null,null,null,null,null,null,null,null,{"$f":"SUMIF(F10:Q10,\"<>\",$F$52:$Q$52)+IF($D10<>\"\",COUNTIFS(F10:Q10,\"<>\",$F$46:$Q$46,\">0\")*$M$66,0)","v":0}]
[null,2,null,null,null,null,null,null,null,null,null,null,null,null,null,null,null,0]
[null,3,null,null,null,null,null,null,null,null,null,null,null,null,null,null,null,0]
[null,4,null,null,null,null,null,null,null,null,null,null,null,null,null,null,null,0]
[null,5,null,null,null,null,null,null,null,null,null,null,null,null,null,null,null,0]
[null,6,null,null,null,null,null,null,null,null,null,null,null,null,null,null,null,0]
[null,7,null,null,null,null,null,null,null,null,null,null,null,null,null,null,null,0]
[null,8,null,null,null,null,null,null,null,null,null,null,null,null,null,null,null,0]
[null,9,null,null,null,null,null,null,null,null,null,null,null,null,null,null,null,0]
[null,10,null,null,null,null,null,null,null,null,null,null,null,null,null,null,null,0]
[null,11,null,null,null,null,null,null,null,null,null,null,null,null,null,null,null,0]
[null,12,null,null,null,null,null,null,null,null,null,null,null,null,null,null,null,0]
[null,13,null,null,null,null,null,null,null,null,null,null,null,null,null,null,null,0]
[null,14,null,null,null,null,null,null,null,null,null,null,null,null,null,null,null,0]
[null,15,null,null,null,null,null,null,null,null,null,null,null,null,null,null,null,0]
[null,16,null,null,null,null,null,null,null,null,null,null,null,null,null,null,null,0]
[null,17,null,null,null,null,null,null,null,null,null,null,null,null,null,null,null,0]
[null,18,null,null,null,null,null,null,null,null,null,null,null,null,null,null,null,0]
[null,19,null,null,null,null,null,null,null,null,null,null,null,null,null,null,null,0]
[null,20,null,null,null,null,null,null,null,null,null,null,null,null,null,null,null,0]
[null,null,null,null,null,{"$f":"IF(COUNTIF(F54:Q54,\"?*\")>0,\"　※裏素材を選択して下さい。\",\"\")","v":""},null,null,null,null,null,null,null,null,null,null,null,{"$f":"IF(E58>0,\"※ 個人別価格に送料は含まれていません。\",\"\")","v":""}]
[null,"注 文 集 計",null,null,100,{"$f":"COUNTIF(F$10:F$29,$E31)","v":0},{"$f":"COUNTIF(G$10:G$29,$E31)","v":0},0,0,0,0,0,0,0,0,0,0]
[null,null,null,null,110,0,0,0,0,0,0,0,0,0,0,0,0]
[null,null,null,null,120,0,0,0,0,0,0,0,0,0,0,0,0]
[null,null,null,null,130,0,0,0,0,0,0,0,0,0,0,0,0]
[null,null,null,null,140,0,0,0,0,0,0,0,0,0,0,0,0]
[null,null,null,null,150,0,0,0,0,0,0,0,0,0,0,0,0]
[null,null,null,null,160,0,0,0,0,0,0,0,0,0,0,0,0]
[null,null,null,null,"S",0,0,0,0,0,0,0,0,0,0,0,0]
[null,null,null,null,"M",0,0,0,0,0,0,0,0,0,0,0,0]
[null,null,null,null,"L",0,0,0,0,0,0,0,0,0,0,0,0]
[null,null,null,null,"XL",0,0,0,0,0,0,0,0,0,0,0,0]
[null,null,null,null,"3L",0,0,0,0,0,0,0,0,0,0,0,0]
[null,null,null,null,"4L",0,0,0,0,0,0,0,0,0,0,0,0]
[null,null,null,null,"5L",0,0,0,0,0,0,0,0,0,0,0,0]
[null,"マーキング",null,null,"個人名有無","個人名【有】","個人名【有】","個人名【無】","個人名【有】","個人名【有】","個人名【無】","個人名【有】","個人名【有】","個人名【無】","個人名【有】","個人名【有】","個人名【無】"]
[null,null,null,null,"マーキング数",{"$f":"IF(F45=\"個人名【有】\",COUNTIFS($D$10:$D$29,\"<>\",F$10:F$29,\"<>\"),0)","v":0},{"$f":"IF(G45=\"個人名【有】\",COUNTIFS($D$10:$D$29,\"<>\",G$10:G$29,\"<>\"),0)","v":0},{"$f":"IF(H45=\"個人名【有】\",COUNTIFS($D$10:$D$29,\"<>\",H$10:H$29,\"<>\"),0)","v":0},{"$f":"IF(I45=\"個人名【有】\",COUNTIFS($D$10:$D$29,\"<>\",I$10:I$29,\"<>\"),0)","v":0},{"$f":"IF(J45=\"個人名【有】\",COUNTIFS($D$10:$D$29,\"<>\",J$10:J$29,\"<>\"),0)","v":0},{"$f":"IF(K45=\"個人名【有】\",COUNTIFS($D$10:$D$29,\"<>\",K$10:K$29,\"<>\"),0)","v":0},{"$f":"IF(L45=\"個人名【有】\",COUNTIFS($D$10:$D$29,\"<>\",L$10:L$29,\"<>\"),0)","v":0},{"$f":"IF(M45=\"個人名【有】\",COUNTIFS($D$10:$D$29,\"<>\",M$10:M$29,\"<>\"),0)","v":0},{"$f":"IF(N45=\"個人名【有】\",COUNTIFS($D$10:$D$29,\"<>\",N$10:N$29,\"<>\"),0)","v":0},{"$f":"IF(O45=\"個人名【有】\",COUNTIFS($D$10:$D$29,\"<>\",O$10:O$29,\"<>\"),0)","v":0},{"$f":"IF(P45=\"個人名【有】\",COUNTIFS($D$10:$D$29,\"<>\",P$10:P$29,\"<>\"),0)","v":0},{"$f":"IF(Q45=\"個人名【有】\",COUNTIFS($D$10:$D$29,\"<>\",Q$10:Q$29,\"<>\"),0)","v":0}]
[null,"代表商品コード",null,null,{"$f":"$J$66","v":"ag-name1000"},{"$f":"IF(F6=\"裏メッシュ\",$J$57,\nIF(F6=\"裏トリコット\",$J$60,\nIF(F6=\"中綿&裏トリコット\",$J$63,\n\"\")))","v":""},{"$f":"IF(F6=\"裏メッシュ\",$J$58,\nIF(F6=\"裏トリコット\",$J$61,\nIF(F6=\"中綿&裏トリコット\",$J$64,\n\"\")))","v":""},{"$f":"IF(F6=\"裏メッシュ\",$J$59,\nIF(F6=\"裏トリコット\",$J$62,\nIF(F6=\"中綿&裏トリコット\",$J$65,\n\"\")))","v":""},{"$f":"IF(I6=\"裏メッシュ\",$J$57,\nIF(I6=\"裏トリコット\",$J$60,\nIF(I6=\"中綿&裏トリコット\",$J$63,\n\"\")))","v":""},{"$f":"IF(I6=\"裏メッシュ\",$J$58,\nIF(I6=\"裏トリコット\",$J$61,\nIF(I6=\"中綿&裏トリコット\",$J$64,\n\"\")))","v":""},{"$f":"IF(I6=\"裏メッシュ\",$J$59,\nIF(I6=\"裏トリコット\",$J$62,\nIF(I6=\"中綿&裏トリコット\",$J$65,\n\"\")))","v":""},{"$f":"IF(L6=\"裏メッシュ\",$J$57,\nIF(L6=\"裏トリコット\",$J$60,\nIF(L6=\"中綿&裏トリコット\",$J$63,\n\"\")))","v":""},{"$f":"IF(L6=\"裏メッシュ\",$J$58,\nIF(L6=\"裏トリコット\",$J$61,\nIF(L6=\"中綿&裏トリコット\",$J$64,\n\"\")))","v":""},{"$f":"IF(L6=\"裏メッシュ\",$J$59,\nIF(L6=\"裏トリコット\",$J$62,\nIF(L6=\"中綿&裏トリコット\",$J$65,\n\"\")))","v":""},{"$f":"IF(O6=\"裏メッシュ\",$J$57,\nIF(O6=\"裏トリコット\",$J$60,\nIF(O6=\"中綿&裏トリコット\",$J$63,\n\"\")))","v":""},{"$f":"IF(O6=\"裏メッシュ\",$J$58,\nIF(O6=\"裏トリコット\",$J$61,\nIF(O6=\"中綿&裏トリコット\",$J$64,\n\"\")))","v":""},{"$f":"IF(O6=\"裏メッシュ\",$J$59,\nIF(O6=\"裏トリコット\",$J$62,\nIF(O6=\"中綿&裏トリコット\",$J$65,\n\"\")))","v":""}]
[null,"追加商品コード"]
[null,"商 品 名",null,null,"個人名\nﾏｰｷﾝｸﾞ",{"$f":"IF(F6=\"裏メッシュ\",$G$57&\"(\"&F2&\")\",\nIF(F6=\"裏トリコット\",$G$60&\"(\"&F2&\")\",\nIF(F6=\"中綿&裏トリコット\",$G$63&\"(\"&F2&\")\",\n\"\")))","v":""},{"$f":"IF(F6=\"裏メッシュ\",$G$58&\"(\"&F2&\")\",\nIF(F6=\"裏トリコット\",$G$61&\"(\"&F2&\")\",\nIF(F6=\"中綿&裏トリコット\",$G$64&\"(\"&F2&\")\",\n\"\")))","v":""},{"$f":"IF(F6=\"裏メッシュ\",$G$59&\"(\"&F2&\")\",\nIF(F6=\"裏トリコット\",$G$62&\"(\"&F2&\")\",\nIF(F6=\"中綿&裏トリコット\",$G$65&\"(\"&F2&\")\",\n\"\")))","v":""},{"$f":"IF(I6=\"裏メッシュ\",$G$57&\"(\"&I2&\")\",\nIF(I6=\"裏トリコット\",$G$60&\"(\"&I2&\")\",\nIF(I6=\"中綿&裏トリコット\",$G$63&\"(\"&I2&\")\",\n\"\")))","v":""},{"$f":"IF(I6=\"裏メッシュ\",$G$58&\"(\"&I2&\")\",\nIF(I6=\"裏トリコット\",$G$61&\"(\"&I2&\")\",\nIF(I6=\"中綿&裏トリコット\",$G$64&\"(\"&I2&\")\",\n\"\")))","v":""},{"$f":"IF(I6=\"裏メッシュ\",$G$59&\"(\"&I2&\")\",\nIF(I6=\"裏トリコット\",$G$62&\"(\"&I2&\")\",\nIF(I6=\"中綿&裏トリコット\",$G$65&\"(\"&I2&\")\",\n\"\")))","v":""},{"$f":"IF(L6=\"裏メッシュ\",$G$57&\"(\"&L2&\")\",\nIF(L6=\"裏トリコット\",$G$60&\"(\"&L2&\")\",\nIF(L6=\"中綿&裏トリコット\",$G$63&\"(\"&L2&\")\",\n\"\")))","v":""},{"$f":"IF(L6=\"裏メッシュ\",$G$58&\"(\"&L2&\")\",\nIF(L6=\"裏トリコット\",$G$61&\"(\"&L2&\")\",\nIF(L6=\"中綿&裏トリコット\",$G$64&\"(\"&L2&\")\",\n\"\")))","v":""},{"$f":"IF(L6=\"裏メッシュ\",$G$59&\"(\"&L2&\")\",\nIF(L6=\"裏トリコット\",$G$62&\"(\"&L2&\")\",\nIF(L6=\"中綿&裏トリコット\",$G$65&\"(\"&L2&\")\",\n\"\")))","v":""},{"$f":"IF(O6=\"裏メッシュ\",$G$57&\"(\"&O2&\")\",\nIF(O6=\"裏トリコット\",$G$60&\"(\"&O2&\")\",\nIF(O6=\"中綿&裏トリコット\",$G$63&\"(\"&O2&\")\",\n\"\")))","v":""},{"$f":"IF(O6=\"裏メッシュ\",$G$58&\"(\"&O2&\")\",\nIF(O6=\"裏トリコット\",$G$61&\"(\"&O2&\")\",\nIF(O6=\"中綿&裏トリコット\",$G$64&\"(\"&O2&\")\",\n\"\")))","v":""},{"$f":"IF(O6=\"裏メッシュ\",$G$59&\"(\"&O2&\")\",\nIF(O6=\"裏トリコット\",$G$62&\"(\"&O2&\")\",\nIF(O6=\"中綿&裏トリコット\",$G$65&\"(\"&O2&\")\",\n\"\")))","v":""}]
[null,"注 文 数",null,null,{"$f":"SUM(F46:Q46)","v":0},{"$f":"SUM(F31:F44)","v":0},0,0,0,0,0,0,0,0,0,0,0]
[null,"定  価（税込）",null,null,{"$f":"$L$66","v":1080},{"$f":"IF(F6=\"裏メッシュ\",$L$57,\nIF(F6=\"裏トリコット\",$L$60,\nIF(F6=\"中綿&裏トリコット\",$L$63,\n0)))","v":0},{"$f":"IF(F6=\"裏メッシュ\",$L$58,\nIF(F6=\"裏トリコット\",$L$61,\nIF(F6=\"中綿&裏トリコット\",$L$64,\n0)))","v":0},{"$f":"IF(F6=\"裏メッシュ\",$L$59,\nIF(F6=\"裏トリコット\",$L$62,\nIF(F6=\"中綿&裏トリコット\",$L$65,\n0)))","v":0},{"$f":"IF(I6=\"裏メッシュ\",$L$57,\nIF(I6=\"裏トリコット\",$L$60,\nIF(I6=\"中綿&裏トリコット\",$L$63,\n0)))","v":0},{"$f":"IF(I6=\"裏メッシュ\",$L$58,\nIF(I6=\"裏トリコット\",$L$61,\nIF(I6=\"中綿&裏トリコット\",$L$64,\n0)))","v":0},{"$f":"IF(I6=\"裏メッシュ\",$L$59,\nIF(I6=\"裏トリコット\",$L$62,\nIF(I6=\"中綿&裏トリコット\",$L$65,\n0)))","v":0},{"$f":"IF(L6=\"裏メッシュ\",$L$57,\nIF(L6=\"裏トリコット\",$L$60,\nIF(L6=\"中綿&裏トリコット\",$L$63,\n0)))","v":0},{"$f":"IF(L6=\"裏メッシュ\",$L$58,\nIF(L6=\"裏トリコット\",$L$61,\nIF(L6=\"中綿&裏トリコット\",$L$64,\n0)))","v":0},{"$f":"IF(L6=\"裏メッシュ\",$L$59,\nIF(L6=\"裏トリコット\",$L$62,\nIF(L6=\"中綿&裏トリコット\",$L$65,\n0)))","v":0},{"$f":"IF(O6=\"裏メッシュ\",$L$57,\nIF(O6=\"裏トリコット\",$L$60,\nIF(O6=\"中綿&裏トリコット\",$L$63,\n0)))","v":0},{"$f":"IF(O6=\"裏メッシュ\",$L$58,\nIF(O6=\"裏トリコット\",$L$61,\nIF(O6=\"中綿&裏トリコット\",$L$64,\n0)))","v":0},{"$f":"IF(O6=\"裏メッシュ\",$L$59,\nIF(O6=\"裏トリコット\",$L$62,\nIF(O6=\"中綿&裏トリコット\",$L$65,\n0)))","v":0}]
[null,"販売価格（税込）",null,null,{"$f":"IF(SUM(F52:Q52)=0,0,$M$66)","v":0},{"$f":"IF(F6=\"裏メッシュ\",$M$57,\nIF(F6=\"裏トリコット\",$M$60,\nIF(F6=\"中綿&裏トリコット\",$M$63,\n0)))","v":0},{"$f":"IF(F6=\"裏メッシュ\",$M$58,\nIF(F6=\"裏トリコット\",$M$61,\nIF(F6=\"中綿&裏トリコット\",$M$64,\n0)))","v":0},{"$f":"IF(F6=\"裏メッシュ\",$M$59,\nIF(F6=\"裏トリコット\",$M$62,\nIF(F6=\"中綿&裏トリコット\",$M$65,\n0)))","v":0},{"$f":"IF(I6=\"裏メッシュ\",$M$57,\nIF(I6=\"裏トリコット\",$M$60,\nIF(I6=\"中綿&裏トリコット\",$M$63,\n0)))","v":0},{"$f":"IF(I6=\"裏メッシュ\",$M$58,\nIF(I6=\"裏トリコット\",$M$61,\nIF(I6=\"中綿&裏トリコット\",$M$64,\n0)))","v":0},{"$f":"IF(I6=\"裏メッシュ\",$M$59,\nIF(I6=\"裏トリコット\",$M$62,\nIF(I6=\"中綿&裏トリコット\",$M$65,\n0)))","v":0},{"$f":"IF(L6=\"裏メッシュ\",$M$57,\nIF(L6=\"裏トリコット\",$M$60,\nIF(L6=\"中綿&裏トリコット\",$M$63,\n0)))","v":0},{"$f":"IF(L6=\"裏メッシュ\",$M$58,\nIF(L6=\"裏トリコット\",$M$61,\nIF(L6=\"中綿&裏トリコット\",$M$64,\n0)))","v":0},{"$f":"IF(L6=\"裏メッシュ\",$M$59,\nIF(L6=\"裏トリコット\",$M$62,\nIF(L6=\"中綿&裏トリコット\",$M$65,\n0)))","v":0},{"$f":"IF(O6=\"裏メッシュ\",$M$57,\nIF(O6=\"裏トリコット\",$M$60,\nIF(O6=\"中綿&裏トリコット\",$M$63,\n0)))","v":0},{"$f":"IF(O6=\"裏メッシュ\",$M$58,\nIF(O6=\"裏トリコット\",$M$61,\nIF(O6=\"中綿&裏トリコット\",$M$64,\n0)))","v":0},{"$f":"IF(O6=\"裏メッシュ\",$M$59,\nIF(O6=\"裏トリコット\",$M$62,\nIF(O6=\"中綿&裏トリコット\",$M$65,\n0)))","v":0}]
[null,"商品金額小計（税込）",null,null,{"$f":"E52*E50","v":0},{"$f":"F52*F50","v":0},{"$f":"G52*G50","v":0},{"$f":"H52*H50","v":0},{"$f":"I52*I50","v":0},0,0,0,0,0,0,0,0]
[null,null,null,null,null,{"$f":"IF(AND(F47=\"\",F50>0),\"↑注文エラー\",\"\")","v":""},{"$f":"IF(AND(G47=\"\",G50>0),\"↑注文エラー\",\"\")","v":""},"","","","","","","","","",""]
[null,"■ 簡易見積表",null,null,null,null,"■ 料金について（金額は税込定価です）"]
[null,"商 品 合 計",null,{"$f":"SUM(F50:Q50)","v":0},{"$f":"SUM(F53:Q53)","v":0},null,"商品名",null,null,"代表商品コード",null,"定価(税込)","売価(税込)","掛率(X10%)","注文数"]
[null,"マーキング代合計",null,null,{"$f":"E53","v":0},null,"セミオーダー昇華ウインドブレーカートップ裏メッシュ",null,null,"ag-wjm",null,10800,{"$f":"ROUND(L57*N57*0.1,0)","v":10800},10,{"$f":"SUMIF($F$47:$Q$47,J57,$F$50:$Q$50)","v":0}]
[null,"送 料",null,null,{"$f":"IF(AND((E57+E56)>0,(E57+E56)<10800),L71,0)","v":0},null,"セミオーダー昇華フード付ウインドブレーカートップ裏メッシュ",null,null,"ag-wfm",null,11880,{"$f":"ROUND(L58*N58*0.1,0)","v":11880},{"$f":"$N$57","v":10},{"$f":"SUMIF($F$47:$Q$47,J58,$F$50:$Q$50)","v":0}]
[null," ―",null,null,0,null,"セミオーダー昇華ウインドブレーカーパンツ裏メッシュ",null,null,"ag-wpm",null,10800,10800,{"$f":"$N$57","v":10},0]
[null,"合計金額（税込）",null,null,{"$f":"SUM(E56:E59)","v":0},null,"セミオーダー昇華ウインドブレーカートップ裏トリコット",null,null,"ag-wjt",null,11880,11880,{"$f":"$N$57","v":10},0]
[null,"税抜金額",null,null,{"$f":"E59-E62","v":0},null,"セミオーダー昇華フード付ウインドブレーカートップ裏トリコット",null,null,"ag-wft",null,12960,{"$f":"ROUND(L61*N61*0.1,0)","v":12960},10,0]
[null,0.08,null,null,{"$f":"E59-ROUND(E59/(1+B62),0)","v":0},null,"セミオーダー昇華ウインドブレーカーパンツ裏トリコット",null,null,"ag-wpt",null,11880,11880,10,0]
[null,null,null,null,null,null,"セミオーダー昇華ウインドブレーカートップ中綿&裏トリコット",null,null,"ag-wjw",null,14040,14040,10,0]
[null,null,null,null,null,null,"セミオーダー昇華フード付ウインドブレーカートップ中綿&裏トリコット",null,null,"ag-wfw",null,15120,{"$f":"ROUND(L64*N64*0.1,0)","v":15120},10,0]
[null,null,null,null,null,null,"セミオーダー昇華ウインドブレーカーパンツ中綿&裏トリコット",null,null,"ag-wpw",null,14040.000000000002,14040,10,0]
[null,null,null,null,null,null,"マーキング","個人名",null,"ag-name1000",null,1080,{"$f":"ROUND(L66*N66*0.1,0)","v":1080},10,{"$f":"E50","v":0}]
[null,{"$f":"IF(F30<>\"\",\"ご注意\",\"\")","v":""},null,null,null,null,"マーキング","背/胸/パンツ番号",null,"無料サービス",null,0,{"$f":"ROUND(L67*N67*0.1,0)","v":0},10]
[null,{"$f":"IF(F30<>\"\",F30,\"\")","v":""},null,null,null,null,"マーキング","エンブレム",null,"無料サービス",null,0,{"$f":"ROUND(L68*N68*0.1,0)","v":0},10]
[null,null,null,null,null,null,"マーキング","チーム名",null,"無料サービス",null,0,{"$f":"ROUND(L69*N69*0.1,0)","v":0},10]
[null,null,null,null,null,null,"マーキング","スポンサーバナー",null,"無料サービス",null,0,{"$f":"ROUND(L70*N70*0.1,0)","v":0},10]
[null,null,null,null,null,null,"送料（税込10,800円以上で送料無料）",null,null,null,null,540]

{"sheet":"プラシャツ","index":8,"n_rows":77,"n_cols":23,"rows_kept":77,"cut":false,"hidden":true,"merged":[[5,9,5,12],[5,13,5,16],[5,17,5,20],[59,6,59,8],[59,9,59,10],[28,5,28,16],[28,17,28,18],[69,1,69,4],[69,7,69,8],[69,9,69,10],[70,1,76,4],[71,7,71,8],[71,9,71,10],[72,7,72,8],[72,9,72,10],[76,6,76,10],[74,7,74,8],[74,9,74,10],[75,6,75,8],[75,9,75,10],[73,7,73,8],[73,9,73,10],[67,7,67,8],[67,9,67,10],[68,7,68,8],[68,9,68,10],[70,7,70,8],[70,9,70,10],[65,1,65,3],[65,7,65,8],[65,9,65,10],[66,7,66,8],[66,9,66,10],[64,1,64,3],[63,6,63,8],[63,9,63,10],[62,1,62,3],[63,1,63,3],[64,7,64,8],[64,9,64,10],[62,6,62,8],[62,9,62,10],[59,1,59,2],[60,1,60,3],[60,6,60,8],[60,9,60,10],[61,1,61,3],[61,6,61,8],[61,9,61,10],[52,1,52,3],[53,1,53,3],[54,1,54,3],[55,1,55,3],[56,1,56,3],[1,21,1,22],[2,21,2,22],[3,1,5,3],[51,1,51,3],[1,0,3,0],[1,1,2,3],[50,1,50,3],[48,1,48,3],[49,1,49,3],[46,1,46,3],[47,1,47,3],[3,21,5,22],[29,1,29,3],[45,1,45,3],[28,21,28,22],[5,5,5,8]]}
[]
["お客様記入→","agrina\nプラシャツ\n注文書",null,null,"種　別","カラー１",null,null,null,"カラー２",null,null,null,"カラー３",null,null,null,"カラー４",null,null,null,"メモ欄 "]
[null,null,null,null,"画　像"]
[null,{"$f":"IF(ご注文者様チーム名=\"\",\"「メインメニュー」のご注文者様情報をご記入ください。\",ご注文者様チーム名)","v":"「メインメニュー」のご注文者様情報をご記入ください。"},null,null,"名　称","半袖シャツ","長袖シャツ","パンツ","ソックス","半袖シャツ","長袖シャツ","パンツ","ソックス","半袖シャツ","長袖シャツ","パンツ","ソックス","半袖シャツ","長袖シャツ","パンツ","ソックス","　３Dシミュレーターの「デザインを保存\n　する」ボタンをクリックして表示される\n☜「デザインURL」を貼り付けて下さい。"]
["非表示",null,null,null,"商品コード",{"$f":"IF(F53>0,IF(F48=\"\",\"追加商品コード未記入\",F47&F48),\"\")","v":""},"","","","","","","","","","","","","","",""]
["➡",null,null,null,"デザイン\nURL","入力してください",null,null,null,"入力してください",null,null,null,"入力してください",null,null,null,"入力してください"]
[null,"#","注文者氏名",{"$f":"\"マーキング名\"","v":"マーキング名"},"背番号","サイズ",null,null,null,"サイズ",null,null,null,"サイズ",null,null,null,"サイズ",null,null,null,"個人別価格","備考(お客様使用)"]
[null,"例","加藤貴行","T.KATO",10,"M","M","L","25x27","M","M","L","25x27"]
["➡",1,null,null,null,null,null,null,null,null,null,null,null,null,null,null,null,null,null,null,null,{"$f":"SUMIF(F9:U9,\"<>\",$F$55:$U$55)","v":0}]
[null,2,null,null,null,null,null,null,null,null,null,null,null,null,null,null,null,null,null,null,null,0]
[null,3,null,null,null,null,null,null,null,null,null,null,null,null,null,null,null,null,null,null,null,0]
[null,4,null,null,null,null,null,null,null,null,null,null,null,null,null,null,null,null,null,null,null,0]
[null,5,null,null,null,null,null,null,null,null,null,null,null,null,null,null,null,null,null,null,null,0]
[null,6,null,null,null,null,null,null,null,null,null,null,null,null,null,null,null,null,null,null,null,0]
[null,7,null,null,null,null,null,null,null,null,null,null,null,null,null,null,null,null,null,null,null,0]
[null,8,null,null,null,null,null,null,null,null,null,null,null,null,null,null,null,null,null,null,null,0]
[null,9,null,null,null,null,null,null,null,null,null,null,null,null,null,null,null,null,null,null,null,0]
[null,10,null,null,null,null,null,null,null,null,null,null,null,null,null,null,null,null,null,null,null,0]
[null,11,null,null,null,null,null,null,null,null,null,null,null,null,null,null,null,null,null,null,null,0]
[null,12,null,null,null,null,null,null,null,null,null,null,null,null,null,null,null,null,null,null,null,0]
[null,13,null,null,null,null,null,null,null,null,null,null,null,null,null,null,null,null,null,null,null,0]
[null,14,null,null,null,null,null,null,null,null,null,null,null,null,null,null,null,null,null,null,null,0]
[null,15,null,null,null,null,null,null,null,null,null,null,null,null,null,null,null,null,null,null,null,0]
[null,16,null,null,null,null,null,null,null,null,null,null,null,null,null,null,null,null,null,null,null,0]
[null,17,null,null,null,null,null,null,null,null,null,null,null,null,null,null,null,null,null,null,null,0]
[null,18,null,null,null,null,null,null,null,null,null,null,null,null,null,null,null,null,null,null,null,0]
[null,19,null,null,null,null,null,null,null,null,null,null,null,null,null,null,null,null,null,null,null,0]
[null,20,null,null,null,null,null,null,null,null,null,null,null,null,null,null,null,null,null,null,null,0]
[null,null,null,null,null,{"$f":"IF(O61>0,\"※マーキング代が別途かかります。ご注文受付後に金額をご案内いたします。 \",\"\") & IF(COUNTIF(F58:Q58,\"?*\")>0,\"※素材を選択して下さい。 \",\"\") &\nIF(SUM(F57:U57)>0,\"※少量生産手数料が加算されています。(シャツ[素材別]・パンツ４着以下。ソックス５足以下。)\",\"\")","v":""},null,null,null,null,null,null,null,null,null,null,null,null,null,null,null,"※ 個人別価格にマーキング代・手数料・送料は含まれていません。"]
[null,"注 文 集 計",null,null,120,{"$f":"COUNTIF(F$9:F$28,$E30)","v":0},null,null,null,{"$f":"COUNTIF(J$9:J$28,$E30)","v":0},null,null,null,{"$f":"COUNTIF(N$9:N$28,$E30)","v":0},null,null,null,{"$f":"COUNTIF(R$9:R$28,$E30)","v":0}]
[null,null,null,null,130,{"$f":"COUNTIF(F$9:F$28,$E31)","v":0},null,null,null,0,null,null,null,0,null,null,null,0]
[null,null,null,null,140,{"$f":"COUNTIF(F$9:F$28,$E32)","v":0},{"$f":"COUNTIF(G$9:G$28,$E32)","v":0},{"$f":"COUNTIF(H$9:H$28,$E32)","v":0},null,0,{"$f":"COUNTIF(K$9:K$28,$E32)","v":0},{"$f":"COUNTIF(L$9:L$28,$E32)","v":0},null,0,{"$f":"COUNTIF(O$9:O$28,$E32)","v":0},{"$f":"COUNTIF(P$9:P$28,$E32)","v":0},null,0,{"$f":"COUNTIF(S$9:S$28,$E32)","v":0},{"$f":"COUNTIF(T$9:T$28,$E32)","v":0}]
[null,null,null,null,150,0,0,{"$f":"COUNTIF(H$9:H$28,$E33)","v":0},null,0,{"$f":"COUNTIF(K$9:K$28,$E33)","v":0},{"$f":"COUNTIF(L$9:L$28,$E33)","v":0},null,0,{"$f":"COUNTIF(O$9:O$28,$E33)","v":0},{"$f":"COUNTIF(P$9:P$28,$E33)","v":0},null,0,{"$f":"COUNTIF(S$9:S$28,$E33)","v":0},{"$f":"COUNTIF(T$9:T$28,$E33)","v":0}]
[null,null,null,null,"SS",0,0,0,null,0,0,0,null,0,0,0,null,0,0,0]
[null,null,null,null,"S",0,0,0,null,0,0,0,null,0,0,0,null,0,0,0]
[null,null,null,null,"M",0,0,0,null,0,0,0,null,0,0,0,null,0,0,0]
[null,null,null,null,"L",0,0,0,null,0,0,0,null,0,0,0,null,0,0,0]
[null,null,null,null,"XL",0,0,0,null,0,0,0,null,0,0,0,null,0,0,0]
[null,null,null,null,"3L",0,0,0,null,0,0,0,null,0,0,0,null,0,0,0]
[null,null,null,null,"4L",0,0,0,null,0,0,0,null,0,0,0,null,0,0,0]
[null,null,null,null,"5L",0,0,0,null,0,0,0,null,0,0,0,null,0,0,0]
[null,null,null,null,"19x21",null,null,null,{"$f":"COUNTIF(I$9:I$28,$E42)","v":0},null,null,null,{"$f":"COUNTIF(M$9:M$28,$E42)","v":0},null,null,null,{"$f":"COUNTIF(Q$9:Q$28,$E42)","v":0},null,null,null,{"$f":"COUNTIF(U$9:U$28,$E42)","v":0}]
[null,null,null,null,"22x24",null,null,null,{"$f":"COUNTIF(I$9:I$28,$E43)","v":0},null,null,null,{"$f":"COUNTIF(M$9:M$28,$E43)","v":0},null,null,null,{"$f":"COUNTIF(Q$9:Q$28,$E43)","v":0},null,null,null,{"$f":"COUNTIF(U$9:U$28,$E43)","v":0}]
[null,null,null,null,"25x27",null,null,null,{"$f":"COUNTIF(I$9:I$28,$E44)","v":0},null,null,null,{"$f":"COUNTIF(M$9:M$28,$E44)","v":0},null,null,null,{"$f":"COUNTIF(Q$9:Q$28,$E44)","v":0},null,null,null,{"$f":"COUNTIF(U$9:U$28,$E44)","v":0}]
[null,null,null,null,"27x29",null,null,null,{"$f":"COUNTIF(I$9:I$28,$E45)","v":0},null,null,null,{"$f":"COUNTIF(M$9:M$28,$E45)","v":0},null,null,null,{"$f":"COUNTIF(Q$9:Q$28,$E45)","v":0},null,null,null,{"$f":"COUNTIF(U$9:U$28,$E45)","v":0}]
[null,"マーキング",null,null,"個人名",{"$f":"COUNTIFS($D$9:$D$28,\"<>\",F$9:F$28,\"<>\")","v":0},null,null,null,{"$f":"COUNTIFS($D$9:$D$28,\"<>\",J$9:J$28,\"<>\")","v":0},null,null,null,{"$f":"COUNTIFS($D$9:$D$28,\"<>\",N$9:N$28,\"<>\")","v":0},null,null,null,{"$f":"COUNTIFS($D$9:$D$28,\"<>\",R$9:R$28,\"<>\")","v":0}]
[null,"代表商品コード",null,null,null,{"$f":"$J$61","v":"ag-ss"},{"$f":"$J$62","v":"ag-sl"},{"$f":"$J$63","v":"ag-sp"},{"$f":"$J$64","v":"ag-st"},{"$f":"$J$61","v":"ag-ss"},{"$f":"$J$62","v":"ag-sl"},{"$f":"$J$63","v":"ag-sp"},{"$f":"$J$64","v":"ag-st"},{"$f":"$J$61","v":"ag-ss"},{"$f":"$J$62","v":"ag-sl"},{"$f":"$J$63","v":"ag-sp"},{"$f":"$J$64","v":"ag-st"},{"$f":"$J$61","v":"ag-ss"},{"$f":"$J$62","v":"ag-sl"},{"$f":"$J$63","v":"ag-sp"},{"$f":"$J$64","v":"ag-st"}]
[null,"追加商品コード",null,null,"　"]
[null,"agrinaボディカラー",null,null,"　"]
["非表示","Tomsボディ品番",null,null,"　","00300-ACT","00304-ALT","00325-ACP",null,"00300-ACT","00304-ALT","00325-ACP",null,"00300-ACT","00304-ALT","00325-ACP",null,"00300-ACT","00304-ALT","00325-ACP"]
["非表示","Tomsボディカラー",null,null,"　",{"$f":"IFERROR(TEXT(VALUE(LEFT(F49,3))-10,\"000\") & MID(F49,4,99),\"\")","v":""},{"$f":"IFERROR(TEXT(VALUE(LEFT(G49,3))-10,\"000\") & MID(G49,4,99),\"\")","v":""},{"$f":"IFERROR(TEXT(VALUE(LEFT(H49,3))-10,\"000\") & MID(H49,4,99),\"\")","v":""},null,{"$f":"IFERROR(TEXT(VALUE(LEFT(J49,3))-10,\"000\") & MID(J49,4,99),\"\")","v":""},{"$f":"IFERROR(TEXT(VALUE(LEFT(K49,3))-10,\"000\") & MID(K49,4,99),\"\")","v":""},{"$f":"IFERROR(TEXT(VALUE(LEFT(L49,3))-10,\"000\") & MID(L49,4,99),\"\")","v":""},null,{"$f":"IFERROR(TEXT(VALUE(LEFT(N49,3))-10,\"000\") & MID(N49,4,99),\"\")","v":""},{"$f":"IFERROR(TEXT(VALUE(LEFT(O49,3))-10,\"000\") & MID(O49,4,99),\"\")","v":""},{"$f":"IFERROR(TEXT(VALUE(LEFT(P49,3))-10,\"000\") & MID(P49,4,99),\"\")","v":""},null,{"$f":"IFERROR(TEXT(VALUE(LEFT(R49,3))-10,\"000\") & MID(R49,4,99),\"\")","v":""},{"$f":"IFERROR(TEXT(VALUE(LEFT(S49,3))-10,\"000\") & MID(S49,4,99),\"\")","v":""},{"$f":"IFERROR(TEXT(VALUE(LEFT(T49,3))-10,\"000\") & MID(T49,4,99),\"\")","v":""}]
[null,"商 品 名",null,null,null,{"$f":"$G$61& \"(\"&F2&\")\"","v":"セミオーダープラシャツ半袖(カラー１)"},{"$f":"$G$62& \"(\"&F2&\")\"","v":"セミオーダープラシャツ長袖(カラー１)"},{"$f":"$G$63& \"(\"&F2&\")\"","v":"セミオーダープラパンツ(カラー１)"},{"$f":"$G$64& \"(\"&F2&\")\"","v":"セミオーダーソックス(カラー１)"},{"$f":"$G$61& \"(\"&J2&\")\"","v":"セミオーダープラシャツ半袖(カラー２)"},{"$f":"$G$62& \"(\"&J2&\")\"","v":"セミオーダープラシャツ長袖(カラー２)"},{"$f":"$G$63& \"(\"&J2&\")\"","v":"セミオーダープラパンツ(カラー２)"},{"$f":"$G$64& \"(\"&J2&\")\"","v":"セミオーダーソックス(カラー２)"},{"$f":"$G$61& \"(\"&N2&\")\"","v":"セミオーダープラシャツ半袖(カラー３)"},{"$f":"$G$62& \"(\"&N2&\")\"","v":"セミオーダープラシャツ長袖(カラー３)"},{"$f":"$G$63& \"(\"&N2&\")\"","v":"セミオーダープラパンツ(カラー３)"},{"$f":"$G$64& \"(\"&N2&\")\"","v":"セミオーダーソックス(カラー３)"},{"$f":"$G$61& \"(\"&R2&\")\"","v":"セミオーダープラシャツ半袖(カラー４)"},{"$f":"$G$62& \"(\"&R2&\")\"","v":"セミオーダープラシャツ長袖(カラー４)"},{"$f":"$G$63& \"(\"&R2&\")\"","v":"セミオーダープラパンツ(カラー４)"},{"$f":"$G$64& \"(\"&R2&\")\"","v":"セミオーダーソックス(カラー４)"}]
[null,"注 文 数",null,null,null,{"$f":"SUM(F30:F45)","v":0},{"$f":"SUM(G30:G45)","v":0},0,0,0,0,0,0,0,0,0,0,0,0,0,0]
[null,"定  価（税込）",null,null,null,{"$f":"$L$61","v":3780},{"$f":"$L$62","v":4500},{"$f":"$L$63","v":3996},{"$f":"$L$64","v":1944},{"$f":"$L$61","v":3780},{"$f":"$L$62","v":4500},{"$f":"$L$63","v":3996},{"$f":"$L$64","v":1944},{"$f":"$L$61","v":3780},{"$f":"$L$62","v":4500},{"$f":"$L$63","v":3996},{"$f":"$L$64","v":1944},{"$f":"$L$61","v":3780},{"$f":"$L$62","v":4500},{"$f":"$L$63","v":3996},{"$f":"$L$64","v":1944}]
[null,"販売価格（税込）",null,null,null,{"$f":"$M$61","v":3780},{"$f":"$M$62","v":4500},{"$f":"$M$63","v":3996},{"$f":"$M$64","v":1944},{"$f":"$M$61","v":3780},{"$f":"$M$62","v":4500},{"$f":"$M$63","v":3996},{"$f":"$M$64","v":1944},{"$f":"$M$61","v":3780},{"$f":"$M$62","v":4500},{"$f":"$M$63","v":3996},{"$f":"$M$64","v":1944},{"$f":"$M$61","v":3780},{"$f":"$M$62","v":4500},{"$f":"$M$63","v":3996},{"$f":"$M$64","v":1944}]
[null,"商品金額小計（税込）",null,null,null,{"$f":"F55*F53","v":0},{"$f":"G55*G53","v":0},0,0,0,0,0,0,0,0,0,0,0,0,0,0]
[null,"少量生産手数料（税込）",null,null,null,{"$f":"IF(AND($O$61>0,$O$61<5),$M$76,0)","v":0},{"$f":"IF(AND($O$62>0,$O$62<5),$M$76,0)","v":0},{"$f":"IF(AND($O$63>0,$O$63<5),$M$76,0)","v":0},{"$f":"IF(AND($O$64>0,$O$64<6),$M$76,0)","v":0}]
[null,null,null,null,null,{"$f":"IF(AND(F52=\"\",F53>0),\"↑注文エラー\",\"\")","v":""},null,null,{"$f":"IF(AND(J52=\"\",J53>0),\"↑注文エラー\",\"\")","v":""},null,null,{"$f":"IF(AND(N52=\"\",N53>0),\"↑注文エラー\",\"\")","v":""},null,null,{"$f":"IF(AND(R52=\"\",R53>0),\"↑注文エラー\",\"\")","v":""}]
[null,"■ 簡易見積表",null,null,null,null,"■ 料金について（金額は税込定価です）"]
[null,"商 品 合 計",null,{"$f":"SUM(F53:U53)","v":0},{"$f":"SUM(F56:U56)+SUM(F57:U57)","v":0},null,"商品名",null,null,"代表商品コード",null,"定価(税込)","売価(税込)","掛率(X10%)","注文数"]
[null,"マーキング代別途",null,null,null,null,"セミオーダープラシャツ半袖",null,null,"ag-ss",null,3780,{"$f":"ROUND(L61*N61*0.1,0)","v":3780},10,{"$f":"SUMIF(F$47:U$47,J61,F$53:U$53)","v":0}]
[null,"送 料",null,null,{"$f":"IF(AND((E61+E60)>0,(E61+E60)<10800),$L$77,0)","v":0},null,"セミオーダープラシャツ長袖",null,null,"ag-sl",null,4500,{"$f":"ROUND(L62*N62*0.1,0)","v":4500},{"$f":"$N$61","v":10},{"$f":"SUMIF(F$47:U$47,J62,F$53:U$53)","v":0}]
[null," ―",null,null,0,null,"セミオーダープラパンツ",null,null,"ag-sp",null,3996,3996,{"$f":"$N$61","v":10},{"$f":"SUMIF(F$47:U$47,J63,F$53:U$53)","v":0}]
[null,"合計金額（税込）",null,null,{"$f":"SUM(E60:E63)","v":0},null,"セミオーダーソックス",null,null,"ag-st",null,1944,1944,{"$f":"$N$61","v":10},{"$f":"SUMIF(F$47:U$47,J64,F$53:U$53)","v":0}]
[null,"税抜金額",null,null,{"$f":"E63-E66","v":0},null,"マーキング","個人名",null,"ag-name1000",null,1080,1080,{"$f":"$N$61","v":10}]
[null,0.08,null,null,{"$f":"E63-ROUND(E63/(1+B66),0)","v":0},null,"マーキング","胸番号 １桁",null,"mark-500",null,540,540,{"$f":"$N$61","v":10}]
[null,null,null,null,null,null,"マーキング","胸番号 ２桁",null,"mark-800",null,864,864,10]
[null,null,null,null,null,null,"マーキング","背番号 １桁",null,"mark-800",null,864,864,10]
[null,null,null,null,null,null,"マーキング","背番号 ２桁",null,"mark-1500",null,1620,1620,10]
[null,{"$f":"IF(F29<>\"\",\"ご注意\",\"\")","v":""},null,null,null,null,"マーキング","パンツ番号 １桁",null,"mark-500",null,540,540,10]
[null,{"$f":"IF(F29<>\"\",F29,\"\")","v":""},null,null,null,null,"マーキング","パンツ番号 ２桁",null,"mark-800",null,864,864,10]
[null,null,null,null,null,null,"マーキング","エンブレム",null,"mark-1500",null,1620,1620,10]
[null,null,null,null,null,null,"マーキング","チーム名",null,"mark-1500",null,1620,1620,10]
[null,null,null,null,null,null,"マーキング","スポンサーバナー",null,"mark-2000",null,2400,2400,10]
[null,null,null,null,null,null,"マーキング","メッセージ",null,"mark-1500",null,1620,1620,10]
[null,null,null,null,null,null,"少量生産手数料",null,null,"ag-fee",null,2160,2160,10,{"$f":"COUNTIF(F57:I57,\">0\")","v":0}]
[null,null,null,null,null,null,"送料（税込10,800円以上で送料無料）",null,null,null,null,540]

{"sheet":"プラシャツ(未使用)","index":9,"n_rows":79,"n_cols":45,"rows_kept":79,"cut":false,"hidden":true,"merged":[[73,1,73,4],[70,7,70,8],[71,7,71,8],[66,6,66,8],[67,1,67,3],[68,1,68,3],[68,7,68,8],[77,7,77,8],[77,9,77,10],[78,6,78,10],[76,7,76,8],[76,9,76,10],[62,9,62,10],[72,9,72,10],[70,9,70,10],[71,9,71,10],[65,9,65,10],[66,9,66,10],[68,9,68,10],[69,9,69,10],[67,9,67,10],[75,9,75,10],[74,9,74,10],[73,9,73,10],[64,9,64,10],[63,9,63,10],[74,1,76,4],[63,1,63,3],[62,6,62,8],[73,7,73,8],[74,7,74,8],[75,7,75,8],[63,6,63,8],[64,1,64,3],[64,6,64,8],[65,6,65,8],[72,7,72,8],[69,7,69,8],[62,1,62,2],[67,7,67,8],[65,1,65,3],[66,1,66,3],[52,1,52,3],[1,0,3,0],[10,13,10,16],[1,17,1,18],[10,5,10,8],[10,9,10,12],[1,1,3,3],[5,1,10,3],[2,17,3,18],[5,17,10,18],[33,17,33,18],[34,1,34,3],[53,1,53,3],[56,1,56,3],[58,1,58,3],[59,1,59,3],[54,1,54,3],[55,1,55,3],[57,1,57,3]]}
[]
["お客様記入→","agrina\nプラシャツ注文書",null,null,"種　別","カラー１",null,null,null,"カラー２",null,null,null,"カラー３",null,null,null,"メモ欄 "]
[null,null,null,null,"画　像"]
[null,null,null,null,"名　称","半袖シャツ","長袖シャツ","パンツ","ソックス","半袖シャツ","長袖シャツ","パンツ","ソックス","半袖シャツ","長袖シャツ","パンツ","ソックス",null,null,null,null,"半袖シャツ","長袖シャツ","パンツ","ソックス","半袖シャツ","長袖シャツ","パンツ","ソックス","半袖シャツ","長袖シャツ","パンツ","ソックス"]
[null,null,null,null,"商品コード",{"$f":"IF(F57>0,IF(F55=\"\",\"追加商品コード未記入\",F54&F55),\"\")","v":""},{"$f":"IF(G57>0,IF(G55=\"\",\"追加商品コード未記入\",G54&G55),\"\")","v":""},"","",{"$f":"IF(J57>0,IF(J55=\"\",\"追加商品コード未記入\",J54&J55),\"\")","v":""},"","","",{"$f":"IF(N57>0,IF(N55=\"\",\"追加商品コード未記入\",N54&N55),\"\")","v":""},"","",""]
["➡",{"$f":"IF(ご注文者様チーム名=\"\",\"「メインメニュー」のご注文者様情報をご記入ください。\",ご注文者様チーム名)","v":"「メインメニュー」のご注文者様情報をご記入ください。"},null,null,"番　号","選択して下さい","選択して下さい","選択して下さい",null,"選択して下さい","選択して下さい","選択して下さい",null,"選択して下さい","選択して下さい","選択して下さい",null,"　３Dシミュレーターの「デザインを保存\n　する」ボタンをクリックして表示される\n☜「デザインURL」を貼り付けて下さい。",null,null,"番号種別",{"$f":"IF(F6=\"番号胸背\",1,IF(F6=\"番号胸のみ\",2,IF(F6=\"番号背のみ\",3,IF(F6=\"番号なし\",4,0))))","v":0},{"$f":"IF(G6=\"番号胸背\",1,IF(G6=\"番号胸のみ\",2,IF(G6=\"番号背のみ\",3,IF(G6=\"番号なし\",4,0))))","v":0},{"$f":"IF(H6=\"番号有\",1,0)","v":0},null,{"$f":"IF(J6=\"番号胸背\",1,IF(J6=\"番号胸のみ\",2,IF(J6=\"番号背のみ\",3,IF(J6=\"番号なし\",4,0))))","v":0},{"$f":"IF(K6=\"番号胸背\",1,IF(K6=\"番号胸のみ\",2,IF(K6=\"番号背のみ\",3,IF(K6=\"番号なし\",4,0))))","v":0},{"$f":"IF(L6=\"番号有\",1,0)","v":0},null,{"$f":"IF(N6=\"番号胸背\",1,IF(N6=\"番号胸のみ\",2,IF(N6=\"番号背のみ\",3,IF(N6=\"番号なし\",4,0))))","v":0},{"$f":"IF(O6=\"番号胸背\",1,IF(O6=\"番号胸のみ\",2,IF(O6=\"番号背のみ\",3,IF(O6=\"番号なし\",4,0))))","v":0},{"$f":"IF(P6=\"番号有\",1,0)","v":0},null,"←1:胸背,2:胸のみ,3:背のみ"]
["➡",null,null,null,"エンブレム","選択して下さい","選択して下さい","選択して下さい",null,"選択して下さい","選択して下さい","選択して下さい",null,"選択して下さい","選択して下さい","選択して下さい",null,null,null,null,null,{"$f":"IF(F7=\"エンブレム有\",$M$75,0)","v":0},{"$f":"IF(G7=\"エンブレム有\",$M$75,0)","v":0},{"$f":"IF(H7=\"エンブレム有\",$M$75,0)","v":0},null,{"$f":"IF(J7=\"エンブレム有\",$M$75,0)","v":0},{"$f":"IF(K7=\"エンブレム有\",$M$75,0)","v":0},{"$f":"IF(L7=\"エンブレム有\",$M$75,0)","v":0},null,{"$f":"IF(N7=\"エンブレム有\",$M$75,0)","v":0},{"$f":"IF(O7=\"エンブレム有\",$M$75,0)","v":0},{"$f":"IF(P7=\"エンブレム有\",$M$75,0)","v":0}]
["➡",null,null,null,"チーム名","選択して下さい","選択して下さい",null,null,"選択して下さい","選択して下さい",null,null,"選択して下さい","選択して下さい",null,null,null,null,null,null,{"$f":"IF(F8=\"チーム名有\",$M$76,0)","v":0},{"$f":"IF(G8=\"チーム名有\",$M$76,0)","v":0},null,null,{"$f":"IF(J8=\"チーム名有\",$M$76,0)","v":0},{"$f":"IF(K8=\"チーム名有\",$M$76,0)","v":0},null,null,{"$f":"IF(N8=\"チーム名有\",$M$76,0)","v":0},{"$f":"IF(O8=\"チーム名有\",$M$76,0)","v":0}]
["➡",null,null,null,"メッセージ","選択して下さい","選択して下さい",null,null,"選択して下さい","選択して下さい",null,null,"選択して下さい","選択して下さい",null,null,null,null,null,null,{"$f":"IF(F9=\"メッセージ有\",$M$78,0)","v":0},{"$f":"IF(G9=\"メッセージ有\",$M$78,0)","v":0},null,null,{"$f":"IF(J9=\"メッセージ有\",$M$78,0)","v":0},{"$f":"IF(K9=\"メッセージ有\",$M$78,0)","v":0},null,null,{"$f":"IF(N9=\"メッセージ有\",$M$78,0)","v":0},{"$f":"IF(O9=\"メッセージ有\",$M$78,0)","v":0}]
["➡",null,null,null,"スポンサーバナー","選択して下さい","選択して下さい",null,null,"選択して下さい","選択して下さい",null,null,"選択して下さい","選択して下さい",null,null,null,null,null,null,{"$f":"IF(F10=\"スポンサー有\",$M$77,0)","v":0},{"$f":"IF(G10=\"スポンサー有\",$M$77,0)","v":0},null,null,{"$f":"IF(J10=\"スポンサー有\",$M$77,0)","v":0},{"$f":"IF(K10=\"スポンサー有\",$M$77,0)","v":0},null,null,{"$f":"IF(N10=\"スポンサー有\",$M$77,0)","v":0},{"$f":"IF(O10=\"スポンサー有\",$M$77,0)","v":0}]
["➡",null,null,null,"デザイン\nURL","入力してください",null,null,null,"入力してください",null,null,null,"入力してください",null,null,null,null,null,null,null,{"$f":"SUM(V7:V10)","v":0},{"$f":"SUM(W7:W10)","v":0},{"$f":"SUM(X7:X10)","v":0},null,{"$f":"SUM(Z7:Z10)","v":0},{"$f":"SUM(AA7:AA10)","v":0},{"$f":"SUM(AB7:AB10)","v":0},null,{"$f":"SUM(AD7:AD10)","v":0},{"$f":"SUM(AE7:AE10)","v":0},{"$f":"SUM(AF7:AF10)","v":0}]
[null,"#","注文者氏名","マーキング名","背番号","サイズ",null,null,null,"サイズ",null,null,null,"サイズ",null,null,null,"個人別価格","備考(お客様使用)",null,null,"半袖シャツ","長袖シャツ","パンツ","ソックス","半袖シャツ","長袖シャツ","パンツ","ソックス","半袖シャツ","長袖シャツ","パンツ","ソックス"]
[null,"例","加藤貴行","T.KATO",10,"M","M","L","25x27","M","M","L","25x27",null,null,null,null,null,null,null,null,null,null,null,null,null,null,null,null,null,null,null,null,null,"個人名","胸番号 １桁","胸番号 ２桁","背番号 １桁","背番号 ２桁","パンツ番号 １桁","パンツ番号 ２桁","エンブレム","チーム名","メッセージ","スポンサーバナー"]
["➡",1,null,null,null,null,null,null,null,null,null,null,null,null,null,null,null,{"$f":"SUM(V14:AG14)","v":0},null,null,{"$f":"LEN(t_プラシャツ[[#This Row],[列3]])","v":0},{"$f":"IF(LEN(t_プラシャツ[[#This Row],[列4]])>0,\n$F$59+V$11+\nIF(LEN(t_プラシャツ[[#This Row],[列2]])>0,$E$59,0)+\nIF(AND(V$6=1,$U14=1),$M$69+$M$71,\nIF(AND(V$6=1,$U14>1),$M$70+$M$72,\nIF(AND(V$6=2,$U14=1),$M$69,\nIF(AND(V$6=2,$U14>1),$M$70,\nIF(AND(V$6=3,$U14=1),$M$71,\nIF(AND(V$6=3,$U14>1),$M$72,\n0)))))),0)","v":0},{"$f":"IF(LEN(t_プラシャツ[[#This Row],[列5]])>0,\n$G$59+W$11+\nIF(LEN(t_プラシャツ[[#This Row],[列2]])>0,$E$59,0)+\nIF(AND(W$6=1,$U14=1),$M$69+$M$71,\nIF(AND(W$6=1,$U14>1),$M$70+$M$72,\nIF(AND(W$6=2,$U14=1),$M$69,\nIF(AND(W$6=2,$U14>1),$M$70,\nIF(AND(W$6=3,$U14=1),$M$71,\nIF(AND(W$6=3,$U14>1),$M$72,\n0)))))),0)","v":0},{"$f":"IF(LEN(t_プラシャツ[[#This Row],[列6]])>0,\n$H$59+X$11+\nIF(AND(X$6=1,$U14=1),$M$73,\nIF(AND(X$6=1,$U14>1),$M$74,\n0)),0)","v":0},{"$f":"IF(LEN(t_プラシャツ[[#This Row],[列7]])>0,$I$59,0)","v":0},{"$f":"IF(LEN(t_プラシャツ[[#This Row],[列8]])>0,\n$F$59+Z$11+\nIF(LEN(t_プラシャツ[[#This Row],[列2]])>0,$E$59,0)+\nIF(AND(Z$6=1,$U14=1),$M$69+$M$71,\nIF(AND(Z$6=1,$U14>1),$M$70+$M$72,\nIF(AND(Z$6=2,$U14=1),$M$69,\nIF(AND(Z$6=2,$U14>1),$M$70,\nIF(AND(Z$6=3,$U14=1),$M$71,\nIF(AND(Z$6=3,$U14>1),$M$72,\n0)))))),0)","v":0},{"$f":"IF(LEN(t_プラシャツ[[#This Row],[列9]])>0,\n$G$59+AA$11+\nIF(LEN(t_プラシャツ[[#This Row],[列2]])>0,$E$59,0)+\nIF(AND(AA$6=1,$U14=1),$M$69+$M$71,\nIF(AND(AA$6=1,$U14>1),$M$70+$M$72,\nIF(AND(AA$6=2,$U14=1),$M$69,\nIF(AND(AA$6=2,$U14>1),$M$70,\nIF(AND(AA$6=3,$U14=1),$M$71,\nIF(AND(AA$6=3,$U14>1),$M$72,\n0)))))),0)","v":0},{"$f":"IF(LEN(t_プラシャツ[[#This Row],[列10]])>0,\n$H$59+AB$11+\nIF(AND(AB$6=1,$U14=1),$M$73,\nIF(AND(AB$6=1,$U14>1),$M$74,\n0)),0)","v":0},{"$f":"IF(LEN(t_プラシャツ[[#This Row],[列11]])>0,$I$59,0)","v":0},{"$f":"IF(LEN(t_プラシャツ[[#This Row],[列12]])>0,\n$F$59+AD$11+\nIF(LEN(t_プラシャツ[[#This Row],[列2]])>0,$E$59,0)+\nIF(AND(AD$6=1,$U14=1),$M$69+$M$71,\nIF(AND(AD$6=1,$U14>1),$M$70+$M$72,\nIF(AND(AD$6=2,$U14=1),$M$69,\nIF(AND(AD$6=2,$U14>1),$M$70,\nIF(AND(AD$6=3,$U14=1),$M$71,\nIF(AND(AD$6=3,$U14>1),$M$72,\n0)))))),0)","v":0},{"$f":"IF(LEN(t_プラシャツ[[#This Row],[列13]])>0,\n$G$59+AE$11+\nIF(LEN(t_プラシャツ[[#This Row],[列2]])>0,$E$59,0)+\nIF(AND(AE$6=1,$U14=1),$M$69+$M$71,\nIF(AND(AE$6=1,$U14>1),$M$70+$M$72,\nIF(AND(AE$6=2,$U14=1),$M$69,\nIF(AND(AE$6=2,$U14>1),$M$70,\nIF(AND(AE$6=3,$U14=1),$M$71,\nIF(AND(AE$6=3,$U14>1),$M$72,\n0)))))),0)","v":0},{"$f":"IF(LEN(t_プラシャツ[[#This Row],[列16]])>0,\n$H$59+AF$11+\nIF(AND(AF$6=1,$U14=1),$M$73,\nIF(AND(AF$6=1,$U14>1),$M$74,\n0)),0)","v":0},{"$f":"IF(LEN(t_プラシャツ[[#This Row],[列17]])>0,$I$59,0)","v":0},null,{"$f":"IF(LEN(t_プラシャツ[[#This Row],[列2]])>0,COUNTA(t_プラシャツ[[#This Row],[列4]:[列5]],t_プラシャツ[[#This Row],[列8]:[列9]],t_プラシャツ[[#This Row],[列12]:[列13]]),0)","v":0},{"$f":"IF(AND($U14=1,OR($V$6=1,$V$6=2)),COUNTA(t_プラシャツ[[#This Row],[列4]]),0)\n+ IF(AND($U14=1,OR($W$6=1,$W$6=2)),COUNTA(t_プラシャツ[[#This Row],[列5]]),0)\n+ IF(AND($U14=1,OR($Z$6=1,$Z$6=2)),COUNTA(t_プラシャツ[[#This Row],[列8]]),0)\n+ IF(AND($U14=1,OR($AA$6=1,$AA$6=2)),COUNTA(t_プラシャツ[[#This Row],[列9]]),0)\n+ IF(AND($U14=1,OR($AD$6=1,$AD$6=2)),COUNTA(t_プラシャツ[[#This Row],[列12]]),0)\n+ IF(AND($U14=1,OR($AE$6=1,$AE$6=2)),COUNTA(t_プラシャツ[[#This Row],[列13]]),0)","v":0},{"$f":"IF(AND($U14>1,OR($V$6=1,$V$6=2)),COUNTA(t_プラシャツ[[#This Row],[列4]]),0)\n+ IF(AND($U14>1,OR($W$6=1,$W$6=2)),COUNTA(t_プラシャツ[[#This Row],[列5]]),0)\n+ IF(AND($U14>1,OR($Z$6=1,$Z$6=2)),COUNTA(t_プラシャツ[[#This Row],[列8]]),0)\n+ IF(AND($U14>1,OR($AA$6=1,$AA$6=2)),COUNTA(t_プラシャツ[[#This Row],[列9]]),0)\n+ IF(AND($U14>1,OR($AD$6=1,$AD$6=2)),COUNTA(t_プラシャツ[[#This Row],[列12]]),0)\n+ IF(AND($U14>1,OR($AE$6=1,$AE$6=2)),COUNTA(t_プラシャツ[[#This Row],[列13]]),0)","v":0},{"$f":"IF(AND($U14=1,OR($V$6=1,$V$6=3)),COUNTA(t_プラシャツ[[#This Row],[列4]]),0)\n+ IF(AND($U14=1,OR($W$6=1,$W$6=3)),COUNTA(t_プラシャツ[[#This Row],[列5]]),0)\n+ IF(AND($U14=1,OR($Z$6=1,$Z$6=3)),COUNTA(t_プラシャツ[[#This Row],[列8]]),0)\n+ IF(AND($U14=1,OR($AA$6=1,$AA$6=3)),COUNTA(t_プラシャツ[[#This Row],[列9]]),0)\n+ IF(AND($U14=1,OR($AD$6=1,$AD$6=3)),COUNTA(t_プラシャツ[[#This Row],[列12]]),0)\n+ IF(AND($U14=1,OR($AE$6=1,$AE$6=3)),COUNTA(t_プラシャツ[[#This Row],[列13]]),0)","v":0},{"$f":"IF(AND($U14>1,OR($V$6=1,$V$6=3)),COUNTA(t_プラシャツ[[#This Row],[列4]]),0)\n+ IF(AND($U14>1,OR($W$6=1,$W$6=3)),COUNTA(t_プラシャツ[[#This Row],[列5]]),0)\n+ IF(AND($U14>1,OR($Z$6=1,$Z$6=3)),COUNTA(t_プラシャツ[[#This Row],[列8]]),0)\n+ IF(AND($U14>1,OR($AA$6=1,$AA$6=3)),COUNTA(t_プラシャツ[[#This Row],[列9]]),0)\n+ IF(AND($U14>1,OR($AD$6=1,$AD$6=3)),COUNTA(t_プラシャツ[[#This Row],[列12]]),0)\n+ IF(AND($U14>1,OR($AE$6=1,$AE$6=3)),COUNTA(t_プラシャツ[[#This Row],[列13]]),0)","v":0},{"$f":"IF(AND($U14=1,$X$6=1),COUNTA(t_プラシャツ[[#This Row],[列6]]),0)\n+ IF(AND($U14=1,$AB$6=1),COUNTA(t_プラシャツ[[#This Row],[列10]]),0)\n+ IF(AND($U14=1,$AF$6=1),COUNTA(t_プラシャツ[[#This Row],[列16]]),0)","v":0},{"$f":"IF(AND($U14>1,$X$6=1),COUNTA(t_プラシャツ[[#This Row],[列6]]),0)\n+ IF(AND($U14>1,$AB$6=1),COUNTA(t_プラシャツ[[#This Row],[列10]]),0)\n+ IF(AND($U14>1,$AF$6=1),COUNTA(t_プラシャツ[[#This Row],[列16]]),0)","v":0},{"$f":"IF($V$7>0,COUNTA(t_プラシャツ[[#This Row],[列4]]),0) + IF($W$7>0,COUNTA(t_プラシャツ[[#This Row],[列5]]),0) + IF($X$7>0,COUNTA(t_プラシャツ[[#This Row],[列6]]),0)\n+IF($Z$7>0,COUNTA(t_プラシャツ[[#This Row],[列8]]),0) + IF($AA$7>0,COUNTA(t_プラシャツ[[#This Row],[列9]]),0) + IF($AB$7>0,COUNTA(t_プラシャツ[[#This Row],[列10]]),0)\n+IF($AD$7>0,COUNTA(t_プラシャツ[[#This Row],[列12]]),0) + IF($AE$7>0,COUNTA(t_プラシャツ[[#This Row],[列13]]),0) + IF($AF$7>0,COUNTA(t_プラシャツ[[#This Row],[列16]]),0)","v":0},{"$f":"IF($V$8>0,COUNTA(t_プラシャツ[[#This Row],[列4]]),0) + IF($W$8>0,COUNTA(t_プラシャツ[[#This Row],[列5]]),0)\n+IF($Z$8>0,COUNTA(t_プラシャツ[[#This Row],[列8]]),0) + IF($AA$8>0,COUNTA(t_プラシャツ[[#This Row],[列9]]),0)\n+IF($AD$8>0,COUNTA(t_プラシャツ[[#This Row],[列12]]),0) + IF($AE$8>0,COUNTA(t_プラシャツ[[#This Row],[列13]]),0)","v":0},{"$f":"IF($V$9>0,COUNTA(t_プラシャツ[[#This Row],[列4]]),0) + IF($W$9>0,COUNTA(t_プラシャツ[[#This Row],[列5]]),0)\n+IF($Z$9>0,COUNTA(t_プラシャツ[[#This Row],[列8]]),0) + IF($AA$9>0,COUNTA(t_プラシャツ[[#This Row],[列9]]),0)\n+IF($AD$9>0,COUNTA(t_プラシャツ[[#This Row],[列12]]),0) + IF($AE$9>0,COUNTA(t_プラシャツ[[#This Row],[列13]]),0)","v":0},{"$f":"IF($V$10>0,COUNTA(t_プラシャツ[[#This Row],[列4]]),0) + IF($W$10>0,COUNTA(t_プラシャツ[[#This Row],[列5]]),0)\n+IF($Z$10>0,COUNTA(t_プラシャツ[[#This Row],[列8]]),0) + IF($AA$10>0,COUNTA(t_プラシャツ[[#This Row],[列9]]),0)\n+IF($AD$10>0,COUNTA(t_プラシャツ[[#This Row],[列12]]),0) + IF($AE$10>0,COUNTA(t_プラシャツ[[#This Row],[列13]]),0)","v":0}]
[null,2,null,null,null,null,null,null,null,null,null,null,null,null,null,null,null,0,null,null,{"$f":"LEN(t_プラシャツ[[#This Row],[列3]])","v":0},{"$f":"IF(LEN(t_プラシャツ[[#This Row],[列4]])>0,\n$F$59+V$11+\nIF(LEN(t_プラシャツ[[#This Row],[列2]])>0,$E$59,0)+\nIF(AND(V$6=1,$U15=1),$M$69+$M$71,\nIF(AND(V$6=1,$U15>1),$M$70+$M$72,\nIF(AND(V$6=2,$U15=1),$M$69,\nIF(AND(V$6=2,$U15>1),$M$70,\nIF(AND(V$6=3,$U15=1),$M$71,\nIF(AND(V$6=3,$U15>1),$M$72,\n0)))))),0)","v":0},{"$f":"IF(LEN(t_プラシャツ[[#This Row],[列5]])>0,\n$G$59+W$11+\nIF(LEN(t_プラシャツ[[#This Row],[列2]])>0,$E$59,0)+\nIF(AND(W$6=1,$U15=1),$M$69+$M$71,\nIF(AND(W$6=1,$U15>1),$M$70+$M$72,\nIF(AND(W$6=2,$U15=1),$M$69,\nIF(AND(W$6=2,$U15>1),$M$70,\nIF(AND(W$6=3,$U15=1),$M$71,\nIF(AND(W$6=3,$U15>1),$M$72,\n0)))))),0)","v":0},{"$f":"IF(LEN(t_プラシャツ[[#This Row],[列6]])>0,\n$H$59+X$11+\nIF(AND(X$6=1,$U15=1),$M$73,\nIF(AND(X$6=1,$U15>1),$M$74,\n0)),0)","v":0},{"$f":"IF(LEN(t_プラシャツ[[#This Row],[列7]])>0,$I$59,0)","v":0},{"$f":"IF(LEN(t_プラシャツ[[#This Row],[列8]])>0,\n$F$59+Z$11+\nIF(LEN(t_プラシャツ[[#This Row],[列2]])>0,$E$59,0)+\nIF(AND(Z$6=1,$U15=1),$M$69+$M$71,\nIF(AND(Z$6=1,$U15>1),$M$70+$M$72,\nIF(AND(Z$6=2,$U15=1),$M$69,\nIF(AND(Z$6=2,$U15>1),$M$70,\nIF(AND(Z$6=3,$U15=1),$M$71,\nIF(AND(Z$6=3,$U15>1),$M$72,\n0)))))),0)","v":0},{"$f":"IF(LEN(t_プラシャツ[[#This Row],[列9]])>0,\n$G$59+AA$11+\nIF(LEN(t_プラシャツ[[#This Row],[列2]])>0,$E$59,0)+\nIF(AND(AA$6=1,$U15=1),$M$69+$M$71,\nIF(AND(AA$6=1,$U15>1),$M$70+$M$72,\nIF(AND(AA$6=2,$U15=1),$M$69,\nIF(AND(AA$6=2,$U15>1),$M$70,\nIF(AND(AA$6=3,$U15=1),$M$71,\nIF(AND(AA$6=3,$U15>1),$M$72,\n0)))))),0)","v":0},{"$f":"IF(LEN(t_プラシャツ[[#This Row],[列10]])>0,\n$H$59+AB$11+\nIF(AND(AB$6=1,$U15=1),$M$73,\nIF(AND(AB$6=1,$U15>1),$M$74,\n0)),0)","v":0},{"$f":"IF(LEN(t_プラシャツ[[#This Row],[列11]])>0,$I$59,0)","v":0},{"$f":"IF(LEN(t_プラシャツ[[#This Row],[列12]])>0,\n$F$59+AD$11+\nIF(LEN(t_プラシャツ[[#This Row],[列2]])>0,$E$59,0)+\nIF(AND(AD$6=1,$U15=1),$M$69+$M$71,\nIF(AND(AD$6=1,$U15>1),$M$70+$M$72,\nIF(AND(AD$6=2,$U15=1),$M$69,\nIF(AND(AD$6=2,$U15>1),$M$70,\nIF(AND(AD$6=3,$U15=1),$M$71,\nIF(AND(AD$6=3,$U15>1),$M$72,\n0)))))),0)","v":0},{"$f":"IF(LEN(t_プラシャツ[[#This Row],[列13]])>0,\n$G$59+AE$11+\nIF(LEN(t_プラシャツ[[#This Row],[列2]])>0,$E$59,0)+\nIF(AND(AE$6=1,$U15=1),$M$69+$M$71,\nIF(AND(AE$6=1,$U15>1),$M$70+$M$72,\nIF(AND(AE$6=2,$U15=1),$M$69,\nIF(AND(AE$6=2,$U15>1),$M$70,\nIF(AND(AE$6=3,$U15=1),$M$71,\nIF(AND(AE$6=3,$U15>1),$M$72,\n0)))))),0)","v":0},{"$f":"IF(LEN(t_プラシャツ[[#This Row],[列16]])>0,\n$H$59+AF$11+\nIF(AND(AF$6=1,$U15=1),$M$73,\nIF(AND(AF$6=1,$U15>1),$M$74,\n0)),0)","v":0},{"$f":"IF(LEN(t_プラシャツ[[#This Row],[列17]])>0,$I$59,0)","v":0},null,{"$f":"IF(LEN(t_プラシャツ[[#This Row],[列2]])>0,COUNTA(t_プラシャツ[[#This Row],[列4]:[列5]],t_プラシャツ[[#This Row],[列8]:[列9]],t_プラシャツ[[#This Row],[列12]:[列13]]),0)","v":0},{"$f":"IF(AND($U15=1,OR($V$6=1,$V$6=2)),COUNTA(t_プラシャツ[[#This Row],[列4]]),0)\n+ IF(AND($U15=1,OR($W$6=1,$W$6=2)),COUNTA(t_プラシャツ[[#This Row],[列5]]),0)\n+ IF(AND($U15=1,OR($Z$6=1,$Z$6=2)),COUNTA(t_プラシャツ[[#This Row],[列8]]),0)\n+ IF(AND($U15=1,OR($AA$6=1,$AA$6=2)),COUNTA(t_プラシャツ[[#This Row],[列9]]),0)\n+ IF(AND($U15=1,OR($AD$6=1,$AD$6=2)),COUNTA(t_プラシャツ[[#This Row],[列12]]),0)\n+ IF(AND($U15=1,OR($AE$6=1,$AE$6=2)),COUNTA(t_プラシャツ[[#This Row],[列13]]),0)","v":0},{"$f":"IF(AND($U15>1,OR($V$6=1,$V$6=2)),COUNTA(t_プラシャツ[[#This Row],[列4]]),0)\n+ IF(AND($U15>1,OR($W$6=1,$W$6=2)),COUNTA(t_プラシャツ[[#This Row],[列5]]),0)\n+ IF(AND($U15>1,OR($Z$6=1,$Z$6=2)),COUNTA(t_プラシャツ[[#This Row],[列8]]),0)\n+ IF(AND($U15>1,OR($AA$6=1,$AA$6=2)),COUNTA(t_プラシャツ[[#This Row],[列9]]),0)\n+ IF(AND($U15>1,OR($AD$6=1,$AD$6=2)),COUNTA(t_プラシャツ[[#This Row],[列12]]),0)\n+ IF(AND($U15>1,OR($AE$6=1,$AE$6=2)),COUNTA(t_プラシャツ[[#This Row],[列13]]),0)","v":0},{"$f":"IF(AND($U15=1,OR($V$6=1,$V$6=3)),COUNTA(t_プラシャツ[[#This Row],[列4]]),0)\n+ IF(AND($U15=1,OR($W$6=1,$W$6=3)),COUNTA(t_プラシャツ[[#This Row],[列5]]),0)\n+ IF(AND($U15=1,OR($Z$6=1,$Z$6=3)),COUNTA(t_プラシャツ[[#This Row],[列8]]),0)\n+ IF(AND($U15=1,OR($AA$6=1,$AA$6=3)),COUNTA(t_プラシャツ[[#This Row],[列9]]),0)\n+ IF(AND($U15=1,OR($AD$6=1,$AD$6=3)),COUNTA(t_プラシャツ[[#This Row],[列12]]),0)\n+ IF(AND($U15=1,OR($AE$6=1,$AE$6=3)),COUNTA(t_プラシャツ[[#This Row],[列13]]),0)","v":0},{"$f":"IF(AND($U15>1,OR($V$6=1,$V$6=3)),COUNTA(t_プラシャツ[[#This Row],[列4]]),0)\n+ IF(AND($U15>1,OR($W$6=1,$W$6=3)),COUNTA(t_プラシャツ[[#This Row],[列5]]),0)\n+ IF(AND($U15>1,OR($Z$6=1,$Z$6=3)),COUNTA(t_プラシャツ[[#This Row],[列8]]),0)\n+ IF(AND($U15>1,OR($AA$6=1,$AA$6=3)),COUNTA(t_プラシャツ[[#This Row],[列9]]),0)\n+ IF(AND($U15>1,OR($AD$6=1,$AD$6=3)),COUNTA(t_プラシャツ[[#This Row],[列12]]),0)\n+ IF(AND($U15>1,OR($AE$6=1,$AE$6=3)),COUNTA(t_プラシャツ[[#This Row],[列13]]),0)","v":0},{"$f":"IF(AND($U15=1,$X$6=1),COUNTA(t_プラシャツ[[#This Row],[列6]]),0)\n+ IF(AND($U15=1,$AB$6=1),COUNTA(t_プラシャツ[[#This Row],[列10]]),0)\n+ IF(AND($U15=1,$AF$6=1),COUNTA(t_プラシャツ[[#This Row],[列16]]),0)","v":0},{"$f":"IF(AND($U15>1,$X$6=1),COUNTA(t_プラシャツ[[#This Row],[列6]]),0)\n+ IF(AND($U15>1,$AB$6=1),COUNTA(t_プラシャツ[[#This Row],[列10]]),0)\n+ IF(AND($U15>1,$AF$6=1),COUNTA(t_プラシャツ[[#This Row],[列16]]),0)","v":0},{"$f":"IF($V$7>0,COUNTA(t_プラシャツ[[#This Row],[列4]]),0) + IF($W$7>0,COUNTA(t_プラシャツ[[#This Row],[列5]]),0) + IF($X$7>0,COUNTA(t_プラシャツ[[#This Row],[列6]]),0)\n+IF($Z$7>0,COUNTA(t_プラシャツ[[#This Row],[列8]]),0) + IF($AA$7>0,COUNTA(t_プラシャツ[[#This Row],[列9]]),0) + IF($AB$7>0,COUNTA(t_プラシャツ[[#This Row],[列10]]),0)\n+IF($AD$7>0,COUNTA(t_プラシャツ[[#This Row],[列12]]),0) + IF($AE$7>0,COUNTA(t_プラシャツ[[#This Row],[列13]]),0) + IF($AF$7>0,COUNTA(t_プラシャツ[[#This Row],[列16]]),0)","v":0},{"$f":"IF($V$8>0,COUNTA(t_プラシャツ[[#This Row],[列4]]),0) + IF($W$8>0,COUNTA(t_プラシャツ[[#This Row],[列5]]),0)\n+IF($Z$8>0,COUNTA(t_プラシャツ[[#This Row],[列8]]),0) + IF($AA$8>0,COUNTA(t_プラシャツ[[#This Row],[列9]]),0)\n+IF($AD$8>0,COUNTA(t_プラシャツ[[#This Row],[列12]]),0) + IF($AE$8>0,COUNTA(t_プラシャツ[[#This Row],[列13]]),0)","v":0},{"$f":"IF($V$9>0,COUNTA(t_プラシャツ[[#This Row],[列4]]),0) + IF($W$9>0,COUNTA(t_プラシャツ[[#This Row],[列5]]),0)\n+IF($Z$9>0,COUNTA(t_プラシャツ[[#This Row],[列8]]),0) + IF($AA$9>0,COUNTA(t_プラシャツ[[#This Row],[列9]]),0)\n+IF($AD$9>0,COUNTA(t_プラシャツ[[#This Row],[列12]]),0) + IF($AE$9>0,COUNTA(t_プラシャツ[[#This Row],[列13]]),0)","v":0},{"$f":"IF($V$10>0,COUNTA(t_プラシャツ[[#This Row],[列4]]),0) + IF($W$10>0,COUNTA(t_プラシャツ[[#This Row],[列5]]),0)\n+IF($Z$10>0,COUNTA(t_プラシャツ[[#This Row],[列8]]),0) + IF($AA$10>0,COUNTA(t_プラシャツ[[#This Row],[列9]]),0)\n+IF($AD$10>0,COUNTA(t_プラシャツ[[#This Row],[列12]]),0) + IF($AE$10>0,COUNTA(t_プラシャツ[[#This Row],[列13]]),0)","v":0}]
[null,3,null,null,null,null,null,null,null,null,null,null,null,null,null,null,null,0,null,null,{"$f":"LEN(t_プラシャツ[[#This Row],[列3]])","v":0},{"$f":"IF(LEN(t_プラシャツ[[#This Row],[列4]])>0,\n$F$59+V$11+\nIF(LEN(t_プラシャツ[[#This Row],[列2]])>0,$E$59,0)+\nIF(AND(V$6=1,$U16=1),$M$69+$M$71,\nIF(AND(V$6=1,$U16>1),$M$70+$M$72,\nIF(AND(V$6=2,$U16=1),$M$69,\nIF(AND(V$6=2,$U16>1),$M$70,\nIF(AND(V$6=3,$U16=1),$M$71,\nIF(AND(V$6=3,$U16>1),$M$72,\n0)))))),0)","v":0},{"$f":"IF(LEN(t_プラシャツ[[#This Row],[列5]])>0,\n$G$59+W$11+\nIF(LEN(t_プラシャツ[[#This Row],[列2]])>0,$E$59,0)+\nIF(AND(W$6=1,$U16=1),$M$69+$M$71,\nIF(AND(W$6=1,$U16>1),$M$70+$M$72,\nIF(AND(W$6=2,$U16=1),$M$69,\nIF(AND(W$6=2,$U16>1),$M$70,\nIF(AND(W$6=3,$U16=1),$M$71,\nIF(AND(W$6=3,$U16>1),$M$72,\n0)))))),0)","v":0},{"$f":"IF(LEN(t_プラシャツ[[#This Row],[列6]])>0,\n$H$59+X$11+\nIF(AND(X$6=1,$U16=1),$M$73,\nIF(AND(X$6=1,$U16>1),$M$74,\n0)),0)","v":0},{"$f":"IF(LEN(t_プラシャツ[[#This Row],[列7]])>0,$I$59,0)","v":0},{"$f":"IF(LEN(t_プラシャツ[[#This Row],[列8]])>0,\n$F$59+Z$11+\nIF(LEN(t_プラシャツ[[#This Row],[列2]])>0,$E$59,0)+\nIF(AND(Z$6=1,$U16=1),$M$69+$M$71,\nIF(AND(Z$6=1,$U16>1),$M$70+$M$72,\nIF(AND(Z$6=2,$U16=1),$M$69,\nIF(AND(Z$6=2,$U16>1),$M$70,\nIF(AND(Z$6=3,$U16=1),$M$71,\nIF(AND(Z$6=3,$U16>1),$M$72,\n0)))))),0)","v":0},{"$f":"IF(LEN(t_プラシャツ[[#This Row],[列9]])>0,\n$G$59+AA$11+\nIF(LEN(t_プラシャツ[[#This Row],[列2]])>0,$E$59,0)+\nIF(AND(AA$6=1,$U16=1),$M$69+$M$71,\nIF(AND(AA$6=1,$U16>1),$M$70+$M$72,\nIF(AND(AA$6=2,$U16=1),$M$69,\nIF(AND(AA$6=2,$U16>1),$M$70,\nIF(AND(AA$6=3,$U16=1),$M$71,\nIF(AND(AA$6=3,$U16>1),$M$72,\n0)))))),0)","v":0},{"$f":"IF(LEN(t_プラシャツ[[#This Row],[列10]])>0,\n$H$59+AB$11+\nIF(AND(AB$6=1,$U16=1),$M$73,\nIF(AND(AB$6=1,$U16>1),$M$74,\n0)),0)","v":0},{"$f":"IF(LEN(t_プラシャツ[[#This Row],[列11]])>0,$I$59,0)","v":0},{"$f":"IF(LEN(t_プラシャツ[[#This Row],[列12]])>0,\n$F$59+AD$11+\nIF(LEN(t_プラシャツ[[#This Row],[列2]])>0,$E$59,0)+\nIF(AND(AD$6=1,$U16=1),$M$69+$M$71,\nIF(AND(AD$6=1,$U16>1),$M$70+$M$72,\nIF(AND(AD$6=2,$U16=1),$M$69,\nIF(AND(AD$6=2,$U16>1),$M$70,\nIF(AND(AD$6=3,$U16=1),$M$71,\nIF(AND(AD$6=3,$U16>1),$M$72,\n0)))))),0)","v":0},{"$f":"IF(LEN(t_プラシャツ[[#This Row],[列13]])>0,\n$G$59+AE$11+\nIF(LEN(t_プラシャツ[[#This Row],[列2]])>0,$E$59,0)+\nIF(AND(AE$6=1,$U16=1),$M$69+$M$71,\nIF(AND(AE$6=1,$U16>1),$M$70+$M$72,\nIF(AND(AE$6=2,$U16=1),$M$69,\nIF(AND(AE$6=2,$U16>1),$M$70,\nIF(AND(AE$6=3,$U16=1),$M$71,\nIF(AND(AE$6=3,$U16>1),$M$72,\n0)))))),0)","v":0},{"$f":"IF(LEN(t_プラシャツ[[#This Row],[列16]])>0,\n$H$59+AF$11+\nIF(AND(AF$6=1,$U16=1),$M$73,\nIF(AND(AF$6=1,$U16>1),$M$74,\n0)),0)","v":0},{"$f":"IF(LEN(t_プラシャツ[[#This Row],[列17]])>0,$I$59,0)","v":0},null,{"$f":"IF(LEN(t_プラシャツ[[#This Row],[列2]])>0,COUNTA(t_プラシャツ[[#This Row],[列4]:[列5]],t_プラシャツ[[#This Row],[列8]:[列9]],t_プラシャツ[[#This Row],[列12]:[列13]]),0)","v":0},{"$f":"IF(AND($U16=1,OR($V$6=1,$V$6=2)),COUNTA(t_プラシャツ[[#This Row],[列4]]),0)\n+ IF(AND($U16=1,OR($W$6=1,$W$6=2)),COUNTA(t_プラシャツ[[#This Row],[列5]]),0)\n+ IF(AND($U16=1,OR($Z$6=1,$Z$6=2)),COUNTA(t_プラシャツ[[#This Row],[列8]]),0)\n+ IF(AND($U16=1,OR($AA$6=1,$AA$6=2)),COUNTA(t_プラシャツ[[#This Row],[列9]]),0)\n+ IF(AND($U16=1,OR($AD$6=1,$AD$6=2)),COUNTA(t_プラシャツ[[#This Row],[列12]]),0)\n+ IF(AND($U16=1,OR($AE$6=1,$AE$6=2)),COUNTA(t_プラシャツ[[#This Row],[列13]]),0)","v":0},{"$f":"IF(AND($U16>1,OR($V$6=1,$V$6=2)),COUNTA(t_プラシャツ[[#This Row],[列4]]),0)\n+ IF(AND($U16>1,OR($W$6=1,$W$6=2)),COUNTA(t_プラシャツ[[#This Row],[列5]]),0)\n+ IF(AND($U16>1,OR($Z$6=1,$Z$6=2)),COUNTA(t_プラシャツ[[#This Row],[列8]]),0)\n+ IF(AND($U16>1,OR($AA$6=1,$AA$6=2)),COUNTA(t_プラシャツ[[#This Row],[列9]]),0)\n+ IF(AND($U16>1,OR($AD$6=1,$AD$6=2)),COUNTA(t_プラシャツ[[#This Row],[列12]]),0)\n+ IF(AND($U16>1,OR($AE$6=1,$AE$6=2)),COUNTA(t_プラシャツ[[#This Row],[列13]]),0)","v":0},{"$f":"IF(AND($U16=1,OR($V$6=1,$V$6=3)),COUNTA(t_プラシャツ[[#This Row],[列4]]),0)\n+ IF(AND($U16=1,OR($W$6=1,$W$6=3)),COUNTA(t_プラシャツ[[#This Row],[列5]]),0)\n+ IF(AND($U16=1,OR($Z$6=1,$Z$6=3)),COUNTA(t_プラシャツ[[#This Row],[列8]]),0)\n+ IF(AND($U16=1,OR($AA$6=1,$AA$6=3)),COUNTA(t_プラシャツ[[#This Row],[列9]]),0)\n+ IF(AND($U16=1,OR($AD$6=1,$AD$6=3)),COUNTA(t_プラシャツ[[#This Row],[列12]]),0)\n+ IF(AND($U16=1,OR($AE$6=1,$AE$6=3)),COUNTA(t_プラシャツ[[#This Row],[列13]]),0)","v":0},{"$f":"IF(AND($U16>1,OR($V$6=1,$V$6=3)),COUNTA(t_プラシャツ[[#This Row],[列4]]),0)\n+ IF(AND($U16>1,OR($W$6=1,$W$6=3)),COUNTA(t_プラシャツ[[#This Row],[列5]]),0)\n+ IF(AND($U16>1,OR($Z$6=1,$Z$6=3)),COUNTA(t_プラシャツ[[#This Row],[列8]]),0)\n+ IF(AND($U16>1,OR($AA$6=1,$AA$6=3)),COUNTA(t_プラシャツ[[#This Row],[列9]]),0)\n+ IF(AND($U16>1,OR($AD$6=1,$AD$6=3)),COUNTA(t_プラシャツ[[#This Row],[列12]]),0)\n+ IF(AND($U16>1,OR($AE$6=1,$AE$6=3)),COUNTA(t_プラシャツ[[#This Row],[列13]]),0)","v":0},{"$f":"IF(AND($U16=1,$X$6=1),COUNTA(t_プラシャツ[[#This Row],[列6]]),0)\n+ IF(AND($U16=1,$AB$6=1),COUNTA(t_プラシャツ[[#This Row],[列10]]),0)\n+ IF(AND($U16=1,$AF$6=1),COUNTA(t_プラシャツ[[#This Row],[列16]]),0)","v":0},{"$f":"IF(AND($U16>1,$X$6=1),COUNTA(t_プラシャツ[[#This Row],[列6]]),0)\n+ IF(AND($U16>1,$AB$6=1),COUNTA(t_プラシャツ[[#This Row],[列10]]),0)\n+ IF(AND($U16>1,$AF$6=1),COUNTA(t_プラシャツ[[#This Row],[列16]]),0)","v":0},{"$f":"IF($V$7>0,COUNTA(t_プラシャツ[[#This Row],[列4]]),0) + IF($W$7>0,COUNTA(t_プラシャツ[[#This Row],[列5]]),0) + IF($X$7>0,COUNTA(t_プラシャツ[[#This Row],[列6]]),0)\n+IF($Z$7>0,COUNTA(t_プラシャツ[[#This Row],[列8]]),0) + IF($AA$7>0,COUNTA(t_プラシャツ[[#This Row],[列9]]),0) + IF($AB$7>0,COUNTA(t_プラシャツ[[#This Row],[列10]]),0)\n+IF($AD$7>0,COUNTA(t_プラシャツ[[#This Row],[列12]]),0) + IF($AE$7>0,COUNTA(t_プラシャツ[[#This Row],[列13]]),0) + IF($AF$7>0,COUNTA(t_プラシャツ[[#This Row],[列16]]),0)","v":0},{"$f":"IF($V$8>0,COUNTA(t_プラシャツ[[#This Row],[列4]]),0) + IF($W$8>0,COUNTA(t_プラシャツ[[#This Row],[列5]]),0)\n+IF($Z$8>0,COUNTA(t_プラシャツ[[#This Row],[列8]]),0) + IF($AA$8>0,COUNTA(t_プラシャツ[[#This Row],[列9]]),0)\n+IF($AD$8>0,COUNTA(t_プラシャツ[[#This Row],[列12]]),0) + IF($AE$8>0,COUNTA(t_プラシャツ[[#This Row],[列13]]),0)","v":0},{"$f":"IF($V$9>0,COUNTA(t_プラシャツ[[#This Row],[列4]]),0) + IF($W$9>0,COUNTA(t_プラシャツ[[#This Row],[列5]]),0)\n+IF($Z$9>0,COUNTA(t_プラシャツ[[#This Row],[列8]]),0) + IF($AA$9>0,COUNTA(t_プラシャツ[[#This Row],[列9]]),0)\n+IF($AD$9>0,COUNTA(t_プラシャツ[[#This Row],[列12]]),0) + IF($AE$9>0,COUNTA(t_プラシャツ[[#This Row],[列13]]),0)","v":0},{"$f":"IF($V$10>0,COUNTA(t_プラシャツ[[#This Row],[列4]]),0) + IF($W$10>0,COUNTA(t_プラシャツ[[#This Row],[列5]]),0)\n+IF($Z$10>0,COUNTA(t_プラシャツ[[#This Row],[列8]]),0) + IF($AA$10>0,COUNTA(t_プラシャツ[[#This Row],[列9]]),0)\n+IF($AD$10>0,COUNTA(t_プラシャツ[[#This Row],[列12]]),0) + IF($AE$10>0,COUNTA(t_プラシャツ[[#This Row],[列13]]),0)","v":0}]
[null,4,null,null,null,null,null,null,null,null,null,null,null,null,null,null,null,0,null,null,{"$f":"LEN(t_プラシャツ[[#This Row],[列3]])","v":0},{"$f":"IF(LEN(t_プラシャツ[[#This Row],[列4]])>0,\n$F$59+V$11+\nIF(LEN(t_プラシャツ[[#This Row],[列2]])>0,$E$59,0)+\nIF(AND(V$6=1,$U17=1),$M$69+$M$71,\nIF(AND(V$6=1,$U17>1),$M$70+$M$72,\nIF(AND(V$6=2,$U17=1),$M$69,\nIF(AND(V$6=2,$U17>1),$M$70,\nIF(AND(V$6=3,$U17=1),$M$71,\nIF(AND(V$6=3,$U17>1),$M$72,\n0)))))),0)","v":0},{"$f":"IF(LEN(t_プラシャツ[[#This Row],[列5]])>0,\n$G$59+W$11+\nIF(LEN(t_プラシャツ[[#This Row],[列2]])>0,$E$59,0)+\nIF(AND(W$6=1,$U17=1),$M$69+$M$71,\nIF(AND(W$6=1,$U17>1),$M$70+$M$72,\nIF(AND(W$6=2,$U17=1),$M$69,\nIF(AND(W$6=2,$U17>1),$M$70,\nIF(AND(W$6=3,$U17=1),$M$71,\nIF(AND(W$6=3,$U17>1),$M$72,\n0)))))),0)","v":0},{"$f":"IF(LEN(t_プラシャツ[[#This Row],[列6]])>0,\n$H$59+X$11+\nIF(AND(X$6=1,$U17=1),$M$73,\nIF(AND(X$6=1,$U17>1),$M$74,\n0)),0)","v":0},{"$f":"IF(LEN(t_プラシャツ[[#This Row],[列7]])>0,$I$59,0)","v":0},{"$f":"IF(LEN(t_プラシャツ[[#This Row],[列8]])>0,\n$F$59+Z$11+\nIF(LEN(t_プラシャツ[[#This Row],[列2]])>0,$E$59,0)+\nIF(AND(Z$6=1,$U17=1),$M$69+$M$71,\nIF(AND(Z$6=1,$U17>1),$M$70+$M$72,\nIF(AND(Z$6=2,$U17=1),$M$69,\nIF(AND(Z$6=2,$U17>1),$M$70,\nIF(AND(Z$6=3,$U17=1),$M$71,\nIF(AND(Z$6=3,$U17>1),$M$72,\n0)))))),0)","v":0},{"$f":"IF(LEN(t_プラシャツ[[#This Row],[列9]])>0,\n$G$59+AA$11+\nIF(LEN(t_プラシャツ[[#This Row],[列2]])>0,$E$59,0)+\nIF(AND(AA$6=1,$U17=1),$M$69+$M$71,\nIF(AND(AA$6=1,$U17>1),$M$70+$M$72,\nIF(AND(AA$6=2,$U17=1),$M$69,\nIF(AND(AA$6=2,$U17>1),$M$70,\nIF(AND(AA$6=3,$U17=1),$M$71,\nIF(AND(AA$6=3,$U17>1),$M$72,\n0)))))),0)","v":0},{"$f":"IF(LEN(t_プラシャツ[[#This Row],[列10]])>0,\n$H$59+AB$11+\nIF(AND(AB$6=1,$U17=1),$M$73,\nIF(AND(AB$6=1,$U17>1),$M$74,\n0)),0)","v":0},{"$f":"IF(LEN(t_プラシャツ[[#This Row],[列11]])>0,$I$59,0)","v":0},{"$f":"IF(LEN(t_プラシャツ[[#This Row],[列12]])>0,\n$F$59+AD$11+\nIF(LEN(t_プラシャツ[[#This Row],[列2]])>0,$E$59,0)+\nIF(AND(AD$6=1,$U17=1),$M$69+$M$71,\nIF(AND(AD$6=1,$U17>1),$M$70+$M$72,\nIF(AND(AD$6=2,$U17=1),$M$69,\nIF(AND(AD$6=2,$U17>1),$M$70,\nIF(AND(AD$6=3,$U17=1),$M$71,\nIF(AND(AD$6=3,$U17>1),$M$72,\n0)))))),0)","v":0},{"$f":"IF(LEN(t_プラシャツ[[#This Row],[列13]])>0,\n$G$59+AE$11+\nIF(LEN(t_プラシャツ[[#This Row],[列2]])>0,$E$59,0)+\nIF(AND(AE$6=1,$U17=1),$M$69+$M$71,\nIF(AND(AE$6=1,$U17>1),$M$70+$M$72,\nIF(AND(AE$6=2,$U17=1),$M$69,\nIF(AND(AE$6=2,$U17>1),$M$70,\nIF(AND(AE$6=3,$U17=1),$M$71,\nIF(AND(AE$6=3,$U17>1),$M$72,\n0)))))),0)","v":0},{"$f":"IF(LEN(t_プラシャツ[[#This Row],[列16]])>0,\n$H$59+AF$11+\nIF(AND(AF$6=1,$U17=1),$M$73,\nIF(AND(AF$6=1,$U17>1),$M$74,\n0)),0)","v":0},{"$f":"IF(LEN(t_プラシャツ[[#This Row],[列17]])>0,$I$59,0)","v":0},null,{"$f":"IF(LEN(t_プラシャツ[[#This Row],[列2]])>0,COUNTA(t_プラシャツ[[#This Row],[列4]:[列5]],t_プラシャツ[[#This Row],[列8]:[列9]],t_プラシャツ[[#This Row],[列12]:[列13]]),0)","v":0},{"$f":"IF(AND($U17=1,OR($V$6=1,$V$6=2)),COUNTA(t_プラシャツ[[#This Row],[列4]]),0)\n+ IF(AND($U17=1,OR($W$6=1,$W$6=2)),COUNTA(t_プラシャツ[[#This Row],[列5]]),0)\n+ IF(AND($U17=1,OR($Z$6=1,$Z$6=2)),COUNTA(t_プラシャツ[[#This Row],[列8]]),0)\n+ IF(AND($U17=1,OR($AA$6=1,$AA$6=2)),COUNTA(t_プラシャツ[[#This Row],[列9]]),0)\n+ IF(AND($U17=1,OR($AD$6=1,$AD$6=2)),COUNTA(t_プラシャツ[[#This Row],[列12]]),0)\n+ IF(AND($U17=1,OR($AE$6=1,$AE$6=2)),COUNTA(t_プラシャツ[[#This Row],[列13]]),0)","v":0},{"$f":"IF(AND($U17>1,OR($V$6=1,$V$6=2)),COUNTA(t_プラシャツ[[#This Row],[列4]]),0)\n+ IF(AND($U17>1,OR($W$6=1,$W$6=2)),COUNTA(t_プラシャツ[[#This Row],[列5]]),0)\n+ IF(AND($U17>1,OR($Z$6=1,$Z$6=2)),COUNTA(t_プラシャツ[[#This Row],[列8]]),0)\n+ IF(AND($U17>1,OR($AA$6=1,$AA$6=2)),COUNTA(t_プラシャツ[[#This Row],[列9]]),0)\n+ IF(AND($U17>1,OR($AD$6=1,$AD$6=2)),COUNTA(t_プラシャツ[[#This Row],[列12]]),0)\n+ IF(AND($U17>1,OR($AE$6=1,$AE$6=2)),COUNTA(t_プラシャツ[[#This Row],[列13]]),0)","v":0},{"$f":"IF(AND($U17=1,OR($V$6=1,$V$6=3)),COUNTA(t_プラシャツ[[#This Row],[列4]]),0)\n+ IF(AND($U17=1,OR($W$6=1,$W$6=3)),COUNTA(t_プラシャツ[[#This Row],[列5]]),0)\n+ IF(AND($U17=1,OR($Z$6=1,$Z$6=3)),COUNTA(t_プラシャツ[[#This Row],[列8]]),0)\n+ IF(AND($U17=1,OR($AA$6=1,$AA$6=3)),COUNTA(t_プラシャツ[[#This Row],[列9]]),0)\n+ IF(AND($U17=1,OR($AD$6=1,$AD$6=3)),COUNTA(t_プラシャツ[[#This Row],[列12]]),0)\n+ IF(AND($U17=1,OR($AE$6=1,$AE$6=3)),COUNTA(t_プラシャツ[[#This Row],[列13]]),0)","v":0},{"$f":"IF(AND($U17>1,OR($V$6=1,$V$6=3)),COUNTA(t_プラシャツ[[#This Row],[列4]]),0)\n+ IF(AND($U17>1,OR($W$6=1,$W$6=3)),COUNTA(t_プラシャツ[[#This Row],[列5]]),0)\n+ IF(AND($U17>1,OR($Z$6=1,$Z$6=3)),COUNTA(t_プラシャツ[[#This Row],[列8]]),0)\n+ IF(AND($U17>1,OR($AA$6=1,$AA$6=3)),COUNTA(t_プラシャツ[[#This Row],[列9]]),0)\n+ IF(AND($U17>1,OR($AD$6=1,$AD$6=3)),COUNTA(t_プラシャツ[[#This Row],[列12]]),0)\n+ IF(AND($U17>1,OR($AE$6=1,$AE$6=3)),COUNTA(t_プラシャツ[[#This Row],[列13]]),0)","v":0},{"$f":"IF(AND($U17=1,$X$6=1),COUNTA(t_プラシャツ[[#This Row],[列6]]),0)\n+ IF(AND($U17=1,$AB$6=1),COUNTA(t_プラシャツ[[#This Row],[列10]]),0)\n+ IF(AND($U17=1,$AF$6=1),COUNTA(t_プラシャツ[[#This Row],[列16]]),0)","v":0},{"$f":"IF(AND($U17>1,$X$6=1),COUNTA(t_プラシャツ[[#This Row],[列6]]),0)\n+ IF(AND($U17>1,$AB$6=1),COUNTA(t_プラシャツ[[#This Row],[列10]]),0)\n+ IF(AND($U17>1,$AF$6=1),COUNTA(t_プラシャツ[[#This Row],[列16]]),0)","v":0},{"$f":"IF($V$7>0,COUNTA(t_プラシャツ[[#This Row],[列4]]),0) + IF($W$7>0,COUNTA(t_プラシャツ[[#This Row],[列5]]),0) + IF($X$7>0,COUNTA(t_プラシャツ[[#This Row],[列6]]),0)\n+IF($Z$7>0,COUNTA(t_プラシャツ[[#This Row],[列8]]),0) + IF($AA$7>0,COUNTA(t_プラシャツ[[#This Row],[列9]]),0) + IF($AB$7>0,COUNTA(t_プラシャツ[[#This Row],[列10]]),0)\n+IF($AD$7>0,COUNTA(t_プラシャツ[[#This Row],[列12]]),0) + IF($AE$7>0,COUNTA(t_プラシャツ[[#This Row],[列13]]),0) + IF($AF$7>0,COUNTA(t_プラシャツ[[#This Row],[列16]]),0)","v":0},{"$f":"IF($V$8>0,COUNTA(t_プラシャツ[[#This Row],[列4]]),0) + IF($W$8>0,COUNTA(t_プラシャツ[[#This Row],[列5]]),0)\n+IF($Z$8>0,COUNTA(t_プラシャツ[[#This Row],[列8]]),0) + IF($AA$8>0,COUNTA(t_プラシャツ[[#This Row],[列9]]),0)\n+IF($AD$8>0,COUNTA(t_プラシャツ[[#This Row],[列12]]),0) + IF($AE$8>0,COUNTA(t_プラシャツ[[#This Row],[列13]]),0)","v":0},{"$f":"IF($V$9>0,COUNTA(t_プラシャツ[[#This Row],[列4]]),0) + IF($W$9>0,COUNTA(t_プラシャツ[[#This Row],[列5]]),0)\n+IF($Z$9>0,COUNTA(t_プラシャツ[[#This Row],[列8]]),0) + IF($AA$9>0,COUNTA(t_プラシャツ[[#This Row],[列9]]),0)\n+IF($AD$9>0,COUNTA(t_プラシャツ[[#This Row],[列12]]),0) + IF($AE$9>0,COUNTA(t_プラシャツ[[#This Row],[列13]]),0)","v":0},{"$f":"IF($V$10>0,COUNTA(t_プラシャツ[[#This Row],[列4]]),0) + IF($W$10>0,COUNTA(t_プラシャツ[[#This Row],[列5]]),0)\n+IF($Z$10>0,COUNTA(t_プラシャツ[[#This Row],[列8]]),0) + IF($AA$10>0,COUNTA(t_プラシャツ[[#This Row],[列9]]),0)\n+IF($AD$10>0,COUNTA(t_プラシャツ[[#This Row],[列12]]),0) + IF($AE$10>0,COUNTA(t_プラシャツ[[#This Row],[列13]]),0)","v":0}]
[null,5,null,null,null,null,null,null,null,null,null,null,null,null,null,null,null,0,null,null,{"$f":"LEN(t_プラシャツ[[#This Row],[列3]])","v":0},{"$f":"IF(LEN(t_プラシャツ[[#This Row],[列4]])>0,\n$F$59+V$11+\nIF(LEN(t_プラシャツ[[#This Row],[列2]])>0,$E$59,0)+\nIF(AND(V$6=1,$U18=1),$M$69+$M$71,\nIF(AND(V$6=1,$U18>1),$M$70+$M$72,\nIF(AND(V$6=2,$U18=1),$M$69,\nIF(AND(V$6=2,$U18>1),$M$70,\nIF(AND(V$6=3,$U18=1),$M$71,\nIF(AND(V$6=3,$U18>1),$M$72,\n0)))))),0)","v":0},{"$f":"IF(LEN(t_プラシャツ[[#This Row],[列5]])>0,\n$G$59+W$11+\nIF(LEN(t_プラシャツ[[#This Row],[列2]])>0,$E$59,0)+\nIF(AND(W$6=1,$U18=1),$M$69+$M$71,\nIF(AND(W$6=1,$U18>1),$M$70+$M$72,\nIF(AND(W$6=2,$U18=1),$M$69,\nIF(AND(W$6=2,$U18>1),$M$70,\nIF(AND(W$6=3,$U18=1),$M$71,\nIF(AND(W$6=3,$U18>1),$M$72,\n0)))))),0)","v":0},{"$f":"IF(LEN(t_プラシャツ[[#This Row],[列6]])>0,\n$H$59+X$11+\nIF(AND(X$6=1,$U18=1),$M$73,\nIF(AND(X$6=1,$U18>1),$M$74,\n0)),0)","v":0},{"$f":"IF(LEN(t_プラシャツ[[#This Row],[列7]])>0,$I$59,0)","v":0},{"$f":"IF(LEN(t_プラシャツ[[#This Row],[列8]])>0,\n$F$59+Z$11+\nIF(LEN(t_プラシャツ[[#This Row],[列2]])>0,$E$59,0)+\nIF(AND(Z$6=1,$U18=1),$M$69+$M$71,\nIF(AND(Z$6=1,$U18>1),$M$70+$M$72,\nIF(AND(Z$6=2,$U18=1),$M$69,\nIF(AND(Z$6=2,$U18>1),$M$70,\nIF(AND(Z$6=3,$U18=1),$M$71,\nIF(AND(Z$6=3,$U18>1),$M$72,\n0)))))),0)","v":0},{"$f":"IF(LEN(t_プラシャツ[[#This Row],[列9]])>0,\n$G$59+AA$11+\nIF(LEN(t_プラシャツ[[#This Row],[列2]])>0,$E$59,0)+\nIF(AND(AA$6=1,$U18=1),$M$69+$M$71,\nIF(AND(AA$6=1,$U18>1),$M$70+$M$72,\nIF(AND(AA$6=2,$U18=1),$M$69,\nIF(AND(AA$6=2,$U18>1),$M$70,\nIF(AND(AA$6=3,$U18=1),$M$71,\nIF(AND(AA$6=3,$U18>1),$M$72,\n0)))))),0)","v":0},{"$f":"IF(LEN(t_プラシャツ[[#This Row],[列10]])>0,\n$H$59+AB$11+\nIF(AND(AB$6=1,$U18=1),$M$73,\nIF(AND(AB$6=1,$U18>1),$M$74,\n0)),0)","v":0},{"$f":"IF(LEN(t_プラシャツ[[#This Row],[列11]])>0,$I$59,0)","v":0},{"$f":"IF(LEN(t_プラシャツ[[#This Row],[列12]])>0,\n$F$59+AD$11+\nIF(LEN(t_プラシャツ[[#This Row],[列2]])>0,$E$59,0)+\nIF(AND(AD$6=1,$U18=1),$M$69+$M$71,\nIF(AND(AD$6=1,$U18>1),$M$70+$M$72,\nIF(AND(AD$6=2,$U18=1),$M$69,\nIF(AND(AD$6=2,$U18>1),$M$70,\nIF(AND(AD$6=3,$U18=1),$M$71,\nIF(AND(AD$6=3,$U18>1),$M$72,\n0)))))),0)","v":0},{"$f":"IF(LEN(t_プラシャツ[[#This Row],[列13]])>0,\n$G$59+AE$11+\nIF(LEN(t_プラシャツ[[#This Row],[列2]])>0,$E$59,0)+\nIF(AND(AE$6=1,$U18=1),$M$69+$M$71,\nIF(AND(AE$6=1,$U18>1),$M$70+$M$72,\nIF(AND(AE$6=2,$U18=1),$M$69,\nIF(AND(AE$6=2,$U18>1),$M$70,\nIF(AND(AE$6=3,$U18=1),$M$71,\nIF(AND(AE$6=3,$U18>1),$M$72,\n0)))))),0)","v":0},{"$f":"IF(LEN(t_プラシャツ[[#This Row],[列16]])>0,\n$H$59+AF$11+\nIF(AND(AF$6=1,$U18=1),$M$73,\nIF(AND(AF$6=1,$U18>1),$M$74,\n0)),0)","v":0},{"$f":"IF(LEN(t_プラシャツ[[#This Row],[列17]])>0,$I$59,0)","v":0},null,{"$f":"IF(LEN(t_プラシャツ[[#This Row],[列2]])>0,COUNTA(t_プラシャツ[[#This Row],[列4]:[列5]],t_プラシャツ[[#This Row],[列8]:[列9]],t_プラシャツ[[#This Row],[列12]:[列13]]),0)","v":0},{"$f":"IF(AND($U18=1,OR($V$6=1,$V$6=2)),COUNTA(t_プラシャツ[[#This Row],[列4]]),0)\n+ IF(AND($U18=1,OR($W$6=1,$W$6=2)),COUNTA(t_プラシャツ[[#This Row],[列5]]),0)\n+ IF(AND($U18=1,OR($Z$6=1,$Z$6=2)),COUNTA(t_プラシャツ[[#This Row],[列8]]),0)\n+ IF(AND($U18=1,OR($AA$6=1,$AA$6=2)),COUNTA(t_プラシャツ[[#This Row],[列9]]),0)\n+ IF(AND($U18=1,OR($AD$6=1,$AD$6=2)),COUNTA(t_プラシャツ[[#This Row],[列12]]),0)\n+ IF(AND($U18=1,OR($AE$6=1,$AE$6=2)),COUNTA(t_プラシャツ[[#This Row],[列13]]),0)","v":0},{"$f":"IF(AND($U18>1,OR($V$6=1,$V$6=2)),COUNTA(t_プラシャツ[[#This Row],[列4]]),0)\n+ IF(AND($U18>1,OR($W$6=1,$W$6=2)),COUNTA(t_プラシャツ[[#This Row],[列5]]),0)\n+ IF(AND($U18>1,OR($Z$6=1,$Z$6=2)),COUNTA(t_プラシャツ[[#This Row],[列8]]),0)\n+ IF(AND($U18>1,OR($AA$6=1,$AA$6=2)),COUNTA(t_プラシャツ[[#This Row],[列9]]),0)\n+ IF(AND($U18>1,OR($AD$6=1,$AD$6=2)),COUNTA(t_プラシャツ[[#This Row],[列12]]),0)\n+ IF(AND($U18>1,OR($AE$6=1,$AE$6=2)),COUNTA(t_プラシャツ[[#This Row],[列13]]),0)","v":0},{"$f":"IF(AND($U18=1,OR($V$6=1,$V$6=3)),COUNTA(t_プラシャツ[[#This Row],[列4]]),0)\n+ IF(AND($U18=1,OR($W$6=1,$W$6=3)),COUNTA(t_プラシャツ[[#This Row],[列5]]),0)\n+ IF(AND($U18=1,OR($Z$6=1,$Z$6=3)),COUNTA(t_プラシャツ[[#This Row],[列8]]),0)\n+ IF(AND($U18=1,OR($AA$6=1,$AA$6=3)),COUNTA(t_プラシャツ[[#This Row],[列9]]),0)\n+ IF(AND($U18=1,OR($AD$6=1,$AD$6=3)),COUNTA(t_プラシャツ[[#This Row],[列12]]),0)\n+ IF(AND($U18=1,OR($AE$6=1,$AE$6=3)),COUNTA(t_プラシャツ[[#This Row],[列13]]),0)","v":0},{"$f":"IF(AND($U18>1,OR($V$6=1,$V$6=3)),COUNTA(t_プラシャツ[[#This Row],[列4]]),0)\n+ IF(AND($U18>1,OR($W$6=1,$W$6=3)),COUNTA(t_プラシャツ[[#This Row],[列5]]),0)\n+ IF(AND($U18>1,OR($Z$6=1,$Z$6=3)),COUNTA(t_プラシャツ[[#This Row],[列8]]),0)\n+ IF(AND($U18>1,OR($AA$6=1,$AA$6=3)),COUNTA(t_プラシャツ[[#This Row],[列9]]),0)\n+ IF(AND($U18>1,OR($AD$6=1,$AD$6=3)),COUNTA(t_プラシャツ[[#This Row],[列12]]),0)\n+ IF(AND($U18>1,OR($AE$6=1,$AE$6=3)),COUNTA(t_プラシャツ[[#This Row],[列13]]),0)","v":0},{"$f":"IF(AND($U18=1,$X$6=1),COUNTA(t_プラシャツ[[#This Row],[列6]]),0)\n+ IF(AND($U18=1,$AB$6=1),COUNTA(t_プラシャツ[[#This Row],[列10]]),0)\n+ IF(AND($U18=1,$AF$6=1),COUNTA(t_プラシャツ[[#This Row],[列16]]),0)","v":0},{"$f":"IF(AND($U18>1,$X$6=1),COUNTA(t_プラシャツ[[#This Row],[列6]]),0)\n+ IF(AND($U18>1,$AB$6=1),COUNTA(t_プラシャツ[[#This Row],[列10]]),0)\n+ IF(AND($U18>1,$AF$6=1),COUNTA(t_プラシャツ[[#This Row],[列16]]),0)","v":0},{"$f":"IF($V$7>0,COUNTA(t_プラシャツ[[#This Row],[列4]]),0) + IF($W$7>0,COUNTA(t_プラシャツ[[#This Row],[列5]]),0) + IF($X$7>0,COUNTA(t_プラシャツ[[#This Row],[列6]]),0)\n+IF($Z$7>0,COUNTA(t_プラシャツ[[#This Row],[列8]]),0) + IF($AA$7>0,COUNTA(t_プラシャツ[[#This Row],[列9]]),0) + IF($AB$7>0,COUNTA(t_プラシャツ[[#This Row],[列10]]),0)\n+IF($AD$7>0,COUNTA(t_プラシャツ[[#This Row],[列12]]),0) + IF($AE$7>0,COUNTA(t_プラシャツ[[#This Row],[列13]]),0) + IF($AF$7>0,COUNTA(t_プラシャツ[[#This Row],[列16]]),0)","v":0},{"$f":"IF($V$8>0,COUNTA(t_プラシャツ[[#This Row],[列4]]),0) + IF($W$8>0,COUNTA(t_プラシャツ[[#This Row],[列5]]),0)\n+IF($Z$8>0,COUNTA(t_プラシャツ[[#This Row],[列8]]),0) + IF($AA$8>0,COUNTA(t_プラシャツ[[#This Row],[列9]]),0)\n+IF($AD$8>0,COUNTA(t_プラシャツ[[#This Row],[列12]]),0) + IF($AE$8>0,COUNTA(t_プラシャツ[[#This Row],[列13]]),0)","v":0},{"$f":"IF($V$9>0,COUNTA(t_プラシャツ[[#This Row],[列4]]),0) + IF($W$9>0,COUNTA(t_プラシャツ[[#This Row],[列5]]),0)\n+IF($Z$9>0,COUNTA(t_プラシャツ[[#This Row],[列8]]),0) + IF($AA$9>0,COUNTA(t_プラシャツ[[#This Row],[列9]]),0)\n+IF($AD$9>0,COUNTA(t_プラシャツ[[#This Row],[列12]]),0) + IF($AE$9>0,COUNTA(t_プラシャツ[[#This Row],[列13]]),0)","v":0},{"$f":"IF($V$10>0,COUNTA(t_プラシャツ[[#This Row],[列4]]),0) + IF($W$10>0,COUNTA(t_プラシャツ[[#This Row],[列5]]),0)\n+IF($Z$10>0,COUNTA(t_プラシャツ[[#This Row],[列8]]),0) + IF($AA$10>0,COUNTA(t_プラシャツ[[#This Row],[列9]]),0)\n+IF($AD$10>0,COUNTA(t_プラシャツ[[#This Row],[列12]]),0) + IF($AE$10>0,COUNTA(t_プラシャツ[[#This Row],[列13]]),0)","v":0}]
[null,6,null,null,null,null,null,null,null,null,null,null,null,null,null,null,null,0,null,null,{"$f":"LEN(t_プラシャツ[[#This Row],[列3]])","v":0},{"$f":"IF(LEN(t_プラシャツ[[#This Row],[列4]])>0,\n$F$59+V$11+\nIF(LEN(t_プラシャツ[[#This Row],[列2]])>0,$E$59,0)+\nIF(AND(V$6=1,$U19=1),$M$69+$M$71,\nIF(AND(V$6=1,$U19>1),$M$70+$M$72,\nIF(AND(V$6=2,$U19=1),$M$69,\nIF(AND(V$6=2,$U19>1),$M$70,\nIF(AND(V$6=3,$U19=1),$M$71,\nIF(AND(V$6=3,$U19>1),$M$72,\n0)))))),0)","v":0},{"$f":"IF(LEN(t_プラシャツ[[#This Row],[列5]])>0,\n$G$59+W$11+\nIF(LEN(t_プラシャツ[[#This Row],[列2]])>0,$E$59,0)+\nIF(AND(W$6=1,$U19=1),$M$69+$M$71,\nIF(AND(W$6=1,$U19>1),$M$70+$M$72,\nIF(AND(W$6=2,$U19=1),$M$69,\nIF(AND(W$6=2,$U19>1),$M$70,\nIF(AND(W$6=3,$U19=1),$M$71,\nIF(AND(W$6=3,$U19>1),$M$72,\n0)))))),0)","v":0},{"$f":"IF(LEN(t_プラシャツ[[#This Row],[列6]])>0,\n$H$59+X$11+\nIF(AND(X$6=1,$U19=1),$M$73,\nIF(AND(X$6=1,$U19>1),$M$74,\n0)),0)","v":0},{"$f":"IF(LEN(t_プラシャツ[[#This Row],[列7]])>0,$I$59,0)","v":0},{"$f":"IF(LEN(t_プラシャツ[[#This Row],[列8]])>0,\n$F$59+Z$11+\nIF(LEN(t_プラシャツ[[#This Row],[列2]])>0,$E$59,0)+\nIF(AND(Z$6=1,$U19=1),$M$69+$M$71,\nIF(AND(Z$6=1,$U19>1),$M$70+$M$72,\nIF(AND(Z$6=2,$U19=1),$M$69,\nIF(AND(Z$6=2,$U19>1),$M$70,\nIF(AND(Z$6=3,$U19=1),$M$71,\nIF(AND(Z$6=3,$U19>1),$M$72,\n0)))))),0)","v":0},{"$f":"IF(LEN(t_プラシャツ[[#This Row],[列9]])>0,\n$G$59+AA$11+\nIF(LEN(t_プラシャツ[[#This Row],[列2]])>0,$E$59,0)+\nIF(AND(AA$6=1,$U19=1),$M$69+$M$71,\nIF(AND(AA$6=1,$U19>1),$M$70+$M$72,\nIF(AND(AA$6=2,$U19=1),$M$69,\nIF(AND(AA$6=2,$U19>1),$M$70,\nIF(AND(AA$6=3,$U19=1),$M$71,\nIF(AND(AA$6=3,$U19>1),$M$72,\n0)))))),0)","v":0},{"$f":"IF(LEN(t_プラシャツ[[#This Row],[列10]])>0,\n$H$59+AB$11+\nIF(AND(AB$6=1,$U19=1),$M$73,\nIF(AND(AB$6=1,$U19>1),$M$74,\n0)),0)","v":0},{"$f":"IF(LEN(t_プラシャツ[[#This Row],[列11]])>0,$I$59,0)","v":0},{"$f":"IF(LEN(t_プラシャツ[[#This Row],[列12]])>0,\n$F$59+AD$11+\nIF(LEN(t_プラシャツ[[#This Row],[列2]])>0,$E$59,0)+\nIF(AND(AD$6=1,$U19=1),$M$69+$M$71,\nIF(AND(AD$6=1,$U19>1),$M$70+$M$72,\nIF(AND(AD$6=2,$U19=1),$M$69,\nIF(AND(AD$6=2,$U19>1),$M$70,\nIF(AND(AD$6=3,$U19=1),$M$71,\nIF(AND(AD$6=3,$U19>1),$M$72,\n0)))))),0)","v":0},{"$f":"IF(LEN(t_プラシャツ[[#This Row],[列13]])>0,\n$G$59+AE$11+\nIF(LEN(t_プラシャツ[[#This Row],[列2]])>0,$E$59,0)+\nIF(AND(AE$6=1,$U19=1),$M$69+$M$71,\nIF(AND(AE$6=1,$U19>1),$M$70+$M$72,\nIF(AND(AE$6=2,$U19=1),$M$69,\nIF(AND(AE$6=2,$U19>1),$M$70,\nIF(AND(AE$6=3,$U19=1),$M$71,\nIF(AND(AE$6=3,$U19>1),$M$72,\n0)))))),0)","v":0},{"$f":"IF(LEN(t_プラシャツ[[#This Row],[列16]])>0,\n$H$59+AF$11+\nIF(AND(AF$6=1,$U19=1),$M$73,\nIF(AND(AF$6=1,$U19>1),$M$74,\n0)),0)","v":0},{"$f":"IF(LEN(t_プラシャツ[[#This Row],[列17]])>0,$I$59,0)","v":0},null,{"$f":"IF(LEN(t_プラシャツ[[#This Row],[列2]])>0,COUNTA(t_プラシャツ[[#This Row],[列4]:[列5]],t_プラシャツ[[#This Row],[列8]:[列9]],t_プラシャツ[[#This Row],[列12]:[列13]]),0)","v":0},{"$f":"IF(AND($U19=1,OR($V$6=1,$V$6=2)),COUNTA(t_プラシャツ[[#This Row],[列4]]),0)\n+ IF(AND($U19=1,OR($W$6=1,$W$6=2)),COUNTA(t_プラシャツ[[#This Row],[列5]]),0)\n+ IF(AND($U19=1,OR($Z$6=1,$Z$6=2)),COUNTA(t_プラシャツ[[#This Row],[列8]]),0)\n+ IF(AND($U19=1,OR($AA$6=1,$AA$6=2)),COUNTA(t_プラシャツ[[#This Row],[列9]]),0)\n+ IF(AND($U19=1,OR($AD$6=1,$AD$6=2)),COUNTA(t_プラシャツ[[#This Row],[列12]]),0)\n+ IF(AND($U19=1,OR($AE$6=1,$AE$6=2)),COUNTA(t_プラシャツ[[#This Row],[列13]]),0)","v":0},{"$f":"IF(AND($U19>1,OR($V$6=1,$V$6=2)),COUNTA(t_プラシャツ[[#This Row],[列4]]),0)\n+ IF(AND($U19>1,OR($W$6=1,$W$6=2)),COUNTA(t_プラシャツ[[#This Row],[列5]]),0)\n+ IF(AND($U19>1,OR($Z$6=1,$Z$6=2)),COUNTA(t_プラシャツ[[#This Row],[列8]]),0)\n+ IF(AND($U19>1,OR($AA$6=1,$AA$6=2)),COUNTA(t_プラシャツ[[#This Row],[列9]]),0)\n+ IF(AND($U19>1,OR($AD$6=1,$AD$6=2)),COUNTA(t_プラシャツ[[#This Row],[列12]]),0)\n+ IF(AND($U19>1,OR($AE$6=1,$AE$6=2)),COUNTA(t_プラシャツ[[#This Row],[列13]]),0)","v":0},{"$f":"IF(AND($U19=1,OR($V$6=1,$V$6=3)),COUNTA(t_プラシャツ[[#This Row],[列4]]),0)\n+ IF(AND($U19=1,OR($W$6=1,$W$6=3)),COUNTA(t_プラシャツ[[#This Row],[列5]]),0)\n+ IF(AND($U19=1,OR($Z$6=1,$Z$6=3)),COUNTA(t_プラシャツ[[#This Row],[列8]]),0)\n+ IF(AND($U19=1,OR($AA$6=1,$AA$6=3)),COUNTA(t_プラシャツ[[#This Row],[列9]]),0)\n+ IF(AND($U19=1,OR($AD$6=1,$AD$6=3)),COUNTA(t_プラシャツ[[#This Row],[列12]]),0)\n+ IF(AND($U19=1,OR($AE$6=1,$AE$6=3)),COUNTA(t_プラシャツ[[#This Row],[列13]]),0)","v":0},{"$f":"IF(AND($U19>1,OR($V$6=1,$V$6=3)),COUNTA(t_プラシャツ[[#This Row],[列4]]),0)\n+ IF(AND($U19>1,OR($W$6=1,$W$6=3)),COUNTA(t_プラシャツ[[#This Row],[列5]]),0)\n+ IF(AND($U19>1,OR($Z$6=1,$Z$6=3)),COUNTA(t_プラシャツ[[#This Row],[列8]]),0)\n+ IF(AND($U19>1,OR($AA$6=1,$AA$6=3)),COUNTA(t_プラシャツ[[#This Row],[列9]]),0)\n+ IF(AND($U19>1,OR($AD$6=1,$AD$6=3)),COUNTA(t_プラシャツ[[#This Row],[列12]]),0)\n+ IF(AND($U19>1,OR($AE$6=1,$AE$6=3)),COUNTA(t_プラシャツ[[#This Row],[列13]]),0)","v":0},{"$f":"IF(AND($U19=1,$X$6=1),COUNTA(t_プラシャツ[[#This Row],[列6]]),0)\n+ IF(AND($U19=1,$AB$6=1),COUNTA(t_プラシャツ[[#This Row],[列10]]),0)\n+ IF(AND($U19=1,$AF$6=1),COUNTA(t_プラシャツ[[#This Row],[列16]]),0)","v":0},{"$f":"IF(AND($U19>1,$X$6=1),COUNTA(t_プラシャツ[[#This Row],[列6]]),0)\n+ IF(AND($U19>1,$AB$6=1),COUNTA(t_プラシャツ[[#This Row],[列10]]),0)\n+ IF(AND($U19>1,$AF$6=1),COUNTA(t_プラシャツ[[#This Row],[列16]]),0)","v":0},{"$f":"IF($V$7>0,COUNTA(t_プラシャツ[[#This Row],[列4]]),0) + IF($W$7>0,COUNTA(t_プラシャツ[[#This Row],[列5]]),0) + IF($X$7>0,COUNTA(t_プラシャツ[[#This Row],[列6]]),0)\n+IF($Z$7>0,COUNTA(t_プラシャツ[[#This Row],[列8]]),0) + IF($AA$7>0,COUNTA(t_プラシャツ[[#This Row],[列9]]),0) + IF($AB$7>0,COUNTA(t_プラシャツ[[#This Row],[列10]]),0)\n+IF($AD$7>0,COUNTA(t_プラシャツ[[#This Row],[列12]]),0) + IF($AE$7>0,COUNTA(t_プラシャツ[[#This Row],[列13]]),0) + IF($AF$7>0,COUNTA(t_プラシャツ[[#This Row],[列16]]),0)","v":0},{"$f":"IF($V$8>0,COUNTA(t_プラシャツ[[#This Row],[列4]]),0) + IF($W$8>0,COUNTA(t_プラシャツ[[#This Row],[列5]]),0)\n+IF($Z$8>0,COUNTA(t_プラシャツ[[#This Row],[列8]]),0) + IF($AA$8>0,COUNTA(t_プラシャツ[[#This Row],[列9]]),0)\n+IF($AD$8>0,COUNTA(t_プラシャツ[[#This Row],[列12]]),0) + IF($AE$8>0,COUNTA(t_プラシャツ[[#This Row],[列13]]),0)","v":0},{"$f":"IF($V$9>0,COUNTA(t_プラシャツ[[#This Row],[列4]]),0) + IF($W$9>0,COUNTA(t_プラシャツ[[#This Row],[列5]]),0)\n+IF($Z$9>0,COUNTA(t_プラシャツ[[#This Row],[列8]]),0) + IF($AA$9>0,COUNTA(t_プラシャツ[[#This Row],[列9]]),0)\n+IF($AD$9>0,COUNTA(t_プラシャツ[[#This Row],[列12]]),0) + IF($AE$9>0,COUNTA(t_プラシャツ[[#This Row],[列13]]),0)","v":0},{"$f":"IF($V$10>0,COUNTA(t_プラシャツ[[#This Row],[列4]]),0) + IF($W$10>0,COUNTA(t_プラシャツ[[#This Row],[列5]]),0)\n+IF($Z$10>0,COUNTA(t_プラシャツ[[#This Row],[列8]]),0) + IF($AA$10>0,COUNTA(t_プラシャツ[[#This Row],[列9]]),0)\n+IF($AD$10>0,COUNTA(t_プラシャツ[[#This Row],[列12]]),0) + IF($AE$10>0,COUNTA(t_プラシャツ[[#This Row],[列13]]),0)","v":0}]
[null,7,null,null,null,null,null,null,null,null,null,null,null,null,null,null,null,0,null,null,{"$f":"LEN(t_プラシャツ[[#This Row],[列3]])","v":0},{"$f":"IF(LEN(t_プラシャツ[[#This Row],[列4]])>0,\n$F$59+V$11+\nIF(LEN(t_プラシャツ[[#This Row],[列2]])>0,$E$59,0)+\nIF(AND(V$6=1,$U20=1),$M$69+$M$71,\nIF(AND(V$6=1,$U20>1),$M$70+$M$72,\nIF(AND(V$6=2,$U20=1),$M$69,\nIF(AND(V$6=2,$U20>1),$M$70,\nIF(AND(V$6=3,$U20=1),$M$71,\nIF(AND(V$6=3,$U20>1),$M$72,\n0)))))),0)","v":0},{"$f":"IF(LEN(t_プラシャツ[[#This Row],[列5]])>0,\n$G$59+W$11+\nIF(LEN(t_プラシャツ[[#This Row],[列2]])>0,$E$59,0)+\nIF(AND(W$6=1,$U20=1),$M$69+$M$71,\nIF(AND(W$6=1,$U20>1),$M$70+$M$72,\nIF(AND(W$6=2,$U20=1),$M$69,\nIF(AND(W$6=2,$U20>1),$M$70,\nIF(AND(W$6=3,$U20=1),$M$71,\nIF(AND(W$6=3,$U20>1),$M$72,\n0)))))),0)","v":0},{"$f":"IF(LEN(t_プラシャツ[[#This Row],[列6]])>0,\n$H$59+X$11+\nIF(AND(X$6=1,$U20=1),$M$73,\nIF(AND(X$6=1,$U20>1),$M$74,\n0)),0)","v":0},{"$f":"IF(LEN(t_プラシャツ[[#This Row],[列7]])>0,$I$59,0)","v":0},{"$f":"IF(LEN(t_プラシャツ[[#This Row],[列8]])>0,\n$F$59+Z$11+\nIF(LEN(t_プラシャツ[[#This Row],[列2]])>0,$E$59,0)+\nIF(AND(Z$6=1,$U20=1),$M$69+$M$71,\nIF(AND(Z$6=1,$U20>1),$M$70+$M$72,\nIF(AND(Z$6=2,$U20=1),$M$69,\nIF(AND(Z$6=2,$U20>1),$M$70,\nIF(AND(Z$6=3,$U20=1),$M$71,\nIF(AND(Z$6=3,$U20>1),$M$72,\n0)))))),0)","v":0},{"$f":"IF(LEN(t_プラシャツ[[#This Row],[列9]])>0,\n$G$59+AA$11+\nIF(LEN(t_プラシャツ[[#This Row],[列2]])>0,$E$59,0)+\nIF(AND(AA$6=1,$U20=1),$M$69+$M$71,\nIF(AND(AA$6=1,$U20>1),$M$70+$M$72,\nIF(AND(AA$6=2,$U20=1),$M$69,\nIF(AND(AA$6=2,$U20>1),$M$70,\nIF(AND(AA$6=3,$U20=1),$M$71,\nIF(AND(AA$6=3,$U20>1),$M$72,\n0)))))),0)","v":0},{"$f":"IF(LEN(t_プラシャツ[[#This Row],[列10]])>0,\n$H$59+AB$11+\nIF(AND(AB$6=1,$U20=1),$M$73,\nIF(AND(AB$6=1,$U20>1),$M$74,\n0)),0)","v":0},{"$f":"IF(LEN(t_プラシャツ[[#This Row],[列11]])>0,$I$59,0)","v":0},{"$f":"IF(LEN(t_プラシャツ[[#This Row],[列12]])>0,\n$F$59+AD$11+\nIF(LEN(t_プラシャツ[[#This Row],[列2]])>0,$E$59,0)+\nIF(AND(AD$6=1,$U20=1),$M$69+$M$71,\nIF(AND(AD$6=1,$U20>1),$M$70+$M$72,\nIF(AND(AD$6=2,$U20=1),$M$69,\nIF(AND(AD$6=2,$U20>1),$M$70,\nIF(AND(AD$6=3,$U20=1),$M$71,\nIF(AND(AD$6=3,$U20>1),$M$72,\n0)))))),0)","v":0},{"$f":"IF(LEN(t_プラシャツ[[#This Row],[列13]])>0,\n$G$59+AE$11+\nIF(LEN(t_プラシャツ[[#This Row],[列2]])>0,$E$59,0)+\nIF(AND(AE$6=1,$U20=1),$M$69+$M$71,\nIF(AND(AE$6=1,$U20>1),$M$70+$M$72,\nIF(AND(AE$6=2,$U20=1),$M$69,\nIF(AND(AE$6=2,$U20>1),$M$70,\nIF(AND(AE$6=3,$U20=1),$M$71,\nIF(AND(AE$6=3,$U20>1),$M$72,\n0)))))),0)","v":0},{"$f":"IF(LEN(t_プラシャツ[[#This Row],[列16]])>0,\n$H$59+AF$11+\nIF(AND(AF$6=1,$U20=1),$M$73,\nIF(AND(AF$6=1,$U20>1),$M$74,\n0)),0)","v":0},{"$f":"IF(LEN(t_プラシャツ[[#This Row],[列17]])>0,$I$59,0)","v":0},null,{"$f":"IF(LEN(t_プラシャツ[[#This Row],[列2]])>0,COUNTA(t_プラシャツ[[#This Row],[列4]:[列5]],t_プラシャツ[[#This Row],[列8]:[列9]],t_プラシャツ[[#This Row],[列12]:[列13]]),0)","v":0},{"$f":"IF(AND($U20=1,OR($V$6=1,$V$6=2)),COUNTA(t_プラシャツ[[#This Row],[列4]]),0)\n+ IF(AND($U20=1,OR($W$6=1,$W$6=2)),COUNTA(t_プラシャツ[[#This Row],[列5]]),0)\n+ IF(AND($U20=1,OR($Z$6=1,$Z$6=2)),COUNTA(t_プラシャツ[[#This Row],[列8]]),0)\n+ IF(AND($U20=1,OR($AA$6=1,$AA$6=2)),COUNTA(t_プラシャツ[[#This Row],[列9]]),0)\n+ IF(AND($U20=1,OR($AD$6=1,$AD$6=2)),COUNTA(t_プラシャツ[[#This Row],[列12]]),0)\n+ IF(AND($U20=1,OR($AE$6=1,$AE$6=2)),COUNTA(t_プラシャツ[[#This Row],[列13]]),0)","v":0},{"$f":"IF(AND($U20>1,OR($V$6=1,$V$6=2)),COUNTA(t_プラシャツ[[#This Row],[列4]]),0)\n+ IF(AND($U20>1,OR($W$6=1,$W$6=2)),COUNTA(t_プラシャツ[[#This Row],[列5]]),0)\n+ IF(AND($U20>1,OR($Z$6=1,$Z$6=2)),COUNTA(t_プラシャツ[[#This Row],[列8]]),0)\n+ IF(AND($U20>1,OR($AA$6=1,$AA$6=2)),COUNTA(t_プラシャツ[[#This Row],[列9]]),0)\n+ IF(AND($U20>1,OR($AD$6=1,$AD$6=2)),COUNTA(t_プラシャツ[[#This Row],[列12]]),0)\n+ IF(AND($U20>1,OR($AE$6=1,$AE$6=2)),COUNTA(t_プラシャツ[[#This Row],[列13]]),0)","v":0},{"$f":"IF(AND($U20=1,OR($V$6=1,$V$6=3)),COUNTA(t_プラシャツ[[#This Row],[列4]]),0)\n+ IF(AND($U20=1,OR($W$6=1,$W$6=3)),COUNTA(t_プラシャツ[[#This Row],[列5]]),0)\n+ IF(AND($U20=1,OR($Z$6=1,$Z$6=3)),COUNTA(t_プラシャツ[[#This Row],[列8]]),0)\n+ IF(AND($U20=1,OR($AA$6=1,$AA$6=3)),COUNTA(t_プラシャツ[[#This Row],[列9]]),0)\n+ IF(AND($U20=1,OR($AD$6=1,$AD$6=3)),COUNTA(t_プラシャツ[[#This Row],[列12]]),0)\n+ IF(AND($U20=1,OR($AE$6=1,$AE$6=3)),COUNTA(t_プラシャツ[[#This Row],[列13]]),0)","v":0},{"$f":"IF(AND($U20>1,OR($V$6=1,$V$6=3)),COUNTA(t_プラシャツ[[#This Row],[列4]]),0)\n+ IF(AND($U20>1,OR($W$6=1,$W$6=3)),COUNTA(t_プラシャツ[[#This Row],[列5]]),0)\n+ IF(AND($U20>1,OR($Z$6=1,$Z$6=3)),COUNTA(t_プラシャツ[[#This Row],[列8]]),0)\n+ IF(AND($U20>1,OR($AA$6=1,$AA$6=3)),COUNTA(t_プラシャツ[[#This Row],[列9]]),0)\n+ IF(AND($U20>1,OR($AD$6=1,$AD$6=3)),COUNTA(t_プラシャツ[[#This Row],[列12]]),0)\n+ IF(AND($U20>1,OR($AE$6=1,$AE$6=3)),COUNTA(t_プラシャツ[[#This Row],[列13]]),0)","v":0},{"$f":"IF(AND($U20=1,$X$6=1),COUNTA(t_プラシャツ[[#This Row],[列6]]),0)\n+ IF(AND($U20=1,$AB$6=1),COUNTA(t_プラシャツ[[#This Row],[列10]]),0)\n+ IF(AND($U20=1,$AF$6=1),COUNTA(t_プラシャツ[[#This Row],[列16]]),0)","v":0},{"$f":"IF(AND($U20>1,$X$6=1),COUNTA(t_プラシャツ[[#This Row],[列6]]),0)\n+ IF(AND($U20>1,$AB$6=1),COUNTA(t_プラシャツ[[#This Row],[列10]]),0)\n+ IF(AND($U20>1,$AF$6=1),COUNTA(t_プラシャツ[[#This Row],[列16]]),0)","v":0},{"$f":"IF($V$7>0,COUNTA(t_プラシャツ[[#This Row],[列4]]),0) + IF($W$7>0,COUNTA(t_プラシャツ[[#This Row],[列5]]),0) + IF($X$7>0,COUNTA(t_プラシャツ[[#This Row],[列6]]),0)\n+IF($Z$7>0,COUNTA(t_プラシャツ[[#This Row],[列8]]),0) + IF($AA$7>0,COUNTA(t_プラシャツ[[#This Row],[列9]]),0) + IF($AB$7>0,COUNTA(t_プラシャツ[[#This Row],[列10]]),0)\n+IF($AD$7>0,COUNTA(t_プラシャツ[[#This Row],[列12]]),0) + IF($AE$7>0,COUNTA(t_プラシャツ[[#This Row],[列13]]),0) + IF($AF$7>0,COUNTA(t_プラシャツ[[#This Row],[列16]]),0)","v":0},{"$f":"IF($V$8>0,COUNTA(t_プラシャツ[[#This Row],[列4]]),0) + IF($W$8>0,COUNTA(t_プラシャツ[[#This Row],[列5]]),0)\n+IF($Z$8>0,COUNTA(t_プラシャツ[[#This Row],[列8]]),0) + IF($AA$8>0,COUNTA(t_プラシャツ[[#This Row],[列9]]),0)\n+IF($AD$8>0,COUNTA(t_プラシャツ[[#This Row],[列12]]),0) + IF($AE$8>0,COUNTA(t_プラシャツ[[#This Row],[列13]]),0)","v":0},{"$f":"IF($V$9>0,COUNTA(t_プラシャツ[[#This Row],[列4]]),0) + IF($W$9>0,COUNTA(t_プラシャツ[[#This Row],[列5]]),0)\n+IF($Z$9>0,COUNTA(t_プラシャツ[[#This Row],[列8]]),0) + IF($AA$9>0,COUNTA(t_プラシャツ[[#This Row],[列9]]),0)\n+IF($AD$9>0,COUNTA(t_プラシャツ[[#This Row],[列12]]),0) + IF($AE$9>0,COUNTA(t_プラシャツ[[#This Row],[列13]]),0)","v":0},{"$f":"IF($V$10>0,COUNTA(t_プラシャツ[[#This Row],[列4]]),0) + IF($W$10>0,COUNTA(t_プラシャツ[[#This Row],[列5]]),0)\n+IF($Z$10>0,COUNTA(t_プラシャツ[[#This Row],[列8]]),0) + IF($AA$10>0,COUNTA(t_プラシャツ[[#This Row],[列9]]),0)\n+IF($AD$10>0,COUNTA(t_プラシャツ[[#This Row],[列12]]),0) + IF($AE$10>0,COUNTA(t_プラシャツ[[#This Row],[列13]]),0)","v":0}]
[null,8,null,null,null,null,null,null,null,null,null,null,null,null,null,null,null,0,null,null,{"$f":"LEN(t_プラシャツ[[#This Row],[列3]])","v":0},{"$f":"IF(LEN(t_プラシャツ[[#This Row],[列4]])>0,\n$F$59+V$11+\nIF(LEN(t_プラシャツ[[#This Row],[列2]])>0,$E$59,0)+\nIF(AND(V$6=1,$U21=1),$M$69+$M$71,\nIF(AND(V$6=1,$U21>1),$M$70+$M$72,\nIF(AND(V$6=2,$U21=1),$M$69,\nIF(AND(V$6=2,$U21>1),$M$70,\nIF(AND(V$6=3,$U21=1),$M$71,\nIF(AND(V$6=3,$U21>1),$M$72,\n0)))))),0)","v":0},{"$f":"IF(LEN(t_プラシャツ[[#This Row],[列5]])>0,\n$G$59+W$11+\nIF(LEN(t_プラシャツ[[#This Row],[列2]])>0,$E$59,0)+\nIF(AND(W$6=1,$U21=1),$M$69+$M$71,\nIF(AND(W$6=1,$U21>1),$M$70+$M$72,\nIF(AND(W$6=2,$U21=1),$M$69,\nIF(AND(W$6=2,$U21>1),$M$70,\nIF(AND(W$6=3,$U21=1),$M$71,\nIF(AND(W$6=3,$U21>1),$M$72,\n0)))))),0)","v":0},{"$f":"IF(LEN(t_プラシャツ[[#This Row],[列6]])>0,\n$H$59+X$11+\nIF(AND(X$6=1,$U21=1),$M$73,\nIF(AND(X$6=1,$U21>1),$M$74,\n0)),0)","v":0},{"$f":"IF(LEN(t_プラシャツ[[#This Row],[列7]])>0,$I$59,0)","v":0},{"$f":"IF(LEN(t_プラシャツ[[#This Row],[列8]])>0,\n$F$59+Z$11+\nIF(LEN(t_プラシャツ[[#This Row],[列2]])>0,$E$59,0)+\nIF(AND(Z$6=1,$U21=1),$M$69+$M$71,\nIF(AND(Z$6=1,$U21>1),$M$70+$M$72,\nIF(AND(Z$6=2,$U21=1),$M$69,\nIF(AND(Z$6=2,$U21>1),$M$70,\nIF(AND(Z$6=3,$U21=1),$M$71,\nIF(AND(Z$6=3,$U21>1),$M$72,\n0)))))),0)","v":0},{"$f":"IF(LEN(t_プラシャツ[[#This Row],[列9]])>0,\n$G$59+AA$11+\nIF(LEN(t_プラシャツ[[#This Row],[列2]])>0,$E$59,0)+\nIF(AND(AA$6=1,$U21=1),$M$69+$M$71,\nIF(AND(AA$6=1,$U21>1),$M$70+$M$72,\nIF(AND(AA$6=2,$U21=1),$M$69,\nIF(AND(AA$6=2,$U21>1),$M$70,\nIF(AND(AA$6=3,$U21=1),$M$71,\nIF(AND(AA$6=3,$U21>1),$M$72,\n0)))))),0)","v":0},{"$f":"IF(LEN(t_プラシャツ[[#This Row],[列10]])>0,\n$H$59+AB$11+\nIF(AND(AB$6=1,$U21=1),$M$73,\nIF(AND(AB$6=1,$U21>1),$M$74,\n0)),0)","v":0},{"$f":"IF(LEN(t_プラシャツ[[#This Row],[列11]])>0,$I$59,0)","v":0},{"$f":"IF(LEN(t_プラシャツ[[#This Row],[列12]])>0,\n$F$59+AD$11+\nIF(LEN(t_プラシャツ[[#This Row],[列2]])>0,$E$59,0)+\nIF(AND(AD$6=1,$U21=1),$M$69+$M$71,\nIF(AND(AD$6=1,$U21>1),$M$70+$M$72,\nIF(AND(AD$6=2,$U21=1),$M$69,\nIF(AND(AD$6=2,$U21>1),$M$70,\nIF(AND(AD$6=3,$U21=1),$M$71,\nIF(AND(AD$6=3,$U21>1),$M$72,\n0)))))),0)","v":0},{"$f":"IF(LEN(t_プラシャツ[[#This Row],[列13]])>0,\n$G$59+AE$11+\nIF(LEN(t_プラシャツ[[#This Row],[列2]])>0,$E$59,0)+\nIF(AND(AE$6=1,$U21=1),$M$69+$M$71,\nIF(AND(AE$6=1,$U21>1),$M$70+$M$72,\nIF(AND(AE$6=2,$U21=1),$M$69,\nIF(AND(AE$6=2,$U21>1),$M$70,\nIF(AND(AE$6=3,$U21=1),$M$71,\nIF(AND(AE$6=3,$U21>1),$M$72,\n0)))))),0)","v":0},{"$f":"IF(LEN(t_プラシャツ[[#This Row],[列16]])>0,\n$H$59+AF$11+\nIF(AND(AF$6=1,$U21=1),$M$73,\nIF(AND(AF$6=1,$U21>1),$M$74,\n0)),0)","v":0},{"$f":"IF(LEN(t_プラシャツ[[#This Row],[列17]])>0,$I$59,0)","v":0},null,{"$f":"IF(LEN(t_プラシャツ[[#This Row],[列2]])>0,COUNTA(t_プラシャツ[[#This Row],[列4]:[列5]],t_プラシャツ[[#This Row],[列8]:[列9]],t_プラシャツ[[#This Row],[列12]:[列13]]),0)","v":0},{"$f":"IF(AND($U21=1,OR($V$6=1,$V$6=2)),COUNTA(t_プラシャツ[[#This Row],[列4]]),0)\n+ IF(AND($U21=1,OR($W$6=1,$W$6=2)),COUNTA(t_プラシャツ[[#This Row],[列5]]),0)\n+ IF(AND($U21=1,OR($Z$6=1,$Z$6=2)),COUNTA(t_プラシャツ[[#This Row],[列8]]),0)\n+ IF(AND($U21=1,OR($AA$6=1,$AA$6=2)),COUNTA(t_プラシャツ[[#This Row],[列9]]),0)\n+ IF(AND($U21=1,OR($AD$6=1,$AD$6=2)),COUNTA(t_プラシャツ[[#This Row],[列12]]),0)\n+ IF(AND($U21=1,OR($AE$6=1,$AE$6=2)),COUNTA(t_プラシャツ[[#This Row],[列13]]),0)","v":0},{"$f":"IF(AND($U21>1,OR($V$6=1,$V$6=2)),COUNTA(t_プラシャツ[[#This Row],[列4]]),0)\n+ IF(AND($U21>1,OR($W$6=1,$W$6=2)),COUNTA(t_プラシャツ[[#This Row],[列5]]),0)\n+ IF(AND($U21>1,OR($Z$6=1,$Z$6=2)),COUNTA(t_プラシャツ[[#This Row],[列8]]),0)\n+ IF(AND($U21>1,OR($AA$6=1,$AA$6=2)),COUNTA(t_プラシャツ[[#This Row],[列9]]),0)\n+ IF(AND($U21>1,OR($AD$6=1,$AD$6=2)),COUNTA(t_プラシャツ[[#This Row],[列12]]),0)\n+ IF(AND($U21>1,OR($AE$6=1,$AE$6=2)),COUNTA(t_プラシャツ[[#This Row],[列13]]),0)","v":0},{"$f":"IF(AND($U21=1,OR($V$6=1,$V$6=3)),COUNTA(t_プラシャツ[[#This Row],[列4]]),0)\n+ IF(AND($U21=1,OR($W$6=1,$W$6=3)),COUNTA(t_プラシャツ[[#This Row],[列5]]),0)\n+ IF(AND($U21=1,OR($Z$6=1,$Z$6=3)),COUNTA(t_プラシャツ[[#This Row],[列8]]),0)\n+ IF(AND($U21=1,OR($AA$6=1,$AA$6=3)),COUNTA(t_プラシャツ[[#This Row],[列9]]),0)\n+ IF(AND($U21=1,OR($AD$6=1,$AD$6=3)),COUNTA(t_プラシャツ[[#This Row],[列12]]),0)\n+ IF(AND($U21=1,OR($AE$6=1,$AE$6=3)),COUNTA(t_プラシャツ[[#This Row],[列13]]),0)","v":0},{"$f":"IF(AND($U21>1,OR($V$6=1,$V$6=3)),COUNTA(t_プラシャツ[[#This Row],[列4]]),0)\n+ IF(AND($U21>1,OR($W$6=1,$W$6=3)),COUNTA(t_プラシャツ[[#This Row],[列5]]),0)\n+ IF(AND($U21>1,OR($Z$6=1,$Z$6=3)),COUNTA(t_プラシャツ[[#This Row],[列8]]),0)\n+ IF(AND($U21>1,OR($AA$6=1,$AA$6=3)),COUNTA(t_プラシャツ[[#This Row],[列9]]),0)\n+ IF(AND($U21>1,OR($AD$6=1,$AD$6=3)),COUNTA(t_プラシャツ[[#This Row],[列12]]),0)\n+ IF(AND($U21>1,OR($AE$6=1,$AE$6=3)),COUNTA(t_プラシャツ[[#This Row],[列13]]),0)","v":0},{"$f":"IF(AND($U21=1,$X$6=1),COUNTA(t_プラシャツ[[#This Row],[列6]]),0)\n+ IF(AND($U21=1,$AB$6=1),COUNTA(t_プラシャツ[[#This Row],[列10]]),0)\n+ IF(AND($U21=1,$AF$6=1),COUNTA(t_プラシャツ[[#This Row],[列16]]),0)","v":0},{"$f":"IF(AND($U21>1,$X$6=1),COUNTA(t_プラシャツ[[#This Row],[列6]]),0)\n+ IF(AND($U21>1,$AB$6=1),COUNTA(t_プラシャツ[[#This Row],[列10]]),0)\n+ IF(AND($U21>1,$AF$6=1),COUNTA(t_プラシャツ[[#This Row],[列16]]),0)","v":0},{"$f":"IF($V$7>0,COUNTA(t_プラシャツ[[#This Row],[列4]]),0) + IF($W$7>0,COUNTA(t_プラシャツ[[#This Row],[列5]]),0) + IF($X$7>0,COUNTA(t_プラシャツ[[#This Row],[列6]]),0)\n+IF($Z$7>0,COUNTA(t_プラシャツ[[#This Row],[列8]]),0) + IF($AA$7>0,COUNTA(t_プラシャツ[[#This Row],[列9]]),0) + IF($AB$7>0,COUNTA(t_プラシャツ[[#This Row],[列10]]),0)\n+IF($AD$7>0,COUNTA(t_プラシャツ[[#This Row],[列12]]),0) + IF($AE$7>0,COUNTA(t_プラシャツ[[#This Row],[列13]]),0) + IF($AF$7>0,COUNTA(t_プラシャツ[[#This Row],[列16]]),0)","v":0},{"$f":"IF($V$8>0,COUNTA(t_プラシャツ[[#This Row],[列4]]),0) + IF($W$8>0,COUNTA(t_プラシャツ[[#This Row],[列5]]),0)\n+IF($Z$8>0,COUNTA(t_プラシャツ[[#This Row],[列8]]),0) + IF($AA$8>0,COUNTA(t_プラシャツ[[#This Row],[列9]]),0)\n+IF($AD$8>0,COUNTA(t_プラシャツ[[#This Row],[列12]]),0) + IF($AE$8>0,COUNTA(t_プラシャツ[[#This Row],[列13]]),0)","v":0},{"$f":"IF($V$9>0,COUNTA(t_プラシャツ[[#This Row],[列4]]),0) + IF($W$9>0,COUNTA(t_プラシャツ[[#This Row],[列5]]),0)\n+IF($Z$9>0,COUNTA(t_プラシャツ[[#This Row],[列8]]),0) + IF($AA$9>0,COUNTA(t_プラシャツ[[#This Row],[列9]]),0)\n+IF($AD$9>0,COUNTA(t_プラシャツ[[#This Row],[列12]]),0) + IF($AE$9>0,COUNTA(t_プラシャツ[[#This Row],[列13]]),0)","v":0},{"$f":"IF($V$10>0,COUNTA(t_プラシャツ[[#This Row],[列4]]),0) + IF($W$10>0,COUNTA(t_プラシャツ[[#This Row],[列5]]),0)\n+IF($Z$10>0,COUNTA(t_プラシャツ[[#This Row],[列8]]),0) + IF($AA$10>0,COUNTA(t_プラシャツ[[#This Row],[列9]]),0)\n+IF($AD$10>0,COUNTA(t_プラシャツ[[#This Row],[列12]]),0) + IF($AE$10>0,COUNTA(t_プラシャツ[[#This Row],[列13]]),0)","v":0}]
[null,9,null,null,null,null,null,null,null,null,null,null,null,null,null,null,null,0,null,null,{"$f":"LEN(t_プラシャツ[[#This Row],[列3]])","v":0},{"$f":"IF(LEN(t_プラシャツ[[#This Row],[列4]])>0,\n$F$59+V$11+\nIF(LEN(t_プラシャツ[[#This Row],[列2]])>0,$E$59,0)+\nIF(AND(V$6=1,$U22=1),$M$69+$M$71,\nIF(AND(V$6=1,$U22>1),$M$70+$M$72,\nIF(AND(V$6=2,$U22=1),$M$69,\nIF(AND(V$6=2,$U22>1),$M$70,\nIF(AND(V$6=3,$U22=1),$M$71,\nIF(AND(V$6=3,$U22>1),$M$72,\n0)))))),0)","v":0},{"$f":"IF(LEN(t_プラシャツ[[#This Row],[列5]])>0,\n$G$59+W$11+\nIF(LEN(t_プラシャツ[[#This Row],[列2]])>0,$E$59,0)+\nIF(AND(W$6=1,$U22=1),$M$69+$M$71,\nIF(AND(W$6=1,$U22>1),$M$70+$M$72,\nIF(AND(W$6=2,$U22=1),$M$69,\nIF(AND(W$6=2,$U22>1),$M$70,\nIF(AND(W$6=3,$U22=1),$M$71,\nIF(AND(W$6=3,$U22>1),$M$72,\n0)))))),0)","v":0},{"$f":"IF(LEN(t_プラシャツ[[#This Row],[列6]])>0,\n$H$59+X$11+\nIF(AND(X$6=1,$U22=1),$M$73,\nIF(AND(X$6=1,$U22>1),$M$74,\n0)),0)","v":0},{"$f":"IF(LEN(t_プラシャツ[[#This Row],[列7]])>0,$I$59,0)","v":0},{"$f":"IF(LEN(t_プラシャツ[[#This Row],[列8]])>0,\n$F$59+Z$11+\nIF(LEN(t_プラシャツ[[#This Row],[列2]])>0,$E$59,0)+\nIF(AND(Z$6=1,$U22=1),$M$69+$M$71,\nIF(AND(Z$6=1,$U22>1),$M$70+$M$72,\nIF(AND(Z$6=2,$U22=1),$M$69,\nIF(AND(Z$6=2,$U22>1),$M$70,\nIF(AND(Z$6=3,$U22=1),$M$71,\nIF(AND(Z$6=3,$U22>1),$M$72,\n0)))))),0)","v":0},{"$f":"IF(LEN(t_プラシャツ[[#This Row],[列9]])>0,\n$G$59+AA$11+\nIF(LEN(t_プラシャツ[[#This Row],[列2]])>0,$E$59,0)+\nIF(AND(AA$6=1,$U22=1),$M$69+$M$71,\nIF(AND(AA$6=1,$U22>1),$M$70+$M$72,\nIF(AND(AA$6=2,$U22=1),$M$69,\nIF(AND(AA$6=2,$U22>1),$M$70,\nIF(AND(AA$6=3,$U22=1),$M$71,\nIF(AND(AA$6=3,$U22>1),$M$72,\n0)))))),0)","v":0},{"$f":"IF(LEN(t_プラシャツ[[#This Row],[列10]])>0,\n$H$59+AB$11+\nIF(AND(AB$6=1,$U22=1),$M$73,\nIF(AND(AB$6=1,$U22>1),$M$74,\n0)),0)","v":0},{"$f":"IF(LEN(t_プラシャツ[[#This Row],[列11]])>0,$I$59,0)","v":0},{"$f":"IF(LEN(t_プラシャツ[[#This Row],[列12]])>0,\n$F$59+AD$11+\nIF(LEN(t_プラシャツ[[#This Row],[列2]])>0,$E$59,0)+\nIF(AND(AD$6=1,$U22=1),$M$69+$M$71,\nIF(AND(AD$6=1,$U22>1),$M$70+$M$72,\nIF(AND(AD$6=2,$U22=1),$M$69,\nIF(AND(AD$6=2,$U22>1),$M$70,\nIF(AND(AD$6=3,$U22=1),$M$71,\nIF(AND(AD$6=3,$U22>1),$M$72,\n0)))))),0)","v":0},{"$f":"IF(LEN(t_プラシャツ[[#This Row],[列13]])>0,\n$G$59+AE$11+\nIF(LEN(t_プラシャツ[[#This Row],[列2]])>0,$E$59,0)+\nIF(AND(AE$6=1,$U22=1),$M$69+$M$71,\nIF(AND(AE$6=1,$U22>1),$M$70+$M$72,\nIF(AND(AE$6=2,$U22=1),$M$69,\nIF(AND(AE$6=2,$U22>1),$M$70,\nIF(AND(AE$6=3,$U22=1),$M$71,\nIF(AND(AE$6=3,$U22>1),$M$72,\n0)))))),0)","v":0},{"$f":"IF(LEN(t_プラシャツ[[#This Row],[列16]])>0,\n$H$59+AF$11+\nIF(AND(AF$6=1,$U22=1),$M$73,\nIF(AND(AF$6=1,$U22>1),$M$74,\n0)),0)","v":0},{"$f":"IF(LEN(t_プラシャツ[[#This Row],[列17]])>0,$I$59,0)","v":0},null,{"$f":"IF(LEN(t_プラシャツ[[#This Row],[列2]])>0,COUNTA(t_プラシャツ[[#This Row],[列4]:[列5]],t_プラシャツ[[#This Row],[列8]:[列9]],t_プラシャツ[[#This Row],[列12]:[列13]]),0)","v":0},{"$f":"IF(AND($U22=1,OR($V$6=1,$V$6=2)),COUNTA(t_プラシャツ[[#This Row],[列4]]),0)\n+ IF(AND($U22=1,OR($W$6=1,$W$6=2)),COUNTA(t_プラシャツ[[#This Row],[列5]]),0)\n+ IF(AND($U22=1,OR($Z$6=1,$Z$6=2)),COUNTA(t_プラシャツ[[#This Row],[列8]]),0)\n+ IF(AND($U22=1,OR($AA$6=1,$AA$6=2)),COUNTA(t_プラシャツ[[#This Row],[列9]]),0)\n+ IF(AND($U22=1,OR($AD$6=1,$AD$6=2)),COUNTA(t_プラシャツ[[#This Row],[列12]]),0)\n+ IF(AND($U22=1,OR($AE$6=1,$AE$6=2)),COUNTA(t_プラシャツ[[#This Row],[列13]]),0)","v":0},{"$f":"IF(AND($U22>1,OR($V$6=1,$V$6=2)),COUNTA(t_プラシャツ[[#This Row],[列4]]),0)\n+ IF(AND($U22>1,OR($W$6=1,$W$6=2)),COUNTA(t_プラシャツ[[#This Row],[列5]]),0)\n+ IF(AND($U22>1,OR($Z$6=1,$Z$6=2)),COUNTA(t_プラシャツ[[#This Row],[列8]]),0)\n+ IF(AND($U22>1,OR($AA$6=1,$AA$6=2)),COUNTA(t_プラシャツ[[#This Row],[列9]]),0)\n+ IF(AND($U22>1,OR($AD$6=1,$AD$6=2)),COUNTA(t_プラシャツ[[#This Row],[列12]]),0)\n+ IF(AND($U22>1,OR($AE$6=1,$AE$6=2)),COUNTA(t_プラシャツ[[#This Row],[列13]]),0)","v":0},{"$f":"IF(AND($U22=1,OR($V$6=1,$V$6=3)),COUNTA(t_プラシャツ[[#This Row],[列4]]),0)\n+ IF(AND($U22=1,OR($W$6=1,$W$6=3)),COUNTA(t_プラシャツ[[#This Row],[列5]]),0)\n+ IF(AND($U22=1,OR($Z$6=1,$Z$6=3)),COUNTA(t_プラシャツ[[#This Row],[列8]]),0)\n+ IF(AND($U22=1,OR($AA$6=1,$AA$6=3)),COUNTA(t_プラシャツ[[#This Row],[列9]]),0)\n+ IF(AND($U22=1,OR($AD$6=1,$AD$6=3)),COUNTA(t_プラシャツ[[#This Row],[列12]]),0)\n+ IF(AND($U22=1,OR($AE$6=1,$AE$6=3)),COUNTA(t_プラシャツ[[#This Row],[列13]]),0)","v":0},{"$f":"IF(AND($U22>1,OR($V$6=1,$V$6=3)),COUNTA(t_プラシャツ[[#This Row],[列4]]),0)\n+ IF(AND($U22>1,OR($W$6=1,$W$6=3)),COUNTA(t_プラシャツ[[#This Row],[列5]]),0)\n+ IF(AND($U22>1,OR($Z$6=1,$Z$6=3)),COUNTA(t_プラシャツ[[#This Row],[列8]]),0)\n+ IF(AND($U22>1,OR($AA$6=1,$AA$6=3)),COUNTA(t_プラシャツ[[#This Row],[列9]]),0)\n+ IF(AND($U22>1,OR($AD$6=1,$AD$6=3)),COUNTA(t_プラシャツ[[#This Row],[列12]]),0)\n+ IF(AND($U22>1,OR($AE$6=1,$AE$6=3)),COUNTA(t_プラシャツ[[#This Row],[列13]]),0)","v":0},{"$f":"IF(AND($U22=1,$X$6=1),COUNTA(t_プラシャツ[[#This Row],[列6]]),0)\n+ IF(AND($U22=1,$AB$6=1),COUNTA(t_プラシャツ[[#This Row],[列10]]),0)\n+ IF(AND($U22=1,$AF$6=1),COUNTA(t_プラシャツ[[#This Row],[列16]]),0)","v":0},{"$f":"IF(AND($U22>1,$X$6=1),COUNTA(t_プラシャツ[[#This Row],[列6]]),0)\n+ IF(AND($U22>1,$AB$6=1),COUNTA(t_プラシャツ[[#This Row],[列10]]),0)\n+ IF(AND($U22>1,$AF$6=1),COUNTA(t_プラシャツ[[#This Row],[列16]]),0)","v":0},{"$f":"IF($V$7>0,COUNTA(t_プラシャツ[[#This Row],[列4]]),0) + IF($W$7>0,COUNTA(t_プラシャツ[[#This Row],[列5]]),0) + IF($X$7>0,COUNTA(t_プラシャツ[[#This Row],[列6]]),0)\n+IF($Z$7>0,COUNTA(t_プラシャツ[[#This Row],[列8]]),0) + IF($AA$7>0,COUNTA(t_プラシャツ[[#This Row],[列9]]),0) + IF($AB$7>0,COUNTA(t_プラシャツ[[#This Row],[列10]]),0)\n+IF($AD$7>0,COUNTA(t_プラシャツ[[#This Row],[列12]]),0) + IF($AE$7>0,COUNTA(t_プラシャツ[[#This Row],[列13]]),0) + IF($AF$7>0,COUNTA(t_プラシャツ[[#This Row],[列16]]),0)","v":0},{"$f":"IF($V$8>0,COUNTA(t_プラシャツ[[#This Row],[列4]]),0) + IF($W$8>0,COUNTA(t_プラシャツ[[#This Row],[列5]]),0)\n+IF($Z$8>0,COUNTA(t_プラシャツ[[#This Row],[列8]]),0) + IF($AA$8>0,COUNTA(t_プラシャツ[[#This Row],[列9]]),0)\n+IF($AD$8>0,COUNTA(t_プラシャツ[[#This Row],[列12]]),0) + IF($AE$8>0,COUNTA(t_プラシャツ[[#This Row],[列13]]),0)","v":0},{"$f":"IF($V$9>0,COUNTA(t_プラシャツ[[#This Row],[列4]]),0) + IF($W$9>0,COUNTA(t_プラシャツ[[#This Row],[列5]]),0)\n+IF($Z$9>0,COUNTA(t_プラシャツ[[#This Row],[列8]]),0) + IF($AA$9>0,COUNTA(t_プラシャツ[[#This Row],[列9]]),0)\n+IF($AD$9>0,COUNTA(t_プラシャツ[[#This Row],[列12]]),0) + IF($AE$9>0,COUNTA(t_プラシャツ[[#This Row],[列13]]),0)","v":0},{"$f":"IF($V$10>0,COUNTA(t_プラシャツ[[#This Row],[列4]]),0) + IF($W$10>0,COUNTA(t_プラシャツ[[#This Row],[列5]]),0)\n+IF($Z$10>0,COUNTA(t_プラシャツ[[#This Row],[列8]]),0) + IF($AA$10>0,COUNTA(t_プラシャツ[[#This Row],[列9]]),0)\n+IF($AD$10>0,COUNTA(t_プラシャツ[[#This Row],[列12]]),0) + IF($AE$10>0,COUNTA(t_プラシャツ[[#This Row],[列13]]),0)","v":0}]
[null,10,null,null,null,null,null,null,null,null,null,null,null,null,null,null,null,0,null,null,{"$f":"LEN(t_プラシャツ[[#This Row],[列3]])","v":0},{"$f":"IF(LEN(t_プラシャツ[[#This Row],[列4]])>0,\n$F$59+V$11+\nIF(LEN(t_プラシャツ[[#This Row],[列2]])>0,$E$59,0)+\nIF(AND(V$6=1,$U23=1),$M$69+$M$71,\nIF(AND(V$6=1,$U23>1),$M$70+$M$72,\nIF(AND(V$6=2,$U23=1),$M$69,\nIF(AND(V$6=2,$U23>1),$M$70,\nIF(AND(V$6=3,$U23=1),$M$71,\nIF(AND(V$6=3,$U23>1),$M$72,\n0)))))),0)","v":0},{"$f":"IF(LEN(t_プラシャツ[[#This Row],[列5]])>0,\n$G$59+W$11+\nIF(LEN(t_プラシャツ[[#This Row],[列2]])>0,$E$59,0)+\nIF(AND(W$6=1,$U23=1),$M$69+$M$71,\nIF(AND(W$6=1,$U23>1),$M$70+$M$72,\nIF(AND(W$6=2,$U23=1),$M$69,\nIF(AND(W$6=2,$U23>1),$M$70,\nIF(AND(W$6=3,$U23=1),$M$71,\nIF(AND(W$6=3,$U23>1),$M$72,\n0)))))),0)","v":0},{"$f":"IF(LEN(t_プラシャツ[[#This Row],[列6]])>0,\n$H$59+X$11+\nIF(AND(X$6=1,$U23=1),$M$73,\nIF(AND(X$6=1,$U23>1),$M$74,\n0)),0)","v":0},{"$f":"IF(LEN(t_プラシャツ[[#This Row],[列7]])>0,$I$59,0)","v":0},{"$f":"IF(LEN(t_プラシャツ[[#This Row],[列8]])>0,\n$F$59+Z$11+\nIF(LEN(t_プラシャツ[[#This Row],[列2]])>0,$E$59,0)+\nIF(AND(Z$6=1,$U23=1),$M$69+$M$71,\nIF(AND(Z$6=1,$U23>1),$M$70+$M$72,\nIF(AND(Z$6=2,$U23=1),$M$69,\nIF(AND(Z$6=2,$U23>1),$M$70,\nIF(AND(Z$6=3,$U23=1),$M$71,\nIF(AND(Z$6=3,$U23>1),$M$72,\n0)))))),0)","v":0},{"$f":"IF(LEN(t_プラシャツ[[#This Row],[列9]])>0,\n$G$59+AA$11+\nIF(LEN(t_プラシャツ[[#This Row],[列2]])>0,$E$59,0)+\nIF(AND(AA$6=1,$U23=1),$M$69+$M$71,\nIF(AND(AA$6=1,$U23>1),$M$70+$M$72,\nIF(AND(AA$6=2,$U23=1),$M$69,\nIF(AND(AA$6=2,$U23>1),$M$70,\nIF(AND(AA$6=3,$U23=1),$M$71,\nIF(AND(AA$6=3,$U23>1),$M$72,\n0)))))),0)","v":0},{"$f":"IF(LEN(t_プラシャツ[[#This Row],[列10]])>0,\n$H$59+AB$11+\nIF(AND(AB$6=1,$U23=1),$M$73,\nIF(AND(AB$6=1,$U23>1),$M$74,\n0)),0)","v":0},{"$f":"IF(LEN(t_プラシャツ[[#This Row],[列11]])>0,$I$59,0)","v":0},{"$f":"IF(LEN(t_プラシャツ[[#This Row],[列12]])>0,\n$F$59+AD$11+\nIF(LEN(t_プラシャツ[[#This Row],[列2]])>0,$E$59,0)+\nIF(AND(AD$6=1,$U23=1),$M$69+$M$71,\nIF(AND(AD$6=1,$U23>1),$M$70+$M$72,\nIF(AND(AD$6=2,$U23=1),$M$69,\nIF(AND(AD$6=2,$U23>1),$M$70,\nIF(AND(AD$6=3,$U23=1),$M$71,\nIF(AND(AD$6=3,$U23>1),$M$72,\n0)))))),0)","v":0},{"$f":"IF(LEN(t_プラシャツ[[#This Row],[列13]])>0,\n$G$59+AE$11+\nIF(LEN(t_プラシャツ[[#This Row],[列2]])>0,$E$59,0)+\nIF(AND(AE$6=1,$U23=1),$M$69+$M$71,\nIF(AND(AE$6=1,$U23>1),$M$70+$M$72,\nIF(AND(AE$6=2,$U23=1),$M$69,\nIF(AND(AE$6=2,$U23>1),$M$70,\nIF(AND(AE$6=3,$U23=1),$M$71,\nIF(AND(AE$6=3,$U23>1),$M$72,\n0)))))),0)","v":0},{"$f":"IF(LEN(t_プラシャツ[[#This Row],[列16]])>0,\n$H$59+AF$11+\nIF(AND(AF$6=1,$U23=1),$M$73,\nIF(AND(AF$6=1,$U23>1),$M$74,\n0)),0)","v":0},{"$f":"IF(LEN(t_プラシャツ[[#This Row],[列17]])>0,$I$59,0)","v":0},null,{"$f":"IF(LEN(t_プラシャツ[[#This Row],[列2]])>0,COUNTA(t_プラシャツ[[#This Row],[列4]:[列5]],t_プラシャツ[[#This Row],[列8]:[列9]],t_プラシャツ[[#This Row],[列12]:[列13]]),0)","v":0},{"$f":"IF(AND($U23=1,OR($V$6=1,$V$6=2)),COUNTA(t_プラシャツ[[#This Row],[列4]]),0)\n+ IF(AND($U23=1,OR($W$6=1,$W$6=2)),COUNTA(t_プラシャツ[[#This Row],[列5]]),0)\n+ IF(AND($U23=1,OR($Z$6=1,$Z$6=2)),COUNTA(t_プラシャツ[[#This Row],[列8]]),0)\n+ IF(AND($U23=1,OR($AA$6=1,$AA$6=2)),COUNTA(t_プラシャツ[[#This Row],[列9]]),0)\n+ IF(AND($U23=1,OR($AD$6=1,$AD$6=2)),COUNTA(t_プラシャツ[[#This Row],[列12]]),0)\n+ IF(AND($U23=1,OR($AE$6=1,$AE$6=2)),COUNTA(t_プラシャツ[[#This Row],[列13]]),0)","v":0},{"$f":"IF(AND($U23>1,OR($V$6=1,$V$6=2)),COUNTA(t_プラシャツ[[#This Row],[列4]]),0)\n+ IF(AND($U23>1,OR($W$6=1,$W$6=2)),COUNTA(t_プラシャツ[[#This Row],[列5]]),0)\n+ IF(AND($U23>1,OR($Z$6=1,$Z$6=2)),COUNTA(t_プラシャツ[[#This Row],[列8]]),0)\n+ IF(AND($U23>1,OR($AA$6=1,$AA$6=2)),COUNTA(t_プラシャツ[[#This Row],[列9]]),0)\n+ IF(AND($U23>1,OR($AD$6=1,$AD$6=2)),COUNTA(t_プラシャツ[[#This Row],[列12]]),0)\n+ IF(AND($U23>1,OR($AE$6=1,$AE$6=2)),COUNTA(t_プラシャツ[[#This Row],[列13]]),0)","v":0},{"$f":"IF(AND($U23=1,OR($V$6=1,$V$6=3)),COUNTA(t_プラシャツ[[#This Row],[列4]]),0)\n+ IF(AND($U23=1,OR($W$6=1,$W$6=3)),COUNTA(t_プラシャツ[[#This Row],[列5]]),0)\n+ IF(AND($U23=1,OR($Z$6=1,$Z$6=3)),COUNTA(t_プラシャツ[[#This Row],[列8]]),0)\n+ IF(AND($U23=1,OR($AA$6=1,$AA$6=3)),COUNTA(t_プラシャツ[[#This Row],[列9]]),0)\n+ IF(AND($U23=1,OR($AD$6=1,$AD$6=3)),COUNTA(t_プラシャツ[[#This Row],[列12]]),0)\n+ IF(AND($U23=1,OR($AE$6=1,$AE$6=3)),COUNTA(t_プラシャツ[[#This Row],[列13]]),0)","v":0},{"$f":"IF(AND($U23>1,OR($V$6=1,$V$6=3)),COUNTA(t_プラシャツ[[#This Row],[列4]]),0)\n+ IF(AND($U23>1,OR($W$6=1,$W$6=3)),COUNTA(t_プラシャツ[[#This Row],[列5]]),0)\n+ IF(AND($U23>1,OR($Z$6=1,$Z$6=3)),COUNTA(t_プラシャツ[[#This Row],[列8]]),0)\n+ IF(AND($U23>1,OR($AA$6=1,$AA$6=3)),COUNTA(t_プラシャツ[[#This Row],[列9]]),0)\n+ IF(AND($U23>1,OR($AD$6=1,$AD$6=3)),COUNTA(t_プラシャツ[[#This Row],[列12]]),0)\n+ IF(AND($U23>1,OR($AE$6=1,$AE$6=3)),COUNTA(t_プラシャツ[[#This Row],[列13]]),0)","v":0},{"$f":"IF(AND($U23=1,$X$6=1),COUNTA(t_プラシャツ[[#This Row],[列6]]),0)\n+ IF(AND($U23=1,$AB$6=1),COUNTA(t_プラシャツ[[#This Row],[列10]]),0)\n+ IF(AND($U23=1,$AF$6=1),COUNTA(t_プラシャツ[[#This Row],[列16]]),0)","v":0},{"$f":"IF(AND($U23>1,$X$6=1),COUNTA(t_プラシャツ[[#This Row],[列6]]),0)\n+ IF(AND($U23>1,$AB$6=1),COUNTA(t_プラシャツ[[#This Row],[列10]]),0)\n+ IF(AND($U23>1,$AF$6=1),COUNTA(t_プラシャツ[[#This Row],[列16]]),0)","v":0},{"$f":"IF($V$7>0,COUNTA(t_プラシャツ[[#This Row],[列4]]),0) + IF($W$7>0,COUNTA(t_プラシャツ[[#This Row],[列5]]),0) + IF($X$7>0,COUNTA(t_プラシャツ[[#This Row],[列6]]),0)\n+IF($Z$7>0,COUNTA(t_プラシャツ[[#This Row],[列8]]),0) + IF($AA$7>0,COUNTA(t_プラシャツ[[#This Row],[列9]]),0) + IF($AB$7>0,COUNTA(t_プラシャツ[[#This Row],[列10]]),0)\n+IF($AD$7>0,COUNTA(t_プラシャツ[[#This Row],[列12]]),0) + IF($AE$7>0,COUNTA(t_プラシャツ[[#This Row],[列13]]),0) + IF($AF$7>0,COUNTA(t_プラシャツ[[#This Row],[列16]]),0)","v":0},{"$f":"IF($V$8>0,COUNTA(t_プラシャツ[[#This Row],[列4]]),0) + IF($W$8>0,COUNTA(t_プラシャツ[[#This Row],[列5]]),0)\n+IF($Z$8>0,COUNTA(t_プラシャツ[[#This Row],[列8]]),0) + IF($AA$8>0,COUNTA(t_プラシャツ[[#This Row],[列9]]),0)\n+IF($AD$8>0,COUNTA(t_プラシャツ[[#This Row],[列12]]),0) + IF($AE$8>0,COUNTA(t_プラシャツ[[#This Row],[列13]]),0)","v":0},{"$f":"IF($V$9>0,COUNTA(t_プラシャツ[[#This Row],[列4]]),0) + IF($W$9>0,COUNTA(t_プラシャツ[[#This Row],[列5]]),0)\n+IF($Z$9>0,COUNTA(t_プラシャツ[[#This Row],[列8]]),0) + IF($AA$9>0,COUNTA(t_プラシャツ[[#This Row],[列9]]),0)\n+IF($AD$9>0,COUNTA(t_プラシャツ[[#This Row],[列12]]),0) + IF($AE$9>0,COUNTA(t_プラシャツ[[#This Row],[列13]]),0)","v":0},{"$f":"IF($V$10>0,COUNTA(t_プラシャツ[[#This Row],[列4]]),0) + IF($W$10>0,COUNTA(t_プラシャツ[[#This Row],[列5]]),0)\n+IF($Z$10>0,COUNTA(t_プラシャツ[[#This Row],[列8]]),0) + IF($AA$10>0,COUNTA(t_プラシャツ[[#This Row],[列9]]),0)\n+IF($AD$10>0,COUNTA(t_プラシャツ[[#This Row],[列12]]),0) + IF($AE$10>0,COUNTA(t_プラシャツ[[#This Row],[列13]]),0)","v":0}]
[null,11,null,null,null,null,null,null,null,null,null,null,null,null,null,null,null,0,null,null,{"$f":"LEN(t_プラシャツ[[#This Row],[列3]])","v":0},{"$f":"IF(LEN(t_プラシャツ[[#This Row],[列4]])>0,\n$F$59+V$11+\nIF(LEN(t_プラシャツ[[#This Row],[列2]])>0,$E$59,0)+\nIF(AND(V$6=1,$U24=1),$M$69+$M$71,\nIF(AND(V$6=1,$U24>1),$M$70+$M$72,\nIF(AND(V$6=2,$U24=1),$M$69,\nIF(AND(V$6=2,$U24>1),$M$70,\nIF(AND(V$6=3,$U24=1),$M$71,\nIF(AND(V$6=3,$U24>1),$M$72,\n0)))))),0)","v":0},{"$f":"IF(LEN(t_プラシャツ[[#This Row],[列5]])>0,\n$G$59+W$11+\nIF(LEN(t_プラシャツ[[#This Row],[列2]])>0,$E$59,0)+\nIF(AND(W$6=1,$U24=1),$M$69+$M$71,\nIF(AND(W$6=1,$U24>1),$M$70+$M$72,\nIF(AND(W$6=2,$U24=1),$M$69,\nIF(AND(W$6=2,$U24>1),$M$70,\nIF(AND(W$6=3,$U24=1),$M$71,\nIF(AND(W$6=3,$U24>1),$M$72,\n0)))))),0)","v":0},{"$f":"IF(LEN(t_プラシャツ[[#This Row],[列6]])>0,\n$H$59+X$11+\nIF(AND(X$6=1,$U24=1),$M$73,\nIF(AND(X$6=1,$U24>1),$M$74,\n0)),0)","v":0},{"$f":"IF(LEN(t_プラシャツ[[#This Row],[列7]])>0,$I$59,0)","v":0},{"$f":"IF(LEN(t_プラシャツ[[#This Row],[列8]])>0,\n$F$59+Z$11+\nIF(LEN(t_プラシャツ[[#This Row],[列2]])>0,$E$59,0)+\nIF(AND(Z$6=1,$U24=1),$M$69+$M$71,\nIF(AND(Z$6=1,$U24>1),$M$70+$M$72,\nIF(AND(Z$6=2,$U24=1),$M$69,\nIF(AND(Z$6=2,$U24>1),$M$70,\nIF(AND(Z$6=3,$U24=1),$M$71,\nIF(AND(Z$6=3,$U24>1),$M$72,\n0)))))),0)","v":0},{"$f":"IF(LEN(t_プラシャツ[[#This Row],[列9]])>0,\n$G$59+AA$11+\nIF(LEN(t_プラシャツ[[#This Row],[列2]])>0,$E$59,0)+\nIF(AND(AA$6=1,$U24=1),$M$69+$M$71,\nIF(AND(AA$6=1,$U24>1),$M$70+$M$72,\nIF(AND(AA$6=2,$U24=1),$M$69,\nIF(AND(AA$6=2,$U24>1),$M$70,\nIF(AND(AA$6=3,$U24=1),$M$71,\nIF(AND(AA$6=3,$U24>1),$M$72,\n0)))))),0)","v":0},{"$f":"IF(LEN(t_プラシャツ[[#This Row],[列10]])>0,\n$H$59+AB$11+\nIF(AND(AB$6=1,$U24=1),$M$73,\nIF(AND(AB$6=1,$U24>1),$M$74,\n0)),0)","v":0},{"$f":"IF(LEN(t_プラシャツ[[#This Row],[列11]])>0,$I$59,0)","v":0},{"$f":"IF(LEN(t_プラシャツ[[#This Row],[列12]])>0,\n$F$59+AD$11+\nIF(LEN(t_プラシャツ[[#This Row],[列2]])>0,$E$59,0)+\nIF(AND(AD$6=1,$U24=1),$M$69+$M$71,\nIF(AND(AD$6=1,$U24>1),$M$70+$M$72,\nIF(AND(AD$6=2,$U24=1),$M$69,\nIF(AND(AD$6=2,$U24>1),$M$70,\nIF(AND(AD$6=3,$U24=1),$M$71,\nIF(AND(AD$6=3,$U24>1),$M$72,\n0)))))),0)","v":0},{"$f":"IF(LEN(t_プラシャツ[[#This Row],[列13]])>0,\n$G$59+AE$11+\nIF(LEN(t_プラシャツ[[#This Row],[列2]])>0,$E$59,0)+\nIF(AND(AE$6=1,$U24=1),$M$69+$M$71,\nIF(AND(AE$6=1,$U24>1),$M$70+$M$72,\nIF(AND(AE$6=2,$U24=1),$M$69,\nIF(AND(AE$6=2,$U24>1),$M$70,\nIF(AND(AE$6=3,$U24=1),$M$71,\nIF(AND(AE$6=3,$U24>1),$M$72,\n0)))))),0)","v":0},{"$f":"IF(LEN(t_プラシャツ[[#This Row],[列16]])>0,\n$H$59+AF$11+\nIF(AND(AF$6=1,$U24=1),$M$73,\nIF(AND(AF$6=1,$U24>1),$M$74,\n0)),0)","v":0},{"$f":"IF(LEN(t_プラシャツ[[#This Row],[列17]])>0,$I$59,0)","v":0},null,{"$f":"IF(LEN(t_プラシャツ[[#This Row],[列2]])>0,COUNTA(t_プラシャツ[[#This Row],[列4]:[列5]],t_プラシャツ[[#This Row],[列8]:[列9]],t_プラシャツ[[#This Row],[列12]:[列13]]),0)","v":0},{"$f":"IF(AND($U24=1,OR($V$6=1,$V$6=2)),COUNTA(t_プラシャツ[[#This Row],[列4]]),0)\n+ IF(AND($U24=1,OR($W$6=1,$W$6=2)),COUNTA(t_プラシャツ[[#This Row],[列5]]),0)\n+ IF(AND($U24=1,OR($Z$6=1,$Z$6=2)),COUNTA(t_プラシャツ[[#This Row],[列8]]),0)\n+ IF(AND($U24=1,OR($AA$6=1,$AA$6=2)),COUNTA(t_プラシャツ[[#This Row],[列9]]),0)\n+ IF(AND($U24=1,OR($AD$6=1,$AD$6=2)),COUNTA(t_プラシャツ[[#This Row],[列12]]),0)\n+ IF(AND($U24=1,OR($AE$6=1,$AE$6=2)),COUNTA(t_プラシャツ[[#This Row],[列13]]),0)","v":0},{"$f":"IF(AND($U24>1,OR($V$6=1,$V$6=2)),COUNTA(t_プラシャツ[[#This Row],[列4]]),0)\n+ IF(AND($U24>1,OR($W$6=1,$W$6=2)),COUNTA(t_プラシャツ[[#This Row],[列5]]),0)\n+ IF(AND($U24>1,OR($Z$6=1,$Z$6=2)),COUNTA(t_プラシャツ[[#This Row],[列8]]),0)\n+ IF(AND($U24>1,OR($AA$6=1,$AA$6=2)),COUNTA(t_プラシャツ[[#This Row],[列9]]),0)\n+ IF(AND($U24>1,OR($AD$6=1,$AD$6=2)),COUNTA(t_プラシャツ[[#This Row],[列12]]),0)\n+ IF(AND($U24>1,OR($AE$6=1,$AE$6=2)),COUNTA(t_プラシャツ[[#This Row],[列13]]),0)","v":0},{"$f":"IF(AND($U24=1,OR($V$6=1,$V$6=3)),COUNTA(t_プラシャツ[[#This Row],[列4]]),0)\n+ IF(AND($U24=1,OR($W$6=1,$W$6=3)),COUNTA(t_プラシャツ[[#This Row],[列5]]),0)\n+ IF(AND($U24=1,OR($Z$6=1,$Z$6=3)),COUNTA(t_プラシャツ[[#This Row],[列8]]),0)\n+ IF(AND($U24=1,OR($AA$6=1,$AA$6=3)),COUNTA(t_プラシャツ[[#This Row],[列9]]),0)\n+ IF(AND($U24=1,OR($AD$6=1,$AD$6=3)),COUNTA(t_プラシャツ[[#This Row],[列12]]),0)\n+ IF(AND($U24=1,OR($AE$6=1,$AE$6=3)),COUNTA(t_プラシャツ[[#This Row],[列13]]),0)","v":0},{"$f":"IF(AND($U24>1,OR($V$6=1,$V$6=3)),COUNTA(t_プラシャツ[[#This Row],[列4]]),0)\n+ IF(AND($U24>1,OR($W$6=1,$W$6=3)),COUNTA(t_プラシャツ[[#This Row],[列5]]),0)\n+ IF(AND($U24>1,OR($Z$6=1,$Z$6=3)),COUNTA(t_プラシャツ[[#This Row],[列8]]),0)\n+ IF(AND($U24>1,OR($AA$6=1,$AA$6=3)),COUNTA(t_プラシャツ[[#This Row],[列9]]),0)\n+ IF(AND($U24>1,OR($AD$6=1,$AD$6=3)),COUNTA(t_プラシャツ[[#This Row],[列12]]),0)\n+ IF(AND($U24>1,OR($AE$6=1,$AE$6=3)),COUNTA(t_プラシャツ[[#This Row],[列13]]),0)","v":0},{"$f":"IF(AND($U24=1,$X$6=1),COUNTA(t_プラシャツ[[#This Row],[列6]]),0)\n+ IF(AND($U24=1,$AB$6=1),COUNTA(t_プラシャツ[[#This Row],[列10]]),0)\n+ IF(AND($U24=1,$AF$6=1),COUNTA(t_プラシャツ[[#This Row],[列16]]),0)","v":0},{"$f":"IF(AND($U24>1,$X$6=1),COUNTA(t_プラシャツ[[#This Row],[列6]]),0)\n+ IF(AND($U24>1,$AB$6=1),COUNTA(t_プラシャツ[[#This Row],[列10]]),0)\n+ IF(AND($U24>1,$AF$6=1),COUNTA(t_プラシャツ[[#This Row],[列16]]),0)","v":0},{"$f":"IF($V$7>0,COUNTA(t_プラシャツ[[#This Row],[列4]]),0) + IF($W$7>0,COUNTA(t_プラシャツ[[#This Row],[列5]]),0) + IF($X$7>0,COUNTA(t_プラシャツ[[#This Row],[列6]]),0)\n+IF($Z$7>0,COUNTA(t_プラシャツ[[#This Row],[列8]]),0) + IF($AA$7>0,COUNTA(t_プラシャツ[[#This Row],[列9]]),0) + IF($AB$7>0,COUNTA(t_プラシャツ[[#This Row],[列10]]),0)\n+IF($AD$7>0,COUNTA(t_プラシャツ[[#This Row],[列12]]),0) + IF($AE$7>0,COUNTA(t_プラシャツ[[#This Row],[列13]]),0) + IF($AF$7>0,COUNTA(t_プラシャツ[[#This Row],[列16]]),0)","v":0},{"$f":"IF($V$8>0,COUNTA(t_プラシャツ[[#This Row],[列4]]),0) + IF($W$8>0,COUNTA(t_プラシャツ[[#This Row],[列5]]),0)\n+IF($Z$8>0,COUNTA(t_プラシャツ[[#This Row],[列8]]),0) + IF($AA$8>0,COUNTA(t_プラシャツ[[#This Row],[列9]]),0)\n+IF($AD$8>0,COUNTA(t_プラシャツ[[#This Row],[列12]]),0) + IF($AE$8>0,COUNTA(t_プラシャツ[[#This Row],[列13]]),0)","v":0},{"$f":"IF($V$9>0,COUNTA(t_プラシャツ[[#This Row],[列4]]),0) + IF($W$9>0,COUNTA(t_プラシャツ[[#This Row],[列5]]),0)\n+IF($Z$9>0,COUNTA(t_プラシャツ[[#This Row],[列8]]),0) + IF($AA$9>0,COUNTA(t_プラシャツ[[#This Row],[列9]]),0)\n+IF($AD$9>0,COUNTA(t_プラシャツ[[#This Row],[列12]]),0) + IF($AE$9>0,COUNTA(t_プラシャツ[[#This Row],[列13]]),0)","v":0},{"$f":"IF($V$10>0,COUNTA(t_プラシャツ[[#This Row],[列4]]),0) + IF($W$10>0,COUNTA(t_プラシャツ[[#This Row],[列5]]),0)\n+IF($Z$10>0,COUNTA(t_プラシャツ[[#This Row],[列8]]),0) + IF($AA$10>0,COUNTA(t_プラシャツ[[#This Row],[列9]]),0)\n+IF($AD$10>0,COUNTA(t_プラシャツ[[#This Row],[列12]]),0) + IF($AE$10>0,COUNTA(t_プラシャツ[[#This Row],[列13]]),0)","v":0}]
[null,12,null,null,null,null,null,null,null,null,null,null,null,null,null,null,null,0,null,null,{"$f":"LEN(t_プラシャツ[[#This Row],[列3]])","v":0},{"$f":"IF(LEN(t_プラシャツ[[#This Row],[列4]])>0,\n$F$59+V$11+\nIF(LEN(t_プラシャツ[[#This Row],[列2]])>0,$E$59,0)+\nIF(AND(V$6=1,$U25=1),$M$69+$M$71,\nIF(AND(V$6=1,$U25>1),$M$70+$M$72,\nIF(AND(V$6=2,$U25=1),$M$69,\nIF(AND(V$6=2,$U25>1),$M$70,\nIF(AND(V$6=3,$U25=1),$M$71,\nIF(AND(V$6=3,$U25>1),$M$72,\n0)))))),0)","v":0},{"$f":"IF(LEN(t_プラシャツ[[#This Row],[列5]])>0,\n$G$59+W$11+\nIF(LEN(t_プラシャツ[[#This Row],[列2]])>0,$E$59,0)+\nIF(AND(W$6=1,$U25=1),$M$69+$M$71,\nIF(AND(W$6=1,$U25>1),$M$70+$M$72,\nIF(AND(W$6=2,$U25=1),$M$69,\nIF(AND(W$6=2,$U25>1),$M$70,\nIF(AND(W$6=3,$U25=1),$M$71,\nIF(AND(W$6=3,$U25>1),$M$72,\n0)))))),0)","v":0},{"$f":"IF(LEN(t_プラシャツ[[#This Row],[列6]])>0,\n$H$59+X$11+\nIF(AND(X$6=1,$U25=1),$M$73,\nIF(AND(X$6=1,$U25>1),$M$74,\n0)),0)","v":0},{"$f":"IF(LEN(t_プラシャツ[[#This Row],[列7]])>0,$I$59,0)","v":0},{"$f":"IF(LEN(t_プラシャツ[[#This Row],[列8]])>0,\n$F$59+Z$11+\nIF(LEN(t_プラシャツ[[#This Row],[列2]])>0,$E$59,0)+\nIF(AND(Z$6=1,$U25=1),$M$69+$M$71,\nIF(AND(Z$6=1,$U25>1),$M$70+$M$72,\nIF(AND(Z$6=2,$U25=1),$M$69,\nIF(AND(Z$6=2,$U25>1),$M$70,\nIF(AND(Z$6=3,$U25=1),$M$71,\nIF(AND(Z$6=3,$U25>1),$M$72,\n0)))))),0)","v":0},{"$f":"IF(LEN(t_プラシャツ[[#This Row],[列9]])>0,\n$G$59+AA$11+\nIF(LEN(t_プラシャツ[[#This Row],[列2]])>0,$E$59,0)+\nIF(AND(AA$6=1,$U25=1),$M$69+$M$71,\nIF(AND(AA$6=1,$U25>1),$M$70+$M$72,\nIF(AND(AA$6=2,$U25=1),$M$69,\nIF(AND(AA$6=2,$U25>1),$M$70,\nIF(AND(AA$6=3,$U25=1),$M$71,\nIF(AND(AA$6=3,$U25>1),$M$72,\n0)))))),0)","v":0},{"$f":"IF(LEN(t_プラシャツ[[#This Row],[列10]])>0,\n$H$59+AB$11+\nIF(AND(AB$6=1,$U25=1),$M$73,\nIF(AND(AB$6=1,$U25>1),$M$74,\n0)),0)","v":0},{"$f":"IF(LEN(t_プラシャツ[[#This Row],[列11]])>0,$I$59,0)","v":0},{"$f":"IF(LEN(t_プラシャツ[[#This Row],[列12]])>0,\n$F$59+AD$11+\nIF(LEN(t_プラシャツ[[#This Row],[列2]])>0,$E$59,0)+\nIF(AND(AD$6=1,$U25=1),$M$69+$M$71,\nIF(AND(AD$6=1,$U25>1),$M$70+$M$72,\nIF(AND(AD$6=2,$U25=1),$M$69,\nIF(AND(AD$6=2,$U25>1),$M$70,\nIF(AND(AD$6=3,$U25=1),$M$71,\nIF(AND(AD$6=3,$U25>1),$M$72,\n0)))))),0)","v":0},{"$f":"IF(LEN(t_プラシャツ[[#This Row],[列13]])>0,\n$G$59+AE$11+\nIF(LEN(t_プラシャツ[[#This Row],[列2]])>0,$E$59,0)+\nIF(AND(AE$6=1,$U25=1),$M$69+$M$71,\nIF(AND(AE$6=1,$U25>1),$M$70+$M$72,\nIF(AND(AE$6=2,$U25=1),$M$69,\nIF(AND(AE$6=2,$U25>1),$M$70,\nIF(AND(AE$6=3,$U25=1),$M$71,\nIF(AND(AE$6=3,$U25>1),$M$72,\n0)))))),0)","v":0},{"$f":"IF(LEN(t_プラシャツ[[#This Row],[列16]])>0,\n$H$59+AF$11+\nIF(AND(AF$6=1,$U25=1),$M$73,\nIF(AND(AF$6=1,$U25>1),$M$74,\n0)),0)","v":0},{"$f":"IF(LEN(t_プラシャツ[[#This Row],[列17]])>0,$I$59,0)","v":0},null,{"$f":"IF(LEN(t_プラシャツ[[#This Row],[列2]])>0,COUNTA(t_プラシャツ[[#This Row],[列4]:[列5]],t_プラシャツ[[#This Row],[列8]:[列9]],t_プラシャツ[[#This Row],[列12]:[列13]]),0)","v":0},{"$f":"IF(AND($U25=1,OR($V$6=1,$V$6=2)),COUNTA(t_プラシャツ[[#This Row],[列4]]),0)\n+ IF(AND($U25=1,OR($W$6=1,$W$6=2)),COUNTA(t_プラシャツ[[#This Row],[列5]]),0)\n+ IF(AND($U25=1,OR($Z$6=1,$Z$6=2)),COUNTA(t_プラシャツ[[#This Row],[列8]]),0)\n+ IF(AND($U25=1,OR($AA$6=1,$AA$6=2)),COUNTA(t_プラシャツ[[#This Row],[列9]]),0)\n+ IF(AND($U25=1,OR($AD$6=1,$AD$6=2)),COUNTA(t_プラシャツ[[#This Row],[列12]]),0)\n+ IF(AND($U25=1,OR($AE$6=1,$AE$6=2)),COUNTA(t_プラシャツ[[#This Row],[列13]]),0)","v":0},{"$f":"IF(AND($U25>1,OR($V$6=1,$V$6=2)),COUNTA(t_プラシャツ[[#This Row],[列4]]),0)\n+ IF(AND($U25>1,OR($W$6=1,$W$6=2)),COUNTA(t_プラシャツ[[#This Row],[列5]]),0)\n+ IF(AND($U25>1,OR($Z$6=1,$Z$6=2)),COUNTA(t_プラシャツ[[#This Row],[列8]]),0)\n+ IF(AND($U25>1,OR($AA$6=1,$AA$6=2)),COUNTA(t_プラシャツ[[#This Row],[列9]]),0)\n+ IF(AND($U25>1,OR($AD$6=1,$AD$6=2)),COUNTA(t_プラシャツ[[#This Row],[列12]]),0)\n+ IF(AND($U25>1,OR($AE$6=1,$AE$6=2)),COUNTA(t_プラシャツ[[#This Row],[列13]]),0)","v":0},{"$f":"IF(AND($U25=1,OR($V$6=1,$V$6=3)),COUNTA(t_プラシャツ[[#This Row],[列4]]),0)\n+ IF(AND($U25=1,OR($W$6=1,$W$6=3)),COUNTA(t_プラシャツ[[#This Row],[列5]]),0)\n+ IF(AND($U25=1,OR($Z$6=1,$Z$6=3)),COUNTA(t_プラシャツ[[#This Row],[列8]]),0)\n+ IF(AND($U25=1,OR($AA$6=1,$AA$6=3)),COUNTA(t_プラシャツ[[#This Row],[列9]]),0)\n+ IF(AND($U25=1,OR($AD$6=1,$AD$6=3)),COUNTA(t_プラシャツ[[#This Row],[列12]]),0)\n+ IF(AND($U25=1,OR($AE$6=1,$AE$6=3)),COUNTA(t_プラシャツ[[#This Row],[列13]]),0)","v":0},{"$f":"IF(AND($U25>1,OR($V$6=1,$V$6=3)),COUNTA(t_プラシャツ[[#This Row],[列4]]),0)\n+ IF(AND($U25>1,OR($W$6=1,$W$6=3)),COUNTA(t_プラシャツ[[#This Row],[列5]]),0)\n+ IF(AND($U25>1,OR($Z$6=1,$Z$6=3)),COUNTA(t_プラシャツ[[#This Row],[列8]]),0)\n+ IF(AND($U25>1,OR($AA$6=1,$AA$6=3)),COUNTA(t_プラシャツ[[#This Row],[列9]]),0)\n+ IF(AND($U25>1,OR($AD$6=1,$AD$6=3)),COUNTA(t_プラシャツ[[#This Row],[列12]]),0)\n+ IF(AND($U25>1,OR($AE$6=1,$AE$6=3)),COUNTA(t_プラシャツ[[#This Row],[列13]]),0)","v":0},{"$f":"IF(AND($U25=1,$X$6=1),COUNTA(t_プラシャツ[[#This Row],[列6]]),0)\n+ IF(AND($U25=1,$AB$6=1),COUNTA(t_プラシャツ[[#This Row],[列10]]),0)\n+ IF(AND($U25=1,$AF$6=1),COUNTA(t_プラシャツ[[#This Row],[列16]]),0)","v":0},{"$f":"IF(AND($U25>1,$X$6=1),COUNTA(t_プラシャツ[[#This Row],[列6]]),0)\n+ IF(AND($U25>1,$AB$6=1),COUNTA(t_プラシャツ[[#This Row],[列10]]),0)\n+ IF(AND($U25>1,$AF$6=1),COUNTA(t_プラシャツ[[#This Row],[列16]]),0)","v":0},{"$f":"IF($V$7>0,COUNTA(t_プラシャツ[[#This Row],[列4]]),0) + IF($W$7>0,COUNTA(t_プラシャツ[[#This Row],[列5]]),0) + IF($X$7>0,COUNTA(t_プラシャツ[[#This Row],[列6]]),0)\n+IF($Z$7>0,COUNTA(t_プラシャツ[[#This Row],[列8]]),0) + IF($AA$7>0,COUNTA(t_プラシャツ[[#This Row],[列9]]),0) + IF($AB$7>0,COUNTA(t_プラシャツ[[#This Row],[列10]]),0)\n+IF($AD$7>0,COUNTA(t_プラシャツ[[#This Row],[列12]]),0) + IF($AE$7>0,COUNTA(t_プラシャツ[[#This Row],[列13]]),0) + IF($AF$7>0,COUNTA(t_プラシャツ[[#This Row],[列16]]),0)","v":0},{"$f":"IF($V$8>0,COUNTA(t_プラシャツ[[#This Row],[列4]]),0) + IF($W$8>0,COUNTA(t_プラシャツ[[#This Row],[列5]]),0)\n+IF($Z$8>0,COUNTA(t_プラシャツ[[#This Row],[列8]]),0) + IF($AA$8>0,COUNTA(t_プラシャツ[[#This Row],[列9]]),0)\n+IF($AD$8>0,COUNTA(t_プラシャツ[[#This Row],[列12]]),0) + IF($AE$8>0,COUNTA(t_プラシャツ[[#This Row],[列13]]),0)","v":0},{"$f":"IF($V$9>0,COUNTA(t_プラシャツ[[#This Row],[列4]]),0) + IF($W$9>0,COUNTA(t_プラシャツ[[#This Row],[列5]]),0)\n+IF($Z$9>0,COUNTA(t_プラシャツ[[#This Row],[列8]]),0) + IF($AA$9>0,COUNTA(t_プラシャツ[[#This Row],[列9]]),0)\n+IF($AD$9>0,COUNTA(t_プラシャツ[[#This Row],[列12]]),0) + IF($AE$9>0,COUNTA(t_プラシャツ[[#This Row],[列13]]),0)","v":0},{"$f":"IF($V$10>0,COUNTA(t_プラシャツ[[#This Row],[列4]]),0) + IF($W$10>0,COUNTA(t_プラシャツ[[#This Row],[列5]]),0)\n+IF($Z$10>0,COUNTA(t_プラシャツ[[#This Row],[列8]]),0) + IF($AA$10>0,COUNTA(t_プラシャツ[[#This Row],[列9]]),0)\n+IF($AD$10>0,COUNTA(t_プラシャツ[[#This Row],[列12]]),0) + IF($AE$10>0,COUNTA(t_プラシャツ[[#This Row],[列13]]),0)","v":0}]
[null,13,null,null,null,null,null,null,null,null,null,null,null,null,null,null,null,0,null,null,{"$f":"LEN(t_プラシャツ[[#This Row],[列3]])","v":0},{"$f":"IF(LEN(t_プラシャツ[[#This Row],[列4]])>0,\n$F$59+V$11+\nIF(LEN(t_プラシャツ[[#This Row],[列2]])>0,$E$59,0)+\nIF(AND(V$6=1,$U26=1),$M$69+$M$71,\nIF(AND(V$6=1,$U26>1),$M$70+$M$72,\nIF(AND(V$6=2,$U26=1),$M$69,\nIF(AND(V$6=2,$U26>1),$M$70,\nIF(AND(V$6=3,$U26=1),$M$71,\nIF(AND(V$6=3,$U26>1),$M$72,\n0)))))),0)","v":0},{"$f":"IF(LEN(t_プラシャツ[[#This Row],[列5]])>0,\n$G$59+W$11+\nIF(LEN(t_プラシャツ[[#This Row],[列2]])>0,$E$59,0)+\nIF(AND(W$6=1,$U26=1),$M$69+$M$71,\nIF(AND(W$6=1,$U26>1),$M$70+$M$72,\nIF(AND(W$6=2,$U26=1),$M$69,\nIF(AND(W$6=2,$U26>1),$M$70,\nIF(AND(W$6=3,$U26=1),$M$71,\nIF(AND(W$6=3,$U26>1),$M$72,\n0)))))),0)","v":0},{"$f":"IF(LEN(t_プラシャツ[[#This Row],[列6]])>0,\n$H$59+X$11+\nIF(AND(X$6=1,$U26=1),$M$73,\nIF(AND(X$6=1,$U26>1),$M$74,\n0)),0)","v":0},{"$f":"IF(LEN(t_プラシャツ[[#This Row],[列7]])>0,$I$59,0)","v":0},{"$f":"IF(LEN(t_プラシャツ[[#This Row],[列8]])>0,\n$F$59+Z$11+\nIF(LEN(t_プラシャツ[[#This Row],[列2]])>0,$E$59,0)+\nIF(AND(Z$6=1,$U26=1),$M$69+$M$71,\nIF(AND(Z$6=1,$U26>1),$M$70+$M$72,\nIF(AND(Z$6=2,$U26=1),$M$69,\nIF(AND(Z$6=2,$U26>1),$M$70,\nIF(AND(Z$6=3,$U26=1),$M$71,\nIF(AND(Z$6=3,$U26>1),$M$72,\n0)))))),0)","v":0},{"$f":"IF(LEN(t_プラシャツ[[#This Row],[列9]])>0,\n$G$59+AA$11+\nIF(LEN(t_プラシャツ[[#This Row],[列2]])>0,$E$59,0)+\nIF(AND(AA$6=1,$U26=1),$M$69+$M$71,\nIF(AND(AA$6=1,$U26>1),$M$70+$M$72,\nIF(AND(AA$6=2,$U26=1),$M$69,\nIF(AND(AA$6=2,$U26>1),$M$70,\nIF(AND(AA$6=3,$U26=1),$M$71,\nIF(AND(AA$6=3,$U26>1),$M$72,\n0)))))),0)","v":0},{"$f":"IF(LEN(t_プラシャツ[[#This Row],[列10]])>0,\n$H$59+AB$11+\nIF(AND(AB$6=1,$U26=1),$M$73,\nIF(AND(AB$6=1,$U26>1),$M$74,\n0)),0)","v":0},{"$f":"IF(LEN(t_プラシャツ[[#This Row],[列11]])>0,$I$59,0)","v":0},{"$f":"IF(LEN(t_プラシャツ[[#This Row],[列12]])>0,\n$F$59+AD$11+\nIF(LEN(t_プラシャツ[[#This Row],[列2]])>0,$E$59,0)+\nIF(AND(AD$6=1,$U26=1),$M$69+$M$71,\nIF(AND(AD$6=1,$U26>1),$M$70+$M$72,\nIF(AND(AD$6=2,$U26=1),$M$69,\nIF(AND(AD$6=2,$U26>1),$M$70,\nIF(AND(AD$6=3,$U26=1),$M$71,\nIF(AND(AD$6=3,$U26>1),$M$72,\n0)))))),0)","v":0},{"$f":"IF(LEN(t_プラシャツ[[#This Row],[列13]])>0,\n$G$59+AE$11+\nIF(LEN(t_プラシャツ[[#This Row],[列2]])>0,$E$59,0)+\nIF(AND(AE$6=1,$U26=1),$M$69+$M$71,\nIF(AND(AE$6=1,$U26>1),$M$70+$M$72,\nIF(AND(AE$6=2,$U26=1),$M$69,\nIF(AND(AE$6=2,$U26>1),$M$70,\nIF(AND(AE$6=3,$U26=1),$M$71,\nIF(AND(AE$6=3,$U26>1),$M$72,\n0)))))),0)","v":0},{"$f":"IF(LEN(t_プラシャツ[[#This Row],[列16]])>0,\n$H$59+AF$11+\nIF(AND(AF$6=1,$U26=1),$M$73,\nIF(AND(AF$6=1,$U26>1),$M$74,\n0)),0)","v":0},{"$f":"IF(LEN(t_プラシャツ[[#This Row],[列17]])>0,$I$59,0)","v":0},null,{"$f":"IF(LEN(t_プラシャツ[[#This Row],[列2]])>0,COUNTA(t_プラシャツ[[#This Row],[列4]:[列5]],t_プラシャツ[[#This Row],[列8]:[列9]],t_プラシャツ[[#This Row],[列12]:[列13]]),0)","v":0},{"$f":"IF(AND($U26=1,OR($V$6=1,$V$6=2)),COUNTA(t_プラシャツ[[#This Row],[列4]]),0)\n+ IF(AND($U26=1,OR($W$6=1,$W$6=2)),COUNTA(t_プラシャツ[[#This Row],[列5]]),0)\n+ IF(AND($U26=1,OR($Z$6=1,$Z$6=2)),COUNTA(t_プラシャツ[[#This Row],[列8]]),0)\n+ IF(AND($U26=1,OR($AA$6=1,$AA$6=2)),COUNTA(t_プラシャツ[[#This Row],[列9]]),0)\n+ IF(AND($U26=1,OR($AD$6=1,$AD$6=2)),COUNTA(t_プラシャツ[[#This Row],[列12]]),0)\n+ IF(AND($U26=1,OR($AE$6=1,$AE$6=2)),COUNTA(t_プラシャツ[[#This Row],[列13]]),0)","v":0},{"$f":"IF(AND($U26>1,OR($V$6=1,$V$6=2)),COUNTA(t_プラシャツ[[#This Row],[列4]]),0)\n+ IF(AND($U26>1,OR($W$6=1,$W$6=2)),COUNTA(t_プラシャツ[[#This Row],[列5]]),0)\n+ IF(AND($U26>1,OR($Z$6=1,$Z$6=2)),COUNTA(t_プラシャツ[[#This Row],[列8]]),0)\n+ IF(AND($U26>1,OR($AA$6=1,$AA$6=2)),COUNTA(t_プラシャツ[[#This Row],[列9]]),0)\n+ IF(AND($U26>1,OR($AD$6=1,$AD$6=2)),COUNTA(t_プラシャツ[[#This Row],[列12]]),0)\n+ IF(AND($U26>1,OR($AE$6=1,$AE$6=2)),COUNTA(t_プラシャツ[[#This Row],[列13]]),0)","v":0},{"$f":"IF(AND($U26=1,OR($V$6=1,$V$6=3)),COUNTA(t_プラシャツ[[#This Row],[列4]]),0)\n+ IF(AND($U26=1,OR($W$6=1,$W$6=3)),COUNTA(t_プラシャツ[[#This Row],[列5]]),0)\n+ IF(AND($U26=1,OR($Z$6=1,$Z$6=3)),COUNTA(t_プラシャツ[[#This Row],[列8]]),0)\n+ IF(AND($U26=1,OR($AA$6=1,$AA$6=3)),COUNTA(t_プラシャツ[[#This Row],[列9]]),0)\n+ IF(AND($U26=1,OR($AD$6=1,$AD$6=3)),COUNTA(t_プラシャツ[[#This Row],[列12]]),0)\n+ IF(AND($U26=1,OR($AE$6=1,$AE$6=3)),COUNTA(t_プラシャツ[[#This Row],[列13]]),0)","v":0},{"$f":"IF(AND($U26>1,OR($V$6=1,$V$6=3)),COUNTA(t_プラシャツ[[#This Row],[列4]]),0)\n+ IF(AND($U26>1,OR($W$6=1,$W$6=3)),COUNTA(t_プラシャツ[[#This Row],[列5]]),0)\n+ IF(AND($U26>1,OR($Z$6=1,$Z$6=3)),COUNTA(t_プラシャツ[[#This Row],[列8]]),0)\n+ IF(AND($U26>1,OR($AA$6=1,$AA$6=3)),COUNTA(t_プラシャツ[[#This Row],[列9]]),0)\n+ IF(AND($U26>1,OR($AD$6=1,$AD$6=3)),COUNTA(t_プラシャツ[[#This Row],[列12]]),0)\n+ IF(AND($U26>1,OR($AE$6=1,$AE$6=3)),COUNTA(t_プラシャツ[[#This Row],[列13]]),0)","v":0},{"$f":"IF(AND($U26=1,$X$6=1),COUNTA(t_プラシャツ[[#This Row],[列6]]),0)\n+ IF(AND($U26=1,$AB$6=1),COUNTA(t_プラシャツ[[#This Row],[列10]]),0)\n+ IF(AND($U26=1,$AF$6=1),COUNTA(t_プラシャツ[[#This Row],[列16]]),0)","v":0},{"$f":"IF(AND($U26>1,$X$6=1),COUNTA(t_プラシャツ[[#This Row],[列6]]),0)\n+ IF(AND($U26>1,$AB$6=1),COUNTA(t_プラシャツ[[#This Row],[列10]]),0)\n+ IF(AND($U26>1,$AF$6=1),COUNTA(t_プラシャツ[[#This Row],[列16]]),0)","v":0},{"$f":"IF($V$7>0,COUNTA(t_プラシャツ[[#This Row],[列4]]),0) + IF($W$7>0,COUNTA(t_プラシャツ[[#This Row],[列5]]),0) + IF($X$7>0,COUNTA(t_プラシャツ[[#This Row],[列6]]),0)\n+IF($Z$7>0,COUNTA(t_プラシャツ[[#This Row],[列8]]),0) + IF($AA$7>0,COUNTA(t_プラシャツ[[#This Row],[列9]]),0) + IF($AB$7>0,COUNTA(t_プラシャツ[[#This Row],[列10]]),0)\n+IF($AD$7>0,COUNTA(t_プラシャツ[[#This Row],[列12]]),0) + IF($AE$7>0,COUNTA(t_プラシャツ[[#This Row],[列13]]),0) + IF($AF$7>0,COUNTA(t_プラシャツ[[#This Row],[列16]]),0)","v":0},{"$f":"IF($V$8>0,COUNTA(t_プラシャツ[[#This Row],[列4]]),0) + IF($W$8>0,COUNTA(t_プラシャツ[[#This Row],[列5]]),0)\n+IF($Z$8>0,COUNTA(t_プラシャツ[[#This Row],[列8]]),0) + IF($AA$8>0,COUNTA(t_プラシャツ[[#This Row],[列9]]),0)\n+IF($AD$8>0,COUNTA(t_プラシャツ[[#This Row],[列12]]),0) + IF($AE$8>0,COUNTA(t_プラシャツ[[#This Row],[列13]]),0)","v":0},{"$f":"IF($V$9>0,COUNTA(t_プラシャツ[[#This Row],[列4]]),0) + IF($W$9>0,COUNTA(t_プラシャツ[[#This Row],[列5]]),0)\n+IF($Z$9>0,COUNTA(t_プラシャツ[[#This Row],[列8]]),0) + IF($AA$9>0,COUNTA(t_プラシャツ[[#This Row],[列9]]),0)\n+IF($AD$9>0,COUNTA(t_プラシャツ[[#This Row],[列12]]),0) + IF($AE$9>0,COUNTA(t_プラシャツ[[#This Row],[列13]]),0)","v":0},{"$f":"IF($V$10>0,COUNTA(t_プラシャツ[[#This Row],[列4]]),0) + IF($W$10>0,COUNTA(t_プラシャツ[[#This Row],[列5]]),0)\n+IF($Z$10>0,COUNTA(t_プラシャツ[[#This Row],[列8]]),0) + IF($AA$10>0,COUNTA(t_プラシャツ[[#This Row],[列9]]),0)\n+IF($AD$10>0,COUNTA(t_プラシャツ[[#This Row],[列12]]),0) + IF($AE$10>0,COUNTA(t_プラシャツ[[#This Row],[列13]]),0)","v":0}]
[null,14,null,null,null,null,null,null,null,null,null,null,null,null,null,null,null,0,null,null,{"$f":"LEN(t_プラシャツ[[#This Row],[列3]])","v":0},{"$f":"IF(LEN(t_プラシャツ[[#This Row],[列4]])>0,\n$F$59+V$11+\nIF(LEN(t_プラシャツ[[#This Row],[列2]])>0,$E$59,0)+\nIF(AND(V$6=1,$U27=1),$M$69+$M$71,\nIF(AND(V$6=1,$U27>1),$M$70+$M$72,\nIF(AND(V$6=2,$U27=1),$M$69,\nIF(AND(V$6=2,$U27>1),$M$70,\nIF(AND(V$6=3,$U27=1),$M$71,\nIF(AND(V$6=3,$U27>1),$M$72,\n0)))))),0)","v":0},{"$f":"IF(LEN(t_プラシャツ[[#This Row],[列5]])>0,\n$G$59+W$11+\nIF(LEN(t_プラシャツ[[#This Row],[列2]])>0,$E$59,0)+\nIF(AND(W$6=1,$U27=1),$M$69+$M$71,\nIF(AND(W$6=1,$U27>1),$M$70+$M$72,\nIF(AND(W$6=2,$U27=1),$M$69,\nIF(AND(W$6=2,$U27>1),$M$70,\nIF(AND(W$6=3,$U27=1),$M$71,\nIF(AND(W$6=3,$U27>1),$M$72,\n0)))))),0)","v":0},{"$f":"IF(LEN(t_プラシャツ[[#This Row],[列6]])>0,\n$H$59+X$11+\nIF(AND(X$6=1,$U27=1),$M$73,\nIF(AND(X$6=1,$U27>1),$M$74,\n0)),0)","v":0},{"$f":"IF(LEN(t_プラシャツ[[#This Row],[列7]])>0,$I$59,0)","v":0},{"$f":"IF(LEN(t_プラシャツ[[#This Row],[列8]])>0,\n$F$59+Z$11+\nIF(LEN(t_プラシャツ[[#This Row],[列2]])>0,$E$59,0)+\nIF(AND(Z$6=1,$U27=1),$M$69+$M$71,\nIF(AND(Z$6=1,$U27>1),$M$70+$M$72,\nIF(AND(Z$6=2,$U27=1),$M$69,\nIF(AND(Z$6=2,$U27>1),$M$70,\nIF(AND(Z$6=3,$U27=1),$M$71,\nIF(AND(Z$6=3,$U27>1),$M$72,\n0)))))),0)","v":0},{"$f":"IF(LEN(t_プラシャツ[[#This Row],[列9]])>0,\n$G$59+AA$11+\nIF(LEN(t_プラシャツ[[#This Row],[列2]])>0,$E$59,0)+\nIF(AND(AA$6=1,$U27=1),$M$69+$M$71,\nIF(AND(AA$6=1,$U27>1),$M$70+$M$72,\nIF(AND(AA$6=2,$U27=1),$M$69,\nIF(AND(AA$6=2,$U27>1),$M$70,\nIF(AND(AA$6=3,$U27=1),$M$71,\nIF(AND(AA$6=3,$U27>1),$M$72,\n0)))))),0)","v":0},{"$f":"IF(LEN(t_プラシャツ[[#This Row],[列10]])>0,\n$H$59+AB$11+\nIF(AND(AB$6=1,$U27=1),$M$73,\nIF(AND(AB$6=1,$U27>1),$M$74,\n0)),0)","v":0},{"$f":"IF(LEN(t_プラシャツ[[#This Row],[列11]])>0,$I$59,0)","v":0},{"$f":"IF(LEN(t_プラシャツ[[#This Row],[列12]])>0,\n$F$59+AD$11+\nIF(LEN(t_プラシャツ[[#This Row],[列2]])>0,$E$59,0)+\nIF(AND(AD$6=1,$U27=1),$M$69+$M$71,\nIF(AND(AD$6=1,$U27>1),$M$70+$M$72,\nIF(AND(AD$6=2,$U27=1),$M$69,\nIF(AND(AD$6=2,$U27>1),$M$70,\nIF(AND(AD$6=3,$U27=1),$M$71,\nIF(AND(AD$6=3,$U27>1),$M$72,\n0)))))),0)","v":0},{"$f":"IF(LEN(t_プラシャツ[[#This Row],[列13]])>0,\n$G$59+AE$11+\nIF(LEN(t_プラシャツ[[#This Row],[列2]])>0,$E$59,0)+\nIF(AND(AE$6=1,$U27=1),$M$69+$M$71,\nIF(AND(AE$6=1,$U27>1),$M$70+$M$72,\nIF(AND(AE$6=2,$U27=1),$M$69,\nIF(AND(AE$6=2,$U27>1),$M$70,\nIF(AND(AE$6=3,$U27=1),$M$71,\nIF(AND(AE$6=3,$U27>1),$M$72,\n0)))))),0)","v":0},{"$f":"IF(LEN(t_プラシャツ[[#This Row],[列16]])>0,\n$H$59+AF$11+\nIF(AND(AF$6=1,$U27=1),$M$73,\nIF(AND(AF$6=1,$U27>1),$M$74,\n0)),0)","v":0},{"$f":"IF(LEN(t_プラシャツ[[#This Row],[列17]])>0,$I$59,0)","v":0},null,{"$f":"IF(LEN(t_プラシャツ[[#This Row],[列2]])>0,COUNTA(t_プラシャツ[[#This Row],[列4]:[列5]],t_プラシャツ[[#This Row],[列8]:[列9]],t_プラシャツ[[#This Row],[列12]:[列13]]),0)","v":0},{"$f":"IF(AND($U27=1,OR($V$6=1,$V$6=2)),COUNTA(t_プラシャツ[[#This Row],[列4]]),0)\n+ IF(AND($U27=1,OR($W$6=1,$W$6=2)),COUNTA(t_プラシャツ[[#This Row],[列5]]),0)\n+ IF(AND($U27=1,OR($Z$6=1,$Z$6=2)),COUNTA(t_プラシャツ[[#This Row],[列8]]),0)\n+ IF(AND($U27=1,OR($AA$6=1,$AA$6=2)),COUNTA(t_プラシャツ[[#This Row],[列9]]),0)\n+ IF(AND($U27=1,OR($AD$6=1,$AD$6=2)),COUNTA(t_プラシャツ[[#This Row],[列12]]),0)\n+ IF(AND($U27=1,OR($AE$6=1,$AE$6=2)),COUNTA(t_プラシャツ[[#This Row],[列13]]),0)","v":0},{"$f":"IF(AND($U27>1,OR($V$6=1,$V$6=2)),COUNTA(t_プラシャツ[[#This Row],[列4]]),0)\n+ IF(AND($U27>1,OR($W$6=1,$W$6=2)),COUNTA(t_プラシャツ[[#This Row],[列5]]),0)\n+ IF(AND($U27>1,OR($Z$6=1,$Z$6=2)),COUNTA(t_プラシャツ[[#This Row],[列8]]),0)\n+ IF(AND($U27>1,OR($AA$6=1,$AA$6=2)),COUNTA(t_プラシャツ[[#This Row],[列9]]),0)\n+ IF(AND($U27>1,OR($AD$6=1,$AD$6=2)),COUNTA(t_プラシャツ[[#This Row],[列12]]),0)\n+ IF(AND($U27>1,OR($AE$6=1,$AE$6=2)),COUNTA(t_プラシャツ[[#This Row],[列13]]),0)","v":0},{"$f":"IF(AND($U27=1,OR($V$6=1,$V$6=3)),COUNTA(t_プラシャツ[[#This Row],[列4]]),0)\n+ IF(AND($U27=1,OR($W$6=1,$W$6=3)),COUNTA(t_プラシャツ[[#This Row],[列5]]),0)\n+ IF(AND($U27=1,OR($Z$6=1,$Z$6=3)),COUNTA(t_プラシャツ[[#This Row],[列8]]),0)\n+ IF(AND($U27=1,OR($AA$6=1,$AA$6=3)),COUNTA(t_プラシャツ[[#This Row],[列9]]),0)\n+ IF(AND($U27=1,OR($AD$6=1,$AD$6=3)),COUNTA(t_プラシャツ[[#This Row],[列12]]),0)\n+ IF(AND($U27=1,OR($AE$6=1,$AE$6=3)),COUNTA(t_プラシャツ[[#This Row],[列13]]),0)","v":0},{"$f":"IF(AND($U27>1,OR($V$6=1,$V$6=3)),COUNTA(t_プラシャツ[[#This Row],[列4]]),0)\n+ IF(AND($U27>1,OR($W$6=1,$W$6=3)),COUNTA(t_プラシャツ[[#This Row],[列5]]),0)\n+ IF(AND($U27>1,OR($Z$6=1,$Z$6=3)),COUNTA(t_プラシャツ[[#This Row],[列8]]),0)\n+ IF(AND($U27>1,OR($AA$6=1,$AA$6=3)),COUNTA(t_プラシャツ[[#This Row],[列9]]),0)\n+ IF(AND($U27>1,OR($AD$6=1,$AD$6=3)),COUNTA(t_プラシャツ[[#This Row],[列12]]),0)\n+ IF(AND($U27>1,OR($AE$6=1,$AE$6=3)),COUNTA(t_プラシャツ[[#This Row],[列13]]),0)","v":0},{"$f":"IF(AND($U27=1,$X$6=1),COUNTA(t_プラシャツ[[#This Row],[列6]]),0)\n+ IF(AND($U27=1,$AB$6=1),COUNTA(t_プラシャツ[[#This Row],[列10]]),0)\n+ IF(AND($U27=1,$AF$6=1),COUNTA(t_プラシャツ[[#This Row],[列16]]),0)","v":0},{"$f":"IF(AND($U27>1,$X$6=1),COUNTA(t_プラシャツ[[#This Row],[列6]]),0)\n+ IF(AND($U27>1,$AB$6=1),COUNTA(t_プラシャツ[[#This Row],[列10]]),0)\n+ IF(AND($U27>1,$AF$6=1),COUNTA(t_プラシャツ[[#This Row],[列16]]),0)","v":0},{"$f":"IF($V$7>0,COUNTA(t_プラシャツ[[#This Row],[列4]]),0) + IF($W$7>0,COUNTA(t_プラシャツ[[#This Row],[列5]]),0) + IF($X$7>0,COUNTA(t_プラシャツ[[#This Row],[列6]]),0)\n+IF($Z$7>0,COUNTA(t_プラシャツ[[#This Row],[列8]]),0) + IF($AA$7>0,COUNTA(t_プラシャツ[[#This Row],[列9]]),0) + IF($AB$7>0,COUNTA(t_プラシャツ[[#This Row],[列10]]),0)\n+IF($AD$7>0,COUNTA(t_プラシャツ[[#This Row],[列12]]),0) + IF($AE$7>0,COUNTA(t_プラシャツ[[#This Row],[列13]]),0) + IF($AF$7>0,COUNTA(t_プラシャツ[[#This Row],[列16]]),0)","v":0},{"$f":"IF($V$8>0,COUNTA(t_プラシャツ[[#This Row],[列4]]),0) + IF($W$8>0,COUNTA(t_プラシャツ[[#This Row],[列5]]),0)\n+IF($Z$8>0,COUNTA(t_プラシャツ[[#This Row],[列8]]),0) + IF($AA$8>0,COUNTA(t_プラシャツ[[#This Row],[列9]]),0)\n+IF($AD$8>0,COUNTA(t_プラシャツ[[#This Row],[列12]]),0) + IF($AE$8>0,COUNTA(t_プラシャツ[[#This Row],[列13]]),0)","v":0},{"$f":"IF($V$9>0,COUNTA(t_プラシャツ[[#This Row],[列4]]),0) + IF($W$9>0,COUNTA(t_プラシャツ[[#This Row],[列5]]),0)\n+IF($Z$9>0,COUNTA(t_プラシャツ[[#This Row],[列8]]),0) + IF($AA$9>0,COUNTA(t_プラシャツ[[#This Row],[列9]]),0)\n+IF($AD$9>0,COUNTA(t_プラシャツ[[#This Row],[列12]]),0) + IF($AE$9>0,COUNTA(t_プラシャツ[[#This Row],[列13]]),0)","v":0},{"$f":"IF($V$10>0,COUNTA(t_プラシャツ[[#This Row],[列4]]),0) + IF($W$10>0,COUNTA(t_プラシャツ[[#This Row],[列5]]),0)\n+IF($Z$10>0,COUNTA(t_プラシャツ[[#This Row],[列8]]),0) + IF($AA$10>0,COUNTA(t_プラシャツ[[#This Row],[列9]]),0)\n+IF($AD$10>0,COUNTA(t_プラシャツ[[#This Row],[列12]]),0) + IF($AE$10>0,COUNTA(t_プラシャツ[[#This Row],[列13]]),0)","v":0}]
[null,15,null,null,null,null,null,null,null,null,null,null,null,null,null,null,null,0,null,null,{"$f":"LEN(t_プラシャツ[[#This Row],[列3]])","v":0},{"$f":"IF(LEN(t_プラシャツ[[#This Row],[列4]])>0,\n$F$59+V$11+\nIF(LEN(t_プラシャツ[[#This Row],[列2]])>0,$E$59,0)+\nIF(AND(V$6=1,$U28=1),$M$69+$M$71,\nIF(AND(V$6=1,$U28>1),$M$70+$M$72,\nIF(AND(V$6=2,$U28=1),$M$69,\nIF(AND(V$6=2,$U28>1),$M$70,\nIF(AND(V$6=3,$U28=1),$M$71,\nIF(AND(V$6=3,$U28>1),$M$72,\n0)))))),0)","v":0},{"$f":"IF(LEN(t_プラシャツ[[#This Row],[列5]])>0,\n$G$59+W$11+\nIF(LEN(t_プラシャツ[[#This Row],[列2]])>0,$E$59,0)+\nIF(AND(W$6=1,$U28=1),$M$69+$M$71,\nIF(AND(W$6=1,$U28>1),$M$70+$M$72,\nIF(AND(W$6=2,$U28=1),$M$69,\nIF(AND(W$6=2,$U28>1),$M$70,\nIF(AND(W$6=3,$U28=1),$M$71,\nIF(AND(W$6=3,$U28>1),$M$72,\n0)))))),0)","v":0},{"$f":"IF(LEN(t_プラシャツ[[#This Row],[列6]])>0,\n$H$59+X$11+\nIF(AND(X$6=1,$U28=1),$M$73,\nIF(AND(X$6=1,$U28>1),$M$74,\n0)),0)","v":0},{"$f":"IF(LEN(t_プラシャツ[[#This Row],[列7]])>0,$I$59,0)","v":0},{"$f":"IF(LEN(t_プラシャツ[[#This Row],[列8]])>0,\n$F$59+Z$11+\nIF(LEN(t_プラシャツ[[#This Row],[列2]])>0,$E$59,0)+\nIF(AND(Z$6=1,$U28=1),$M$69+$M$71,\nIF(AND(Z$6=1,$U28>1),$M$70+$M$72,\nIF(AND(Z$6=2,$U28=1),$M$69,\nIF(AND(Z$6=2,$U28>1),$M$70,\nIF(AND(Z$6=3,$U28=1),$M$71,\nIF(AND(Z$6=3,$U28>1),$M$72,\n0)))))),0)","v":0},{"$f":"IF(LEN(t_プラシャツ[[#This Row],[列9]])>0,\n$G$59+AA$11+\nIF(LEN(t_プラシャツ[[#This Row],[列2]])>0,$E$59,0)+\nIF(AND(AA$6=1,$U28=1),$M$69+$M$71,\nIF(AND(AA$6=1,$U28>1),$M$70+$M$72,\nIF(AND(AA$6=2,$U28=1),$M$69,\nIF(AND(AA$6=2,$U28>1),$M$70,\nIF(AND(AA$6=3,$U28=1),$M$71,\nIF(AND(AA$6=3,$U28>1),$M$72,\n0)))))),0)","v":0},{"$f":"IF(LEN(t_プラシャツ[[#This Row],[列10]])>0,\n$H$59+AB$11+\nIF(AND(AB$6=1,$U28=1),$M$73,\nIF(AND(AB$6=1,$U28>1),$M$74,\n0)),0)","v":0},{"$f":"IF(LEN(t_プラシャツ[[#This Row],[列11]])>0,$I$59,0)","v":0},{"$f":"IF(LEN(t_プラシャツ[[#This Row],[列12]])>0,\n$F$59+AD$11+\nIF(LEN(t_プラシャツ[[#This Row],[列2]])>0,$E$59,0)+\nIF(AND(AD$6=1,$U28=1),$M$69+$M$71,\nIF(AND(AD$6=1,$U28>1),$M$70+$M$72,\nIF(AND(AD$6=2,$U28=1),$M$69,\nIF(AND(AD$6=2,$U28>1),$M$70,\nIF(AND(AD$6=3,$U28=1),$M$71,\nIF(AND(AD$6=3,$U28>1),$M$72,\n0)))))),0)","v":0},{"$f":"IF(LEN(t_プラシャツ[[#This Row],[列13]])>0,\n$G$59+AE$11+\nIF(LEN(t_プラシャツ[[#This Row],[列2]])>0,$E$59,0)+\nIF(AND(AE$6=1,$U28=1),$M$69+$M$71,\nIF(AND(AE$6=1,$U28>1),$M$70+$M$72,\nIF(AND(AE$6=2,$U28=1),$M$69,\nIF(AND(AE$6=2,$U28>1),$M$70,\nIF(AND(AE$6=3,$U28=1),$M$71,\nIF(AND(AE$6=3,$U28>1),$M$72,\n0)))))),0)","v":0},{"$f":"IF(LEN(t_プラシャツ[[#This Row],[列16]])>0,\n$H$59+AF$11+\nIF(AND(AF$6=1,$U28=1),$M$73,\nIF(AND(AF$6=1,$U28>1),$M$74,\n0)),0)","v":0},{"$f":"IF(LEN(t_プラシャツ[[#This Row],[列17]])>0,$I$59,0)","v":0},null,{"$f":"IF(LEN(t_プラシャツ[[#This Row],[列2]])>0,COUNTA(t_プラシャツ[[#This Row],[列4]:[列5]],t_プラシャツ[[#This Row],[列8]:[列9]],t_プラシャツ[[#This Row],[列12]:[列13]]),0)","v":0},{"$f":"IF(AND($U28=1,OR($V$6=1,$V$6=2)),COUNTA(t_プラシャツ[[#This Row],[列4]]),0)\n+ IF(AND($U28=1,OR($W$6=1,$W$6=2)),COUNTA(t_プラシャツ[[#This Row],[列5]]),0)\n+ IF(AND($U28=1,OR($Z$6=1,$Z$6=2)),COUNTA(t_プラシャツ[[#This Row],[列8]]),0)\n+ IF(AND($U28=1,OR($AA$6=1,$AA$6=2)),COUNTA(t_プラシャツ[[#This Row],[列9]]),0)\n+ IF(AND($U28=1,OR($AD$6=1,$AD$6=2)),COUNTA(t_プラシャツ[[#This Row],[列12]]),0)\n+ IF(AND($U28=1,OR($AE$6=1,$AE$6=2)),COUNTA(t_プラシャツ[[#This Row],[列13]]),0)","v":0},{"$f":"IF(AND($U28>1,OR($V$6=1,$V$6=2)),COUNTA(t_プラシャツ[[#This Row],[列4]]),0)\n+ IF(AND($U28>1,OR($W$6=1,$W$6=2)),COUNTA(t_プラシャツ[[#This Row],[列5]]),0)\n+ IF(AND($U28>1,OR($Z$6=1,$Z$6=2)),COUNTA(t_プラシャツ[[#This Row],[列8]]),0)\n+ IF(AND($U28>1,OR($AA$6=1,$AA$6=2)),COUNTA(t_プラシャツ[[#This Row],[列9]]),0)\n+ IF(AND($U28>1,OR($AD$6=1,$AD$6=2)),COUNTA(t_プラシャツ[[#This Row],[列12]]),0)\n+ IF(AND($U28>1,OR($AE$6=1,$AE$6=2)),COUNTA(t_プラシャツ[[#This Row],[列13]]),0)","v":0},{"$f":"IF(AND($U28=1,OR($V$6=1,$V$6=3)),COUNTA(t_プラシャツ[[#This Row],[列4]]),0)\n+ IF(AND($U28=1,OR($W$6=1,$W$6=3)),COUNTA(t_プラシャツ[[#This Row],[列5]]),0)\n+ IF(AND($U28=1,OR($Z$6=1,$Z$6=3)),COUNTA(t_プラシャツ[[#This Row],[列8]]),0)\n+ IF(AND($U28=1,OR($AA$6=1,$AA$6=3)),COUNTA(t_プラシャツ[[#This Row],[列9]]),0)\n+ IF(AND($U28=1,OR($AD$6=1,$AD$6=3)),COUNTA(t_プラシャツ[[#This Row],[列12]]),0)\n+ IF(AND($U28=1,OR($AE$6=1,$AE$6=3)),COUNTA(t_プラシャツ[[#This Row],[列13]]),0)","v":0},{"$f":"IF(AND($U28>1,OR($V$6=1,$V$6=3)),COUNTA(t_プラシャツ[[#This Row],[列4]]),0)\n+ IF(AND($U28>1,OR($W$6=1,$W$6=3)),COUNTA(t_プラシャツ[[#This Row],[列5]]),0)\n+ IF(AND($U28>1,OR($Z$6=1,$Z$6=3)),COUNTA(t_プラシャツ[[#This Row],[列8]]),0)\n+ IF(AND($U28>1,OR($AA$6=1,$AA$6=3)),COUNTA(t_プラシャツ[[#This Row],[列9]]),0)\n+ IF(AND($U28>1,OR($AD$6=1,$AD$6=3)),COUNTA(t_プラシャツ[[#This Row],[列12]]),0)\n+ IF(AND($U28>1,OR($AE$6=1,$AE$6=3)),COUNTA(t_プラシャツ[[#This Row],[列13]]),0)","v":0},{"$f":"IF(AND($U28=1,$X$6=1),COUNTA(t_プラシャツ[[#This Row],[列6]]),0)\n+ IF(AND($U28=1,$AB$6=1),COUNTA(t_プラシャツ[[#This Row],[列10]]),0)\n+ IF(AND($U28=1,$AF$6=1),COUNTA(t_プラシャツ[[#This Row],[列16]]),0)","v":0},{"$f":"IF(AND($U28>1,$X$6=1),COUNTA(t_プラシャツ[[#This Row],[列6]]),0)\n+ IF(AND($U28>1,$AB$6=1),COUNTA(t_プラシャツ[[#This Row],[列10]]),0)\n+ IF(AND($U28>1,$AF$6=1),COUNTA(t_プラシャツ[[#This Row],[列16]]),0)","v":0},{"$f":"IF($V$7>0,COUNTA(t_プラシャツ[[#This Row],[列4]]),0) + IF($W$7>0,COUNTA(t_プラシャツ[[#This Row],[列5]]),0) + IF($X$7>0,COUNTA(t_プラシャツ[[#This Row],[列6]]),0)\n+IF($Z$7>0,COUNTA(t_プラシャツ[[#This Row],[列8]]),0) + IF($AA$7>0,COUNTA(t_プラシャツ[[#This Row],[列9]]),0) + IF($AB$7>0,COUNTA(t_プラシャツ[[#This Row],[列10]]),0)\n+IF($AD$7>0,COUNTA(t_プラシャツ[[#This Row],[列12]]),0) + IF($AE$7>0,COUNTA(t_プラシャツ[[#This Row],[列13]]),0) + IF($AF$7>0,COUNTA(t_プラシャツ[[#This Row],[列16]]),0)","v":0},{"$f":"IF($V$8>0,COUNTA(t_プラシャツ[[#This Row],[列4]]),0) + IF($W$8>0,COUNTA(t_プラシャツ[[#This Row],[列5]]),0)\n+IF($Z$8>0,COUNTA(t_プラシャツ[[#This Row],[列8]]),0) + IF($AA$8>0,COUNTA(t_プラシャツ[[#This Row],[列9]]),0)\n+IF($AD$8>0,COUNTA(t_プラシャツ[[#This Row],[列12]]),0) + IF($AE$8>0,COUNTA(t_プラシャツ[[#This Row],[列13]]),0)","v":0},{"$f":"IF($V$9>0,COUNTA(t_プラシャツ[[#This Row],[列4]]),0) + IF($W$9>0,COUNTA(t_プラシャツ[[#This Row],[列5]]),0)\n+IF($Z$9>0,COUNTA(t_プラシャツ[[#This Row],[列8]]),0) + IF($AA$9>0,COUNTA(t_プラシャツ[[#This Row],[列9]]),0)\n+IF($AD$9>0,COUNTA(t_プラシャツ[[#This Row],[列12]]),0) + IF($AE$9>0,COUNTA(t_プラシャツ[[#This Row],[列13]]),0)","v":0},{"$f":"IF($V$10>0,COUNTA(t_プラシャツ[[#This Row],[列4]]),0) + IF($W$10>0,COUNTA(t_プラシャツ[[#This Row],[列5]]),0)\n+IF($Z$10>0,COUNTA(t_プラシャツ[[#This Row],[列8]]),0) + IF($AA$10>0,COUNTA(t_プラシャツ[[#This Row],[列9]]),0)\n+IF($AD$10>0,COUNTA(t_プラシャツ[[#This Row],[列12]]),0) + IF($AE$10>0,COUNTA(t_プラシャツ[[#This Row],[列13]]),0)","v":0}]
[null,16,null,null,null,null,null,null,null,null,null,null,null,null,null,null,null,0,null,null,{"$f":"LEN(t_プラシャツ[[#This Row],[列3]])","v":0},{"$f":"IF(LEN(t_プラシャツ[[#This Row],[列4]])>0,\n$F$59+V$11+\nIF(LEN(t_プラシャツ[[#This Row],[列2]])>0,$E$59,0)+\nIF(AND(V$6=1,$U29=1),$M$69+$M$71,\nIF(AND(V$6=1,$U29>1),$M$70+$M$72,\nIF(AND(V$6=2,$U29=1),$M$69,\nIF(AND(V$6=2,$U29>1),$M$70,\nIF(AND(V$6=3,$U29=1),$M$71,\nIF(AND(V$6=3,$U29>1),$M$72,\n0)))))),0)","v":0},{"$f":"IF(LEN(t_プラシャツ[[#This Row],[列5]])>0,\n$G$59+W$11+\nIF(LEN(t_プラシャツ[[#This Row],[列2]])>0,$E$59,0)+\nIF(AND(W$6=1,$U29=1),$M$69+$M$71,\nIF(AND(W$6=1,$U29>1),$M$70+$M$72,\nIF(AND(W$6=2,$U29=1),$M$69,\nIF(AND(W$6=2,$U29>1),$M$70,\nIF(AND(W$6=3,$U29=1),$M$71,\nIF(AND(W$6=3,$U29>1),$M$72,\n0)))))),0)","v":0},{"$f":"IF(LEN(t_プラシャツ[[#This Row],[列6]])>0,\n$H$59+X$11+\nIF(AND(X$6=1,$U29=1),$M$73,\nIF(AND(X$6=1,$U29>1),$M$74,\n0)),0)","v":0},{"$f":"IF(LEN(t_プラシャツ[[#This Row],[列7]])>0,$I$59,0)","v":0},{"$f":"IF(LEN(t_プラシャツ[[#This Row],[列8]])>0,\n$F$59+Z$11+\nIF(LEN(t_プラシャツ[[#This Row],[列2]])>0,$E$59,0)+\nIF(AND(Z$6=1,$U29=1),$M$69+$M$71,\nIF(AND(Z$6=1,$U29>1),$M$70+$M$72,\nIF(AND(Z$6=2,$U29=1),$M$69,\nIF(AND(Z$6=2,$U29>1),$M$70,\nIF(AND(Z$6=3,$U29=1),$M$71,\nIF(AND(Z$6=3,$U29>1),$M$72,\n0)))))),0)","v":0},{"$f":"IF(LEN(t_プラシャツ[[#This Row],[列9]])>0,\n$G$59+AA$11+\nIF(LEN(t_プラシャツ[[#This Row],[列2]])>0,$E$59,0)+\nIF(AND(AA$6=1,$U29=1),$M$69+$M$71,\nIF(AND(AA$6=1,$U29>1),$M$70+$M$72,\nIF(AND(AA$6=2,$U29=1),$M$69,\nIF(AND(AA$6=2,$U29>1),$M$70,\nIF(AND(AA$6=3,$U29=1),$M$71,\nIF(AND(AA$6=3,$U29>1),$M$72,\n0)))))),0)","v":0},{"$f":"IF(LEN(t_プラシャツ[[#This Row],[列10]])>0,\n$H$59+AB$11+\nIF(AND(AB$6=1,$U29=1),$M$73,\nIF(AND(AB$6=1,$U29>1),$M$74,\n0)),0)","v":0},{"$f":"IF(LEN(t_プラシャツ[[#This Row],[列11]])>0,$I$59,0)","v":0},{"$f":"IF(LEN(t_プラシャツ[[#This Row],[列12]])>0,\n$F$59+AD$11+\nIF(LEN(t_プラシャツ[[#This Row],[列2]])>0,$E$59,0)+\nIF(AND(AD$6=1,$U29=1),$M$69+$M$71,\nIF(AND(AD$6=1,$U29>1),$M$70+$M$72,\nIF(AND(AD$6=2,$U29=1),$M$69,\nIF(AND(AD$6=2,$U29>1),$M$70,\nIF(AND(AD$6=3,$U29=1),$M$71,\nIF(AND(AD$6=3,$U29>1),$M$72,\n0)))))),0)","v":0},{"$f":"IF(LEN(t_プラシャツ[[#This Row],[列13]])>0,\n$G$59+AE$11+\nIF(LEN(t_プラシャツ[[#This Row],[列2]])>0,$E$59,0)+\nIF(AND(AE$6=1,$U29=1),$M$69+$M$71,\nIF(AND(AE$6=1,$U29>1),$M$70+$M$72,\nIF(AND(AE$6=2,$U29=1),$M$69,\nIF(AND(AE$6=2,$U29>1),$M$70,\nIF(AND(AE$6=3,$U29=1),$M$71,\nIF(AND(AE$6=3,$U29>1),$M$72,\n0)))))),0)","v":0},{"$f":"IF(LEN(t_プラシャツ[[#This Row],[列16]])>0,\n$H$59+AF$11+\nIF(AND(AF$6=1,$U29=1),$M$73,\nIF(AND(AF$6=1,$U29>1),$M$74,\n0)),0)","v":0},{"$f":"IF(LEN(t_プラシャツ[[#This Row],[列17]])>0,$I$59,0)","v":0},null,{"$f":"IF(LEN(t_プラシャツ[[#This Row],[列2]])>0,COUNTA(t_プラシャツ[[#This Row],[列4]:[列5]],t_プラシャツ[[#This Row],[列8]:[列9]],t_プラシャツ[[#This Row],[列12]:[列13]]),0)","v":0},{"$f":"IF(AND($U29=1,OR($V$6=1,$V$6=2)),COUNTA(t_プラシャツ[[#This Row],[列4]]),0)\n+ IF(AND($U29=1,OR($W$6=1,$W$6=2)),COUNTA(t_プラシャツ[[#This Row],[列5]]),0)\n+ IF(AND($U29=1,OR($Z$6=1,$Z$6=2)),COUNTA(t_プラシャツ[[#This Row],[列8]]),0)\n+ IF(AND($U29=1,OR($AA$6=1,$AA$6=2)),COUNTA(t_プラシャツ[[#This Row],[列9]]),0)\n+ IF(AND($U29=1,OR($AD$6=1,$AD$6=2)),COUNTA(t_プラシャツ[[#This Row],[列12]]),0)\n+ IF(AND($U29=1,OR($AE$6=1,$AE$6=2)),COUNTA(t_プラシャツ[[#This Row],[列13]]),0)","v":0},{"$f":"IF(AND($U29>1,OR($V$6=1,$V$6=2)),COUNTA(t_プラシャツ[[#This Row],[列4]]),0)\n+ IF(AND($U29>1,OR($W$6=1,$W$6=2)),COUNTA(t_プラシャツ[[#This Row],[列5]]),0)\n+ IF(AND($U29>1,OR($Z$6=1,$Z$6=2)),COUNTA(t_プラシャツ[[#This Row],[列8]]),0)\n+ IF(AND($U29>1,OR($AA$6=1,$AA$6=2)),COUNTA(t_プラシャツ[[#This Row],[列9]]),0)\n+ IF(AND($U29>1,OR($AD$6=1,$AD$6=2)),COUNTA(t_プラシャツ[[#This Row],[列12]]),0)\n+ IF(AND($U29>1,OR($AE$6=1,$AE$6=2)),COUNTA(t_プラシャツ[[#This Row],[列13]]),0)","v":0},{"$f":"IF(AND($U29=1,OR($V$6=1,$V$6=3)),COUNTA(t_プラシャツ[[#This Row],[列4]]),0)\n+ IF(AND($U29=1,OR($W$6=1,$W$6=3)),COUNTA(t_プラシャツ[[#This Row],[列5]]),0)\n+ IF(AND($U29=1,OR($Z$6=1,$Z$6=3)),COUNTA(t_プラシャツ[[#This Row],[列8]]),0)\n+ IF(AND($U29=1,OR($AA$6=1,$AA$6=3)),COUNTA(t_プラシャツ[[#This Row],[列9]]),0)\n+ IF(AND($U29=1,OR($AD$6=1,$AD$6=3)),COUNTA(t_プラシャツ[[#This Row],[列12]]),0)\n+ IF(AND($U29=1,OR($AE$6=1,$AE$6=3)),COUNTA(t_プラシャツ[[#This Row],[列13]]),0)","v":0},{"$f":"IF(AND($U29>1,OR($V$6=1,$V$6=3)),COUNTA(t_プラシャツ[[#This Row],[列4]]),0)\n+ IF(AND($U29>1,OR($W$6=1,$W$6=3)),COUNTA(t_プラシャツ[[#This Row],[列5]]),0)\n+ IF(AND($U29>1,OR($Z$6=1,$Z$6=3)),COUNTA(t_プラシャツ[[#This Row],[列8]]),0)\n+ IF(AND($U29>1,OR($AA$6=1,$AA$6=3)),COUNTA(t_プラシャツ[[#This Row],[列9]]),0)\n+ IF(AND($U29>1,OR($AD$6=1,$AD$6=3)),COUNTA(t_プラシャツ[[#This Row],[列12]]),0)\n+ IF(AND($U29>1,OR($AE$6=1,$AE$6=3)),COUNTA(t_プラシャツ[[#This Row],[列13]]),0)","v":0},{"$f":"IF(AND($U29=1,$X$6=1),COUNTA(t_プラシャツ[[#This Row],[列6]]),0)\n+ IF(AND($U29=1,$AB$6=1),COUNTA(t_プラシャツ[[#This Row],[列10]]),0)\n+ IF(AND($U29=1,$AF$6=1),COUNTA(t_プラシャツ[[#This Row],[列16]]),0)","v":0},{"$f":"IF(AND($U29>1,$X$6=1),COUNTA(t_プラシャツ[[#This Row],[列6]]),0)\n+ IF(AND($U29>1,$AB$6=1),COUNTA(t_プラシャツ[[#This Row],[列10]]),0)\n+ IF(AND($U29>1,$AF$6=1),COUNTA(t_プラシャツ[[#This Row],[列16]]),0)","v":0},{"$f":"IF($V$7>0,COUNTA(t_プラシャツ[[#This Row],[列4]]),0) + IF($W$7>0,COUNTA(t_プラシャツ[[#This Row],[列5]]),0) + IF($X$7>0,COUNTA(t_プラシャツ[[#This Row],[列6]]),0)\n+IF($Z$7>0,COUNTA(t_プラシャツ[[#This Row],[列8]]),0) + IF($AA$7>0,COUNTA(t_プラシャツ[[#This Row],[列9]]),0) + IF($AB$7>0,COUNTA(t_プラシャツ[[#This Row],[列10]]),0)\n+IF($AD$7>0,COUNTA(t_プラシャツ[[#This Row],[列12]]),0) + IF($AE$7>0,COUNTA(t_プラシャツ[[#This Row],[列13]]),0) + IF($AF$7>0,COUNTA(t_プラシャツ[[#This Row],[列16]]),0)","v":0},{"$f":"IF($V$8>0,COUNTA(t_プラシャツ[[#This Row],[列4]]),0) + IF($W$8>0,COUNTA(t_プラシャツ[[#This Row],[列5]]),0)\n+IF($Z$8>0,COUNTA(t_プラシャツ[[#This Row],[列8]]),0) + IF($AA$8>0,COUNTA(t_プラシャツ[[#This Row],[列9]]),0)\n+IF($AD$8>0,COUNTA(t_プラシャツ[[#This Row],[列12]]),0) + IF($AE$8>0,COUNTA(t_プラシャツ[[#This Row],[列13]]),0)","v":0},{"$f":"IF($V$9>0,COUNTA(t_プラシャツ[[#This Row],[列4]]),0) + IF($W$9>0,COUNTA(t_プラシャツ[[#This Row],[列5]]),0)\n+IF($Z$9>0,COUNTA(t_プラシャツ[[#This Row],[列8]]),0) + IF($AA$9>0,COUNTA(t_プラシャツ[[#This Row],[列9]]),0)\n+IF($AD$9>0,COUNTA(t_プラシャツ[[#This Row],[列12]]),0) + IF($AE$9>0,COUNTA(t_プラシャツ[[#This Row],[列13]]),0)","v":0},{"$f":"IF($V$10>0,COUNTA(t_プラシャツ[[#This Row],[列4]]),0) + IF($W$10>0,COUNTA(t_プラシャツ[[#This Row],[列5]]),0)\n+IF($Z$10>0,COUNTA(t_プラシャツ[[#This Row],[列8]]),0) + IF($AA$10>0,COUNTA(t_プラシャツ[[#This Row],[列9]]),0)\n+IF($AD$10>0,COUNTA(t_プラシャツ[[#This Row],[列12]]),0) + IF($AE$10>0,COUNTA(t_プラシャツ[[#This Row],[列13]]),0)","v":0}]
[null,17,null,null,null,null,null,null,null,null,null,null,null,null,null,null,null,0,null,null,{"$f":"LEN(t_プラシャツ[[#This Row],[列3]])","v":0},{"$f":"IF(LEN(t_プラシャツ[[#This Row],[列4]])>0,\n$F$59+V$11+\nIF(LEN(t_プラシャツ[[#This Row],[列2]])>0,$E$59,0)+\nIF(AND(V$6=1,$U30=1),$M$69+$M$71,\nIF(AND(V$6=1,$U30>1),$M$70+$M$72,\nIF(AND(V$6=2,$U30=1),$M$69,\nIF(AND(V$6=2,$U30>1),$M$70,\nIF(AND(V$6=3,$U30=1),$M$71,\nIF(AND(V$6=3,$U30>1),$M$72,\n0)))))),0)","v":0},{"$f":"IF(LEN(t_プラシャツ[[#This Row],[列5]])>0,\n$G$59+W$11+\nIF(LEN(t_プラシャツ[[#This Row],[列2]])>0,$E$59,0)+\nIF(AND(W$6=1,$U30=1),$M$69+$M$71,\nIF(AND(W$6=1,$U30>1),$M$70+$M$72,\nIF(AND(W$6=2,$U30=1),$M$69,\nIF(AND(W$6=2,$U30>1),$M$70,\nIF(AND(W$6=3,$U30=1),$M$71,\nIF(AND(W$6=3,$U30>1),$M$72,\n0)))))),0)","v":0},{"$f":"IF(LEN(t_プラシャツ[[#This Row],[列6]])>0,\n$H$59+X$11+\nIF(AND(X$6=1,$U30=1),$M$73,\nIF(AND(X$6=1,$U30>1),$M$74,\n0)),0)","v":0},{"$f":"IF(LEN(t_プラシャツ[[#This Row],[列7]])>0,$I$59,0)","v":0},{"$f":"IF(LEN(t_プラシャツ[[#This Row],[列8]])>0,\n$F$59+Z$11+\nIF(LEN(t_プラシャツ[[#This Row],[列2]])>0,$E$59,0)+\nIF(AND(Z$6=1,$U30=1),$M$69+$M$71,\nIF(AND(Z$6=1,$U30>1),$M$70+$M$72,\nIF(AND(Z$6=2,$U30=1),$M$69,\nIF(AND(Z$6=2,$U30>1),$M$70,\nIF(AND(Z$6=3,$U30=1),$M$71,\nIF(AND(Z$6=3,$U30>1),$M$72,\n0)))))),0)","v":0},{"$f":"IF(LEN(t_プラシャツ[[#This Row],[列9]])>0,\n$G$59+AA$11+\nIF(LEN(t_プラシャツ[[#This Row],[列2]])>0,$E$59,0)+\nIF(AND(AA$6=1,$U30=1),$M$69+$M$71,\nIF(AND(AA$6=1,$U30>1),$M$70+$M$72,\nIF(AND(AA$6=2,$U30=1),$M$69,\nIF(AND(AA$6=2,$U30>1),$M$70,\nIF(AND(AA$6=3,$U30=1),$M$71,\nIF(AND(AA$6=3,$U30>1),$M$72,\n0)))))),0)","v":0},{"$f":"IF(LEN(t_プラシャツ[[#This Row],[列10]])>0,\n$H$59+AB$11+\nIF(AND(AB$6=1,$U30=1),$M$73,\nIF(AND(AB$6=1,$U30>1),$M$74,\n0)),0)","v":0},{"$f":"IF(LEN(t_プラシャツ[[#This Row],[列11]])>0,$I$59,0)","v":0},{"$f":"IF(LEN(t_プラシャツ[[#This Row],[列12]])>0,\n$F$59+AD$11+\nIF(LEN(t_プラシャツ[[#This Row],[列2]])>0,$E$59,0)+\nIF(AND(AD$6=1,$U30=1),$M$69+$M$71,\nIF(AND(AD$6=1,$U30>1),$M$70+$M$72,\nIF(AND(AD$6=2,$U30=1),$M$69,\nIF(AND(AD$6=2,$U30>1),$M$70,\nIF(AND(AD$6=3,$U30=1),$M$71,\nIF(AND(AD$6=3,$U30>1),$M$72,\n0)))))),0)","v":0},{"$f":"IF(LEN(t_プラシャツ[[#This Row],[列13]])>0,\n$G$59+AE$11+\nIF(LEN(t_プラシャツ[[#This Row],[列2]])>0,$E$59,0)+\nIF(AND(AE$6=1,$U30=1),$M$69+$M$71,\nIF(AND(AE$6=1,$U30>1),$M$70+$M$72,\nIF(AND(AE$6=2,$U30=1),$M$69,\nIF(AND(AE$6=2,$U30>1),$M$70,\nIF(AND(AE$6=3,$U30=1),$M$71,\nIF(AND(AE$6=3,$U30>1),$M$72,\n0)))))),0)","v":0},{"$f":"IF(LEN(t_プラシャツ[[#This Row],[列16]])>0,\n$H$59+AF$11+\nIF(AND(AF$6=1,$U30=1),$M$73,\nIF(AND(AF$6=1,$U30>1),$M$74,\n0)),0)","v":0},{"$f":"IF(LEN(t_プラシャツ[[#This Row],[列17]])>0,$I$59,0)","v":0},null,{"$f":"IF(LEN(t_プラシャツ[[#This Row],[列2]])>0,COUNTA(t_プラシャツ[[#This Row],[列4]:[列5]],t_プラシャツ[[#This Row],[列8]:[列9]],t_プラシャツ[[#This Row],[列12]:[列13]]),0)","v":0},{"$f":"IF(AND($U30=1,OR($V$6=1,$V$6=2)),COUNTA(t_プラシャツ[[#This Row],[列4]]),0)\n+ IF(AND($U30=1,OR($W$6=1,$W$6=2)),COUNTA(t_プラシャツ[[#This Row],[列5]]),0)\n+ IF(AND($U30=1,OR($Z$6=1,$Z$6=2)),COUNTA(t_プラシャツ[[#This Row],[列8]]),0)\n+ IF(AND($U30=1,OR($AA$6=1,$AA$6=2)),COUNTA(t_プラシャツ[[#This Row],[列9]]),0)\n+ IF(AND($U30=1,OR($AD$6=1,$AD$6=2)),COUNTA(t_プラシャツ[[#This Row],[列12]]),0)\n+ IF(AND($U30=1,OR($AE$6=1,$AE$6=2)),COUNTA(t_プラシャツ[[#This Row],[列13]]),0)","v":0},{"$f":"IF(AND($U30>1,OR($V$6=1,$V$6=2)),COUNTA(t_プラシャツ[[#This Row],[列4]]),0)\n+ IF(AND($U30>1,OR($W$6=1,$W$6=2)),COUNTA(t_プラシャツ[[#This Row],[列5]]),0)\n+ IF(AND($U30>1,OR($Z$6=1,$Z$6=2)),COUNTA(t_プラシャツ[[#This Row],[列8]]),0)\n+ IF(AND($U30>1,OR($AA$6=1,$AA$6=2)),COUNTA(t_プラシャツ[[#This Row],[列9]]),0)\n+ IF(AND($U30>1,OR($AD$6=1,$AD$6=2)),COUNTA(t_プラシャツ[[#This Row],[列12]]),0)\n+ IF(AND($U30>1,OR($AE$6=1,$AE$6=2)),COUNTA(t_プラシャツ[[#This Row],[列13]]),0)","v":0},{"$f":"IF(AND($U30=1,OR($V$6=1,$V$6=3)),COUNTA(t_プラシャツ[[#This Row],[列4]]),0)\n+ IF(AND($U30=1,OR($W$6=1,$W$6=3)),COUNTA(t_プラシャツ[[#This Row],[列5]]),0)\n+ IF(AND($U30=1,OR($Z$6=1,$Z$6=3)),COUNTA(t_プラシャツ[[#This Row],[列8]]),0)\n+ IF(AND($U30=1,OR($AA$6=1,$AA$6=3)),COUNTA(t_プラシャツ[[#This Row],[列9]]),0)\n+ IF(AND($U30=1,OR($AD$6=1,$AD$6=3)),COUNTA(t_プラシャツ[[#This Row],[列12]]),0)\n+ IF(AND($U30=1,OR($AE$6=1,$AE$6=3)),COUNTA(t_プラシャツ[[#This Row],[列13]]),0)","v":0},{"$f":"IF(AND($U30>1,OR($V$6=1,$V$6=3)),COUNTA(t_プラシャツ[[#This Row],[列4]]),0)\n+ IF(AND($U30>1,OR($W$6=1,$W$6=3)),COUNTA(t_プラシャツ[[#This Row],[列5]]),0)\n+ IF(AND($U30>1,OR($Z$6=1,$Z$6=3)),COUNTA(t_プラシャツ[[#This Row],[列8]]),0)\n+ IF(AND($U30>1,OR($AA$6=1,$AA$6=3)),COUNTA(t_プラシャツ[[#This Row],[列9]]),0)\n+ IF(AND($U30>1,OR($AD$6=1,$AD$6=3)),COUNTA(t_プラシャツ[[#This Row],[列12]]),0)\n+ IF(AND($U30>1,OR($AE$6=1,$AE$6=3)),COUNTA(t_プラシャツ[[#This Row],[列13]]),0)","v":0},{"$f":"IF(AND($U30=1,$X$6=1),COUNTA(t_プラシャツ[[#This Row],[列6]]),0)\n+ IF(AND($U30=1,$AB$6=1),COUNTA(t_プラシャツ[[#This Row],[列10]]),0)\n+ IF(AND($U30=1,$AF$6=1),COUNTA(t_プラシャツ[[#This Row],[列16]]),0)","v":0},{"$f":"IF(AND($U30>1,$X$6=1),COUNTA(t_プラシャツ[[#This Row],[列6]]),0)\n+ IF(AND($U30>1,$AB$6=1),COUNTA(t_プラシャツ[[#This Row],[列10]]),0)\n+ IF(AND($U30>1,$AF$6=1),COUNTA(t_プラシャツ[[#This Row],[列16]]),0)","v":0},{"$f":"IF($V$7>0,COUNTA(t_プラシャツ[[#This Row],[列4]]),0) + IF($W$7>0,COUNTA(t_プラシャツ[[#This Row],[列5]]),0) + IF($X$7>0,COUNTA(t_プラシャツ[[#This Row],[列6]]),0)\n+IF($Z$7>0,COUNTA(t_プラシャツ[[#This Row],[列8]]),0) + IF($AA$7>0,COUNTA(t_プラシャツ[[#This Row],[列9]]),0) + IF($AB$7>0,COUNTA(t_プラシャツ[[#This Row],[列10]]),0)\n+IF($AD$7>0,COUNTA(t_プラシャツ[[#This Row],[列12]]),0) + IF($AE$7>0,COUNTA(t_プラシャツ[[#This Row],[列13]]),0) + IF($AF$7>0,COUNTA(t_プラシャツ[[#This Row],[列16]]),0)","v":0},{"$f":"IF($V$8>0,COUNTA(t_プラシャツ[[#This Row],[列4]]),0) + IF($W$8>0,COUNTA(t_プラシャツ[[#This Row],[列5]]),0)\n+IF($Z$8>0,COUNTA(t_プラシャツ[[#This Row],[列8]]),0) + IF($AA$8>0,COUNTA(t_プラシャツ[[#This Row],[列9]]),0)\n+IF($AD$8>0,COUNTA(t_プラシャツ[[#This Row],[列12]]),0) + IF($AE$8>0,COUNTA(t_プラシャツ[[#This Row],[列13]]),0)","v":0},{"$f":"IF($V$9>0,COUNTA(t_プラシャツ[[#This Row],[列4]]),0) + IF($W$9>0,COUNTA(t_プラシャツ[[#This Row],[列5]]),0)\n+IF($Z$9>0,COUNTA(t_プラシャツ[[#This Row],[列8]]),0) + IF($AA$9>0,COUNTA(t_プラシャツ[[#This Row],[列9]]),0)\n+IF($AD$9>0,COUNTA(t_プラシャツ[[#This Row],[列12]]),0) + IF($AE$9>0,COUNTA(t_プラシャツ[[#This Row],[列13]]),0)","v":0},{"$f":"IF($V$10>0,COUNTA(t_プラシャツ[[#This Row],[列4]]),0) + IF($W$10>0,COUNTA(t_プラシャツ[[#This Row],[列5]]),0)\n+IF($Z$10>0,COUNTA(t_プラシャツ[[#This Row],[列8]]),0) + IF($AA$10>0,COUNTA(t_プラシャツ[[#This Row],[列9]]),0)\n+IF($AD$10>0,COUNTA(t_プラシャツ[[#This Row],[列12]]),0) + IF($AE$10>0,COUNTA(t_プラシャツ[[#This Row],[列13]]),0)","v":0}]
[null,18,null,null,null,null,null,null,null,null,null,null,null,null,null,null,null,0,null,null,{"$f":"LEN(t_プラシャツ[[#This Row],[列3]])","v":0},{"$f":"IF(LEN(t_プラシャツ[[#This Row],[列4]])>0,\n$F$59+V$11+\nIF(LEN(t_プラシャツ[[#This Row],[列2]])>0,$E$59,0)+\nIF(AND(V$6=1,$U31=1),$M$69+$M$71,\nIF(AND(V$6=1,$U31>1),$M$70+$M$72,\nIF(AND(V$6=2,$U31=1),$M$69,\nIF(AND(V$6=2,$U31>1),$M$70,\nIF(AND(V$6=3,$U31=1),$M$71,\nIF(AND(V$6=3,$U31>1),$M$72,\n0)))))),0)","v":0},{"$f":"IF(LEN(t_プラシャツ[[#This Row],[列5]])>0,\n$G$59+W$11+\nIF(LEN(t_プラシャツ[[#This Row],[列2]])>0,$E$59,0)+\nIF(AND(W$6=1,$U31=1),$M$69+$M$71,\nIF(AND(W$6=1,$U31>1),$M$70+$M$72,\nIF(AND(W$6=2,$U31=1),$M$69,\nIF(AND(W$6=2,$U31>1),$M$70,\nIF(AND(W$6=3,$U31=1),$M$71,\nIF(AND(W$6=3,$U31>1),$M$72,\n0)))))),0)","v":0},{"$f":"IF(LEN(t_プラシャツ[[#This Row],[列6]])>0,\n$H$59+X$11+\nIF(AND(X$6=1,$U31=1),$M$73,\nIF(AND(X$6=1,$U31>1),$M$74,\n0)),0)","v":0},{"$f":"IF(LEN(t_プラシャツ[[#This Row],[列7]])>0,$I$59,0)","v":0},{"$f":"IF(LEN(t_プラシャツ[[#This Row],[列8]])>0,\n$F$59+Z$11+\nIF(LEN(t_プラシャツ[[#This Row],[列2]])>0,$E$59,0)+\nIF(AND(Z$6=1,$U31=1),$M$69+$M$71,\nIF(AND(Z$6=1,$U31>1),$M$70+$M$72,\nIF(AND(Z$6=2,$U31=1),$M$69,\nIF(AND(Z$6=2,$U31>1),$M$70,\nIF(AND(Z$6=3,$U31=1),$M$71,\nIF(AND(Z$6=3,$U31>1),$M$72,\n0)))))),0)","v":0},{"$f":"IF(LEN(t_プラシャツ[[#This Row],[列9]])>0,\n$G$59+AA$11+\nIF(LEN(t_プラシャツ[[#This Row],[列2]])>0,$E$59,0)+\nIF(AND(AA$6=1,$U31=1),$M$69+$M$71,\nIF(AND(AA$6=1,$U31>1),$M$70+$M$72,\nIF(AND(AA$6=2,$U31=1),$M$69,\nIF(AND(AA$6=2,$U31>1),$M$70,\nIF(AND(AA$6=3,$U31=1),$M$71,\nIF(AND(AA$6=3,$U31>1),$M$72,\n0)))))),0)","v":0},{"$f":"IF(LEN(t_プラシャツ[[#This Row],[列10]])>0,\n$H$59+AB$11+\nIF(AND(AB$6=1,$U31=1),$M$73,\nIF(AND(AB$6=1,$U31>1),$M$74,\n0)),0)","v":0},{"$f":"IF(LEN(t_プラシャツ[[#This Row],[列11]])>0,$I$59,0)","v":0},{"$f":"IF(LEN(t_プラシャツ[[#This Row],[列12]])>0,\n$F$59+AD$11+\nIF(LEN(t_プラシャツ[[#This Row],[列2]])>0,$E$59,0)+\nIF(AND(AD$6=1,$U31=1),$M$69+$M$71,\nIF(AND(AD$6=1,$U31>1),$M$70+$M$72,\nIF(AND(AD$6=2,$U31=1),$M$69,\nIF(AND(AD$6=2,$U31>1),$M$70,\nIF(AND(AD$6=3,$U31=1),$M$71,\nIF(AND(AD$6=3,$U31>1),$M$72,\n0)))))),0)","v":0},{"$f":"IF(LEN(t_プラシャツ[[#This Row],[列13]])>0,\n$G$59+AE$11+\nIF(LEN(t_プラシャツ[[#This Row],[列2]])>0,$E$59,0)+\nIF(AND(AE$6=1,$U31=1),$M$69+$M$71,\nIF(AND(AE$6=1,$U31>1),$M$70+$M$72,\nIF(AND(AE$6=2,$U31=1),$M$69,\nIF(AND(AE$6=2,$U31>1),$M$70,\nIF(AND(AE$6=3,$U31=1),$M$71,\nIF(AND(AE$6=3,$U31>1),$M$72,\n0)))))),0)","v":0},{"$f":"IF(LEN(t_プラシャツ[[#This Row],[列16]])>0,\n$H$59+AF$11+\nIF(AND(AF$6=1,$U31=1),$M$73,\nIF(AND(AF$6=1,$U31>1),$M$74,\n0)),0)","v":0},{"$f":"IF(LEN(t_プラシャツ[[#This Row],[列17]])>0,$I$59,0)","v":0},null,{"$f":"IF(LEN(t_プラシャツ[[#This Row],[列2]])>0,COUNTA(t_プラシャツ[[#This Row],[列4]:[列5]],t_プラシャツ[[#This Row],[列8]:[列9]],t_プラシャツ[[#This Row],[列12]:[列13]]),0)","v":0},{"$f":"IF(AND($U31=1,OR($V$6=1,$V$6=2)),COUNTA(t_プラシャツ[[#This Row],[列4]]),0)\n+ IF(AND($U31=1,OR($W$6=1,$W$6=2)),COUNTA(t_プラシャツ[[#This Row],[列5]]),0)\n+ IF(AND($U31=1,OR($Z$6=1,$Z$6=2)),COUNTA(t_プラシャツ[[#This Row],[列8]]),0)\n+ IF(AND($U31=1,OR($AA$6=1,$AA$6=2)),COUNTA(t_プラシャツ[[#This Row],[列9]]),0)\n+ IF(AND($U31=1,OR($AD$6=1,$AD$6=2)),COUNTA(t_プラシャツ[[#This Row],[列12]]),0)\n+ IF(AND($U31=1,OR($AE$6=1,$AE$6=2)),COUNTA(t_プラシャツ[[#This Row],[列13]]),0)","v":0},{"$f":"IF(AND($U31>1,OR($V$6=1,$V$6=2)),COUNTA(t_プラシャツ[[#This Row],[列4]]),0)\n+ IF(AND($U31>1,OR($W$6=1,$W$6=2)),COUNTA(t_プラシャツ[[#This Row],[列5]]),0)\n+ IF(AND($U31>1,OR($Z$6=1,$Z$6=2)),COUNTA(t_プラシャツ[[#This Row],[列8]]),0)\n+ IF(AND($U31>1,OR($AA$6=1,$AA$6=2)),COUNTA(t_プラシャツ[[#This Row],[列9]]),0)\n+ IF(AND($U31>1,OR($AD$6=1,$AD$6=2)),COUNTA(t_プラシャツ[[#This Row],[列12]]),0)\n+ IF(AND($U31>1,OR($AE$6=1,$AE$6=2)),COUNTA(t_プラシャツ[[#This Row],[列13]]),0)","v":0},{"$f":"IF(AND($U31=1,OR($V$6=1,$V$6=3)),COUNTA(t_プラシャツ[[#This Row],[列4]]),0)\n+ IF(AND($U31=1,OR($W$6=1,$W$6=3)),COUNTA(t_プラシャツ[[#This Row],[列5]]),0)\n+ IF(AND($U31=1,OR($Z$6=1,$Z$6=3)),COUNTA(t_プラシャツ[[#This Row],[列8]]),0)\n+ IF(AND($U31=1,OR($AA$6=1,$AA$6=3)),COUNTA(t_プラシャツ[[#This Row],[列9]]),0)\n+ IF(AND($U31=1,OR($AD$6=1,$AD$6=3)),COUNTA(t_プラシャツ[[#This Row],[列12]]),0)\n+ IF(AND($U31=1,OR($AE$6=1,$AE$6=3)),COUNTA(t_プラシャツ[[#This Row],[列13]]),0)","v":0},{"$f":"IF(AND($U31>1,OR($V$6=1,$V$6=3)),COUNTA(t_プラシャツ[[#This Row],[列4]]),0)\n+ IF(AND($U31>1,OR($W$6=1,$W$6=3)),COUNTA(t_プラシャツ[[#This Row],[列5]]),0)\n+ IF(AND($U31>1,OR($Z$6=1,$Z$6=3)),COUNTA(t_プラシャツ[[#This Row],[列8]]),0)\n+ IF(AND($U31>1,OR($AA$6=1,$AA$6=3)),COUNTA(t_プラシャツ[[#This Row],[列9]]),0)\n+ IF(AND($U31>1,OR($AD$6=1,$AD$6=3)),COUNTA(t_プラシャツ[[#This Row],[列12]]),0)\n+ IF(AND($U31>1,OR($AE$6=1,$AE$6=3)),COUNTA(t_プラシャツ[[#This Row],[列13]]),0)","v":0},{"$f":"IF(AND($U31=1,$X$6=1),COUNTA(t_プラシャツ[[#This Row],[列6]]),0)\n+ IF(AND($U31=1,$AB$6=1),COUNTA(t_プラシャツ[[#This Row],[列10]]),0)\n+ IF(AND($U31=1,$AF$6=1),COUNTA(t_プラシャツ[[#This Row],[列16]]),0)","v":0},{"$f":"IF(AND($U31>1,$X$6=1),COUNTA(t_プラシャツ[[#This Row],[列6]]),0)\n+ IF(AND($U31>1,$AB$6=1),COUNTA(t_プラシャツ[[#This Row],[列10]]),0)\n+ IF(AND($U31>1,$AF$6=1),COUNTA(t_プラシャツ[[#This Row],[列16]]),0)","v":0},{"$f":"IF($V$7>0,COUNTA(t_プラシャツ[[#This Row],[列4]]),0) + IF($W$7>0,COUNTA(t_プラシャツ[[#This Row],[列5]]),0) + IF($X$7>0,COUNTA(t_プラシャツ[[#This Row],[列6]]),0)\n+IF($Z$7>0,COUNTA(t_プラシャツ[[#This Row],[列8]]),0) + IF($AA$7>0,COUNTA(t_プラシャツ[[#This Row],[列9]]),0) + IF($AB$7>0,COUNTA(t_プラシャツ[[#This Row],[列10]]),0)\n+IF($AD$7>0,COUNTA(t_プラシャツ[[#This Row],[列12]]),0) + IF($AE$7>0,COUNTA(t_プラシャツ[[#This Row],[列13]]),0) + IF($AF$7>0,COUNTA(t_プラシャツ[[#This Row],[列16]]),0)","v":0},{"$f":"IF($V$8>0,COUNTA(t_プラシャツ[[#This Row],[列4]]),0) + IF($W$8>0,COUNTA(t_プラシャツ[[#This Row],[列5]]),0)\n+IF($Z$8>0,COUNTA(t_プラシャツ[[#This Row],[列8]]),0) + IF($AA$8>0,COUNTA(t_プラシャツ[[#This Row],[列9]]),0)\n+IF($AD$8>0,COUNTA(t_プラシャツ[[#This Row],[列12]]),0) + IF($AE$8>0,COUNTA(t_プラシャツ[[#This Row],[列13]]),0)","v":0},{"$f":"IF($V$9>0,COUNTA(t_プラシャツ[[#This Row],[列4]]),0) + IF($W$9>0,COUNTA(t_プラシャツ[[#This Row],[列5]]),0)\n+IF($Z$9>0,COUNTA(t_プラシャツ[[#This Row],[列8]]),0) + IF($AA$9>0,COUNTA(t_プラシャツ[[#This Row],[列9]]),0)\n+IF($AD$9>0,COUNTA(t_プラシャツ[[#This Row],[列12]]),0) + IF($AE$9>0,COUNTA(t_プラシャツ[[#This Row],[列13]]),0)","v":0},{"$f":"IF($V$10>0,COUNTA(t_プラシャツ[[#This Row],[列4]]),0) + IF($W$10>0,COUNTA(t_プラシャツ[[#This Row],[列5]]),0)\n+IF($Z$10>0,COUNTA(t_プラシャツ[[#This Row],[列8]]),0) + IF($AA$10>0,COUNTA(t_プラシャツ[[#This Row],[列9]]),0)\n+IF($AD$10>0,COUNTA(t_プラシャツ[[#This Row],[列12]]),0) + IF($AE$10>0,COUNTA(t_プラシャツ[[#This Row],[列13]]),0)","v":0}]
[null,19,null,null,null,null,null,null,null,null,null,null,null,null,null,null,null,0,null,null,{"$f":"LEN(t_プラシャツ[[#This Row],[列3]])","v":0},{"$f":"IF(LEN(t_プラシャツ[[#This Row],[列4]])>0,\n$F$59+V$11+\nIF(LEN(t_プラシャツ[[#This Row],[列2]])>0,$E$59,0)+\nIF(AND(V$6=1,$U32=1),$M$69+$M$71,\nIF(AND(V$6=1,$U32>1),$M$70+$M$72,\nIF(AND(V$6=2,$U32=1),$M$69,\nIF(AND(V$6=2,$U32>1),$M$70,\nIF(AND(V$6=3,$U32=1),$M$71,\nIF(AND(V$6=3,$U32>1),$M$72,\n0)))))),0)","v":0},{"$f":"IF(LEN(t_プラシャツ[[#This Row],[列5]])>0,\n$G$59+W$11+\nIF(LEN(t_プラシャツ[[#This Row],[列2]])>0,$E$59,0)+\nIF(AND(W$6=1,$U32=1),$M$69+$M$71,\nIF(AND(W$6=1,$U32>1),$M$70+$M$72,\nIF(AND(W$6=2,$U32=1),$M$69,\nIF(AND(W$6=2,$U32>1),$M$70,\nIF(AND(W$6=3,$U32=1),$M$71,\nIF(AND(W$6=3,$U32>1),$M$72,\n0)))))),0)","v":0},{"$f":"IF(LEN(t_プラシャツ[[#This Row],[列6]])>0,\n$H$59+X$11+\nIF(AND(X$6=1,$U32=1),$M$73,\nIF(AND(X$6=1,$U32>1),$M$74,\n0)),0)","v":0},{"$f":"IF(LEN(t_プラシャツ[[#This Row],[列7]])>0,$I$59,0)","v":0},{"$f":"IF(LEN(t_プラシャツ[[#This Row],[列8]])>0,\n$F$59+Z$11+\nIF(LEN(t_プラシャツ[[#This Row],[列2]])>0,$E$59,0)+\nIF(AND(Z$6=1,$U32=1),$M$69+$M$71,\nIF(AND(Z$6=1,$U32>1),$M$70+$M$72,\nIF(AND(Z$6=2,$U32=1),$M$69,\nIF(AND(Z$6=2,$U32>1),$M$70,\nIF(AND(Z$6=3,$U32=1),$M$71,\nIF(AND(Z$6=3,$U32>1),$M$72,\n0)))))),0)","v":0},{"$f":"IF(LEN(t_プラシャツ[[#This Row],[列9]])>0,\n$G$59+AA$11+\nIF(LEN(t_プラシャツ[[#This Row],[列2]])>0,$E$59,0)+\nIF(AND(AA$6=1,$U32=1),$M$69+$M$71,\nIF(AND(AA$6=1,$U32>1),$M$70+$M$72,\nIF(AND(AA$6=2,$U32=1),$M$69,\nIF(AND(AA$6=2,$U32>1),$M$70,\nIF(AND(AA$6=3,$U32=1),$M$71,\nIF(AND(AA$6=3,$U32>1),$M$72,\n0)))))),0)","v":0},{"$f":"IF(LEN(t_プラシャツ[[#This Row],[列10]])>0,\n$H$59+AB$11+\nIF(AND(AB$6=1,$U32=1),$M$73,\nIF(AND(AB$6=1,$U32>1),$M$74,\n0)),0)","v":0},{"$f":"IF(LEN(t_プラシャツ[[#This Row],[列11]])>0,$I$59,0)","v":0},{"$f":"IF(LEN(t_プラシャツ[[#This Row],[列12]])>0,\n$F$59+AD$11+\nIF(LEN(t_プラシャツ[[#This Row],[列2]])>0,$E$59,0)+\nIF(AND(AD$6=1,$U32=1),$M$69+$M$71,\nIF(AND(AD$6=1,$U32>1),$M$70+$M$72,\nIF(AND(AD$6=2,$U32=1),$M$69,\nIF(AND(AD$6=2,$U32>1),$M$70,\nIF(AND(AD$6=3,$U32=1),$M$71,\nIF(AND(AD$6=3,$U32>1),$M$72,\n0)))))),0)","v":0},{"$f":"IF(LEN(t_プラシャツ[[#This Row],[列13]])>0,\n$G$59+AE$11+\nIF(LEN(t_プラシャツ[[#This Row],[列2]])>0,$E$59,0)+\nIF(AND(AE$6=1,$U32=1),$M$69+$M$71,\nIF(AND(AE$6=1,$U32>1),$M$70+$M$72,\nIF(AND(AE$6=2,$U32=1),$M$69,\nIF(AND(AE$6=2,$U32>1),$M$70,\nIF(AND(AE$6=3,$U32=1),$M$71,\nIF(AND(AE$6=3,$U32>1),$M$72,\n0)))))),0)","v":0},{"$f":"IF(LEN(t_プラシャツ[[#This Row],[列16]])>0,\n$H$59+AF$11+\nIF(AND(AF$6=1,$U32=1),$M$73,\nIF(AND(AF$6=1,$U32>1),$M$74,\n0)),0)","v":0},{"$f":"IF(LEN(t_プラシャツ[[#This Row],[列17]])>0,$I$59,0)","v":0},null,{"$f":"IF(LEN(t_プラシャツ[[#This Row],[列2]])>0,COUNTA(t_プラシャツ[[#This Row],[列4]:[列5]],t_プラシャツ[[#This Row],[列8]:[列9]],t_プラシャツ[[#This Row],[列12]:[列13]]),0)","v":0},{"$f":"IF(AND($U32=1,OR($V$6=1,$V$6=2)),COUNTA(t_プラシャツ[[#This Row],[列4]]),0)\n+ IF(AND($U32=1,OR($W$6=1,$W$6=2)),COUNTA(t_プラシャツ[[#This Row],[列5]]),0)\n+ IF(AND($U32=1,OR($Z$6=1,$Z$6=2)),COUNTA(t_プラシャツ[[#This Row],[列8]]),0)\n+ IF(AND($U32=1,OR($AA$6=1,$AA$6=2)),COUNTA(t_プラシャツ[[#This Row],[列9]]),0)\n+ IF(AND($U32=1,OR($AD$6=1,$AD$6=2)),COUNTA(t_プラシャツ[[#This Row],[列12]]),0)\n+ IF(AND($U32=1,OR($AE$6=1,$AE$6=2)),COUNTA(t_プラシャツ[[#This Row],[列13]]),0)","v":0},{"$f":"IF(AND($U32>1,OR($V$6=1,$V$6=2)),COUNTA(t_プラシャツ[[#This Row],[列4]]),0)\n+ IF(AND($U32>1,OR($W$6=1,$W$6=2)),COUNTA(t_プラシャツ[[#This Row],[列5]]),0)\n+ IF(AND($U32>1,OR($Z$6=1,$Z$6=2)),COUNTA(t_プラシャツ[[#This Row],[列8]]),0)\n+ IF(AND($U32>1,OR($AA$6=1,$AA$6=2)),COUNTA(t_プラシャツ[[#This Row],[列9]]),0)\n+ IF(AND($U32>1,OR($AD$6=1,$AD$6=2)),COUNTA(t_プラシャツ[[#This Row],[列12]]),0)\n+ IF(AND($U32>1,OR($AE$6=1,$AE$6=2)),COUNTA(t_プラシャツ[[#This Row],[列13]]),0)","v":0},{"$f":"IF(AND($U32=1,OR($V$6=1,$V$6=3)),COUNTA(t_プラシャツ[[#This Row],[列4]]),0)\n+ IF(AND($U32=1,OR($W$6=1,$W$6=3)),COUNTA(t_プラシャツ[[#This Row],[列5]]),0)\n+ IF(AND($U32=1,OR($Z$6=1,$Z$6=3)),COUNTA(t_プラシャツ[[#This Row],[列8]]),0)\n+ IF(AND($U32=1,OR($AA$6=1,$AA$6=3)),COUNTA(t_プラシャツ[[#This Row],[列9]]),0)\n+ IF(AND($U32=1,OR($AD$6=1,$AD$6=3)),COUNTA(t_プラシャツ[[#This Row],[列12]]),0)\n+ IF(AND($U32=1,OR($AE$6=1,$AE$6=3)),COUNTA(t_プラシャツ[[#This Row],[列13]]),0)","v":0},{"$f":"IF(AND($U32>1,OR($V$6=1,$V$6=3)),COUNTA(t_プラシャツ[[#This Row],[列4]]),0)\n+ IF(AND($U32>1,OR($W$6=1,$W$6=3)),COUNTA(t_プラシャツ[[#This Row],[列5]]),0)\n+ IF(AND($U32>1,OR($Z$6=1,$Z$6=3)),COUNTA(t_プラシャツ[[#This Row],[列8]]),0)\n+ IF(AND($U32>1,OR($AA$6=1,$AA$6=3)),COUNTA(t_プラシャツ[[#This Row],[列9]]),0)\n+ IF(AND($U32>1,OR($AD$6=1,$AD$6=3)),COUNTA(t_プラシャツ[[#This Row],[列12]]),0)\n+ IF(AND($U32>1,OR($AE$6=1,$AE$6=3)),COUNTA(t_プラシャツ[[#This Row],[列13]]),0)","v":0},{"$f":"IF(AND($U32=1,$X$6=1),COUNTA(t_プラシャツ[[#This Row],[列6]]),0)\n+ IF(AND($U32=1,$AB$6=1),COUNTA(t_プラシャツ[[#This Row],[列10]]),0)\n+ IF(AND($U32=1,$AF$6=1),COUNTA(t_プラシャツ[[#This Row],[列16]]),0)","v":0},{"$f":"IF(AND($U32>1,$X$6=1),COUNTA(t_プラシャツ[[#This Row],[列6]]),0)\n+ IF(AND($U32>1,$AB$6=1),COUNTA(t_プラシャツ[[#This Row],[列10]]),0)\n+ IF(AND($U32>1,$AF$6=1),COUNTA(t_プラシャツ[[#This Row],[列16]]),0)","v":0},{"$f":"IF($V$7>0,COUNTA(t_プラシャツ[[#This Row],[列4]]),0) + IF($W$7>0,COUNTA(t_プラシャツ[[#This Row],[列5]]),0) + IF($X$7>0,COUNTA(t_プラシャツ[[#This Row],[列6]]),0)\n+IF($Z$7>0,COUNTA(t_プラシャツ[[#This Row],[列8]]),0) + IF($AA$7>0,COUNTA(t_プラシャツ[[#This Row],[列9]]),0) + IF($AB$7>0,COUNTA(t_プラシャツ[[#This Row],[列10]]),0)\n+IF($AD$7>0,COUNTA(t_プラシャツ[[#This Row],[列12]]),0) + IF($AE$7>0,COUNTA(t_プラシャツ[[#This Row],[列13]]),0) + IF($AF$7>0,COUNTA(t_プラシャツ[[#This Row],[列16]]),0)","v":0},{"$f":"IF($V$8>0,COUNTA(t_プラシャツ[[#This Row],[列4]]),0) + IF($W$8>0,COUNTA(t_プラシャツ[[#This Row],[列5]]),0)\n+IF($Z$8>0,COUNTA(t_プラシャツ[[#This Row],[列8]]),0) + IF($AA$8>0,COUNTA(t_プラシャツ[[#This Row],[列9]]),0)\n+IF($AD$8>0,COUNTA(t_プラシャツ[[#This Row],[列12]]),0) + IF($AE$8>0,COUNTA(t_プラシャツ[[#This Row],[列13]]),0)","v":0},{"$f":"IF($V$9>0,COUNTA(t_プラシャツ[[#This Row],[列4]]),0) + IF($W$9>0,COUNTA(t_プラシャツ[[#This Row],[列5]]),0)\n+IF($Z$9>0,COUNTA(t_プラシャツ[[#This Row],[列8]]),0) + IF($AA$9>0,COUNTA(t_プラシャツ[[#This Row],[列9]]),0)\n+IF($AD$9>0,COUNTA(t_プラシャツ[[#This Row],[列12]]),0) + IF($AE$9>0,COUNTA(t_プラシャツ[[#This Row],[列13]]),0)","v":0},{"$f":"IF($V$10>0,COUNTA(t_プラシャツ[[#This Row],[列4]]),0) + IF($W$10>0,COUNTA(t_プラシャツ[[#This Row],[列5]]),0)\n+IF($Z$10>0,COUNTA(t_プラシャツ[[#This Row],[列8]]),0) + IF($AA$10>0,COUNTA(t_プラシャツ[[#This Row],[列9]]),0)\n+IF($AD$10>0,COUNTA(t_プラシャツ[[#This Row],[列12]]),0) + IF($AE$10>0,COUNTA(t_プラシャツ[[#This Row],[列13]]),0)","v":0}]
[null,20,null,null,null,null,null,null,null,null,null,null,null,null,null,null,null,{"$f":"SUM(V33:AG33)","v":0},null,null,{"$f":"LEN(t_プラシャツ[[#This Row],[列3]])","v":0},{"$f":"IF(LEN(t_プラシャツ[[#This Row],[列4]])>0,\n$F$59+V$11+\nIF(LEN(t_プラシャツ[[#This Row],[列2]])>0,$E$59,0)+\nIF(AND(V$6=1,$U33=1),$M$69+$M$71,\nIF(AND(V$6=1,$U33>1),$M$70+$M$72,\nIF(AND(V$6=2,$U33=1),$M$69,\nIF(AND(V$6=2,$U33>1),$M$70,\nIF(AND(V$6=3,$U33=1),$M$71,\nIF(AND(V$6=3,$U33>1),$M$72,\n0)))))),0)","v":0},{"$f":"IF(LEN(t_プラシャツ[[#This Row],[列5]])>0,\n$G$59+W$11+\nIF(LEN(t_プラシャツ[[#This Row],[列2]])>0,$E$59,0)+\nIF(AND(W$6=1,$U33=1),$M$69+$M$71,\nIF(AND(W$6=1,$U33>1),$M$70+$M$72,\nIF(AND(W$6=2,$U33=1),$M$69,\nIF(AND(W$6=2,$U33>1),$M$70,\nIF(AND(W$6=3,$U33=1),$M$71,\nIF(AND(W$6=3,$U33>1),$M$72,\n0)))))),0)","v":0},{"$f":"IF(LEN(t_プラシャツ[[#This Row],[列6]])>0,\n$H$59+X$11+\nIF(AND(X$6=1,$U33=1),$M$73,\nIF(AND(X$6=1,$U33>1),$M$74,\n0)),0)","v":0},{"$f":"IF(LEN(t_プラシャツ[[#This Row],[列7]])>0,$I$59,0)","v":0},{"$f":"IF(LEN(t_プラシャツ[[#This Row],[列8]])>0,\n$F$59+Z$11+\nIF(LEN(t_プラシャツ[[#This Row],[列2]])>0,$E$59,0)+\nIF(AND(Z$6=1,$U33=1),$M$69+$M$71,\nIF(AND(Z$6=1,$U33>1),$M$70+$M$72,\nIF(AND(Z$6=2,$U33=1),$M$69,\nIF(AND(Z$6=2,$U33>1),$M$70,\nIF(AND(Z$6=3,$U33=1),$M$71,\nIF(AND(Z$6=3,$U33>1),$M$72,\n0)))))),0)","v":0},{"$f":"IF(LEN(t_プラシャツ[[#This Row],[列9]])>0,\n$G$59+AA$11+\nIF(LEN(t_プラシャツ[[#This Row],[列2]])>0,$E$59,0)+\nIF(AND(AA$6=1,$U33=1),$M$69+$M$71,\nIF(AND(AA$6=1,$U33>1),$M$70+$M$72,\nIF(AND(AA$6=2,$U33=1),$M$69,\nIF(AND(AA$6=2,$U33>1),$M$70,\nIF(AND(AA$6=3,$U33=1),$M$71,\nIF(AND(AA$6=3,$U33>1),$M$72,\n0)))))),0)","v":0},{"$f":"IF(LEN(t_プラシャツ[[#This Row],[列10]])>0,\n$H$59+AB$11+\nIF(AND(AB$6=1,$U33=1),$M$73,\nIF(AND(AB$6=1,$U33>1),$M$74,\n0)),0)","v":0},{"$f":"IF(LEN(t_プラシャツ[[#This Row],[列11]])>0,$I$59,0)","v":0},{"$f":"IF(LEN(t_プラシャツ[[#This Row],[列12]])>0,\n$F$59+AD$11+\nIF(LEN(t_プラシャツ[[#This Row],[列2]])>0,$E$59,0)+\nIF(AND(AD$6=1,$U33=1),$M$69+$M$71,\nIF(AND(AD$6=1,$U33>1),$M$70+$M$72,\nIF(AND(AD$6=2,$U33=1),$M$69,\nIF(AND(AD$6=2,$U33>1),$M$70,\nIF(AND(AD$6=3,$U33=1),$M$71,\nIF(AND(AD$6=3,$U33>1),$M$72,\n0)))))),0)","v":0},{"$f":"IF(LEN(t_プラシャツ[[#This Row],[列13]])>0,\n$G$59+AE$11+\nIF(LEN(t_プラシャツ[[#This Row],[列2]])>0,$E$59,0)+\nIF(AND(AE$6=1,$U33=1),$M$69+$M$71,\nIF(AND(AE$6=1,$U33>1),$M$70+$M$72,\nIF(AND(AE$6=2,$U33=1),$M$69,\nIF(AND(AE$6=2,$U33>1),$M$70,\nIF(AND(AE$6=3,$U33=1),$M$71,\nIF(AND(AE$6=3,$U33>1),$M$72,\n0)))))),0)","v":0},{"$f":"IF(LEN(t_プラシャツ[[#This Row],[列16]])>0,\n$H$59+AF$11+\nIF(AND(AF$6=1,$U33=1),$M$73,\nIF(AND(AF$6=1,$U33>1),$M$74,\n0)),0)","v":0},{"$f":"IF(LEN(t_プラシャツ[[#This Row],[列17]])>0,$I$59,0)","v":0},null,{"$f":"IF(LEN(t_プラシャツ[[#This Row],[列2]])>0,COUNTA(t_プラシャツ[[#This Row],[列4]:[列5]],t_プラシャツ[[#This Row],[列8]:[列9]],t_プラシャツ[[#This Row],[列12]:[列13]]),0)","v":0},{"$f":"IF(AND($U33=1,OR($V$6=1,$V$6=2)),COUNTA(t_プラシャツ[[#This Row],[列4]]),0)\n+ IF(AND($U33=1,OR($W$6=1,$W$6=2)),COUNTA(t_プラシャツ[[#This Row],[列5]]),0)\n+ IF(AND($U33=1,OR($Z$6=1,$Z$6=2)),COUNTA(t_プラシャツ[[#This Row],[列8]]),0)\n+ IF(AND($U33=1,OR($AA$6=1,$AA$6=2)),COUNTA(t_プラシャツ[[#This Row],[列9]]),0)\n+ IF(AND($U33=1,OR($AD$6=1,$AD$6=2)),COUNTA(t_プラシャツ[[#This Row],[列12]]),0)\n+ IF(AND($U33=1,OR($AE$6=1,$AE$6=2)),COUNTA(t_プラシャツ[[#This Row],[列13]]),0)","v":0},{"$f":"IF(AND($U33>1,OR($V$6=1,$V$6=2)),COUNTA(t_プラシャツ[[#This Row],[列4]]),0)\n+ IF(AND($U33>1,OR($W$6=1,$W$6=2)),COUNTA(t_プラシャツ[[#This Row],[列5]]),0)\n+ IF(AND($U33>1,OR($Z$6=1,$Z$6=2)),COUNTA(t_プラシャツ[[#This Row],[列8]]),0)\n+ IF(AND($U33>1,OR($AA$6=1,$AA$6=2)),COUNTA(t_プラシャツ[[#This Row],[列9]]),0)\n+ IF(AND($U33>1,OR($AD$6=1,$AD$6=2)),COUNTA(t_プラシャツ[[#This Row],[列12]]),0)\n+ IF(AND($U33>1,OR($AE$6=1,$AE$6=2)),COUNTA(t_プラシャツ[[#This Row],[列13]]),0)","v":0},{"$f":"IF(AND($U33=1,OR($V$6=1,$V$6=3)),COUNTA(t_プラシャツ[[#This Row],[列4]]),0)\n+ IF(AND($U33=1,OR($W$6=1,$W$6=3)),COUNTA(t_プラシャツ[[#This Row],[列5]]),0)\n+ IF(AND($U33=1,OR($Z$6=1,$Z$6=3)),COUNTA(t_プラシャツ[[#This Row],[列8]]),0)\n+ IF(AND($U33=1,OR($AA$6=1,$AA$6=3)),COUNTA(t_プラシャツ[[#This Row],[列9]]),0)\n+ IF(AND($U33=1,OR($AD$6=1,$AD$6=3)),COUNTA(t_プラシャツ[[#This Row],[列12]]),0)\n+ IF(AND($U33=1,OR($AE$6=1,$AE$6=3)),COUNTA(t_プラシャツ[[#This Row],[列13]]),0)","v":0},{"$f":"IF(AND($U33>1,OR($V$6=1,$V$6=3)),COUNTA(t_プラシャツ[[#This Row],[列4]]),0)\n+ IF(AND($U33>1,OR($W$6=1,$W$6=3)),COUNTA(t_プラシャツ[[#This Row],[列5]]),0)\n+ IF(AND($U33>1,OR($Z$6=1,$Z$6=3)),COUNTA(t_プラシャツ[[#This Row],[列8]]),0)\n+ IF(AND($U33>1,OR($AA$6=1,$AA$6=3)),COUNTA(t_プラシャツ[[#This Row],[列9]]),0)\n+ IF(AND($U33>1,OR($AD$6=1,$AD$6=3)),COUNTA(t_プラシャツ[[#This Row],[列12]]),0)\n+ IF(AND($U33>1,OR($AE$6=1,$AE$6=3)),COUNTA(t_プラシャツ[[#This Row],[列13]]),0)","v":0},{"$f":"IF(AND($U33=1,$X$6=1),COUNTA(t_プラシャツ[[#This Row],[列6]]),0)\n+ IF(AND($U33=1,$AB$6=1),COUNTA(t_プラシャツ[[#This Row],[列10]]),0)\n+ IF(AND($U33=1,$AF$6=1),COUNTA(t_プラシャツ[[#This Row],[列16]]),0)","v":0},{"$f":"IF(AND($U33>1,$X$6=1),COUNTA(t_プラシャツ[[#This Row],[列6]]),0)\n+ IF(AND($U33>1,$AB$6=1),COUNTA(t_プラシャツ[[#This Row],[列10]]),0)\n+ IF(AND($U33>1,$AF$6=1),COUNTA(t_プラシャツ[[#This Row],[列16]]),0)","v":0},{"$f":"IF($V$7>0,COUNTA(t_プラシャツ[[#This Row],[列4]]),0) + IF($W$7>0,COUNTA(t_プラシャツ[[#This Row],[列5]]),0) + IF($X$7>0,COUNTA(t_プラシャツ[[#This Row],[列6]]),0)\n+IF($Z$7>0,COUNTA(t_プラシャツ[[#This Row],[列8]]),0) + IF($AA$7>0,COUNTA(t_プラシャツ[[#This Row],[列9]]),0) + IF($AB$7>0,COUNTA(t_プラシャツ[[#This Row],[列10]]),0)\n+IF($AD$7>0,COUNTA(t_プラシャツ[[#This Row],[列12]]),0) + IF($AE$7>0,COUNTA(t_プラシャツ[[#This Row],[列13]]),0) + IF($AF$7>0,COUNTA(t_プラシャツ[[#This Row],[列16]]),0)","v":0},{"$f":"IF($V$8>0,COUNTA(t_プラシャツ[[#This Row],[列4]]),0) + IF($W$8>0,COUNTA(t_プラシャツ[[#This Row],[列5]]),0)\n+IF($Z$8>0,COUNTA(t_プラシャツ[[#This Row],[列8]]),0) + IF($AA$8>0,COUNTA(t_プラシャツ[[#This Row],[列9]]),0)\n+IF($AD$8>0,COUNTA(t_プラシャツ[[#This Row],[列12]]),0) + IF($AE$8>0,COUNTA(t_プラシャツ[[#This Row],[列13]]),0)","v":0},{"$f":"IF($V$9>0,COUNTA(t_プラシャツ[[#This Row],[列4]]),0) + IF($W$9>0,COUNTA(t_プラシャツ[[#This Row],[列5]]),0)\n+IF($Z$9>0,COUNTA(t_プラシャツ[[#This Row],[列8]]),0) + IF($AA$9>0,COUNTA(t_プラシャツ[[#This Row],[列9]]),0)\n+IF($AD$9>0,COUNTA(t_プラシャツ[[#This Row],[列12]]),0) + IF($AE$9>0,COUNTA(t_プラシャツ[[#This Row],[列13]]),0)","v":0},{"$f":"IF($V$10>0,COUNTA(t_プラシャツ[[#This Row],[列4]]),0) + IF($W$10>0,COUNTA(t_プラシャツ[[#This Row],[列5]]),0)\n+IF($Z$10>0,COUNTA(t_プラシャツ[[#This Row],[列8]]),0) + IF($AA$10>0,COUNTA(t_プラシャツ[[#This Row],[列9]]),0)\n+IF($AD$10>0,COUNTA(t_プラシャツ[[#This Row],[列12]]),0) + IF($AE$10>0,COUNTA(t_プラシャツ[[#This Row],[列13]]),0)","v":0}]
[null,null,null,null,null,{"$f":"IF(AND((I57+M57+Q57)>0,(I57+M57+Q57)<5),\"　※ソックスは5点以上でご注文をお願いいたします。\"&\"（最低注文数まであと\"& 5-(I57+M57+Q57) & \"点）\",\"\") &\nIF(COUNTIF(F61:Q61,\"?*\")>0,\" ※マーキングを正しく選択して下さい。\",\"\")","v":""},null,null,null,null,null,null,null,null,null,null,null,"※ 個人別価格に送料は含まれていません。"]
[null,"注 文 集 計",null,null,100,{"$f":"COUNTIF(F$14:F$33,$E35)","v":0},0,0,null,{"$f":"COUNTIF(J$14:J$33,$E35)","v":0},0,0,null,{"$f":"COUNTIF(N$14:N$33,$E35)","v":0},0,0,null,null,null,null,null,null,null,null,null,null,null,null,null,null,null,null,null,null,"個人名","胸番号 １桁","胸番号 ２桁","背番号 １桁","背番号 ２桁","パンツ番号 １桁","パンツ番号 ２桁","エンブレム","チーム名","メッセージ","スポンサーバナー"]
[null,null,null,null,110,0,0,0,null,0,0,0,null,0,0,0,null,null,null,null,null,null,null,null,null,null,null,null,null,null,null,null,null,null,{"$f":"SUM(AI14:AI33)","v":0},0,0,0,0,0,0,0,0,0,0]
[null,null,null,null,120,0,0,0,null,0,0,0,null,0,0,0]
[null,null,null,null,130,0,0,0,null,0,0,0,null,0,0,0]
[null,null,null,null,140,0,0,0,null,0,0,0,null,0,0,0]
[null,null,null,null,150,0,0,0,null,0,0,0,null,0,0,0]
[null,null,null,null,160,0,0,0,null,0,0,0,null,0,0,0]
[null,null,null,null,"S",0,0,0,null,0,0,0,null,0,0,0]
[null,null,null,null,"M",0,0,0,null,0,0,0,null,0,0,0]
[null,null,null,null,"L",0,0,0,null,0,0,0,null,0,0,0]
[null,null,null,null,"XL",0,0,0,null,0,0,0,null,0,0,0]
[null,null,null,null,"3L",0,0,0,null,0,0,0,null,0,0,0]
[null,null,null,null,"4L",0,0,0,null,0,0,0,null,0,0,0]
[null,null,null,null,"5L",0,0,0,null,0,0,0,null,0,0,0]
[null,null,null,null,"19x21",null,null,null,{"$f":"COUNTIF(I$14:I$33,$E49)","v":0},null,null,null,{"$f":"COUNTIF(M$14:M$33,$E49)","v":0},null,null,null,{"$f":"COUNTIF(Q$14:Q$33,$E49)","v":0}]
[null,null,null,null,"22x24",null,null,null,{"$f":"COUNTIF(I$14:I$33,$E50)","v":0},null,null,null,{"$f":"COUNTIF(M$14:M$33,$E50)","v":0},null,null,null,{"$f":"COUNTIF(Q$14:Q$33,$E50)","v":0}]
[null,null,null,null,"25x27",null,null,null,{"$f":"COUNTIF(I$14:I$33,$E51)","v":0},null,null,null,{"$f":"COUNTIF(M$14:M$33,$E51)","v":0},null,null,null,{"$f":"COUNTIF(Q$14:Q$33,$E51)","v":0}]
[null,null,null,null,"27x29",null,null,null,{"$f":"COUNTIF(I$14:I$33,$E52)","v":0},null,null,null,{"$f":"COUNTIF(M$14:M$33,$E52)","v":0},null,null,null,{"$f":"COUNTIF(Q$14:Q$33,$E52)","v":0}]
[null,"マーキング",null,null,"個人名",{"$f":"COUNTIFS($D$14:$D$33,\"<>\",F$14:F$33,\"<>\")","v":0},{"$f":"COUNTIFS($D$14:$D$33,\"<>\",G$14:G$33,\"<>\")","v":0},null,null,{"$f":"COUNTIFS($D$14:$D$33,\"<>\",J$14:J$33,\"<>\")","v":0},{"$f":"COUNTIFS($D$14:$D$33,\"<>\",K$14:K$33,\"<>\")","v":0},null,null,{"$f":"COUNTIFS($D$14:$D$33,\"<>\",N$14:N$33,\"<>\")","v":0},{"$f":"COUNTIFS($D$14:$D$33,\"<>\",O$14:O$33,\"<>\")","v":0}]
[null,"代表商品コード",null,null,{"$f":"$J$68","v":"ag-name1000"},{"$f":"$J$64","v":"ag-cs"},{"$f":"$J$65","v":"ag-cl"},{"$f":"$J$66","v":"ag-cp"},{"$f":"$J$67","v":"ag-st"},{"$f":"$J$64","v":"ag-cs"},{"$f":"$J$65","v":"ag-cl"},{"$f":"$J$66","v":"ag-cp"},{"$f":"$J$67","v":"ag-st"},{"$f":"$J$64","v":"ag-cs"},{"$f":"$J$65","v":"ag-cl"},{"$f":"$J$66","v":"ag-cp"},{"$f":"$J$67","v":"ag-st"}]
[null,"追加商品コード"]
[null,"商 品 名",null,null,"個人名\nﾏｰｷﾝｸﾞ",{"$f":"$G$64&\"(\"&F2&\")\"","v":"セミオーダー昇華シャツ半袖(カラー１)"},{"$f":"$G$65&\"(\"&F2&\")\"","v":"セミオーダー昇華シャツ長袖(カラー１)"},{"$f":"$G$66&\"(\"&F2&\")\"","v":"セミオーダー昇華パンツ(カラー１)"},{"$f":"$G$67&\"(\"&F2&\")\"","v":"セミオーダーソックス(カラー１)"},{"$f":"$G$64&\"(\"&J2&\")\"","v":"セミオーダー昇華シャツ半袖(カラー２)"},{"$f":"$G$65&\"(\"&J2&\")\"","v":"セミオーダー昇華シャツ長袖(カラー２)"},{"$f":"$G$66&\"(\"&J2&\")\"","v":"セミオーダー昇華パンツ(カラー２)"},{"$f":"$G$67&\"(\"&J2&\")\"","v":"セミオーダーソックス(カラー２)"},{"$f":"$G$64&\"(\"&N2&\")\"","v":"セミオーダー昇華シャツ半袖(カラー３)"},{"$f":"$G$65&\"(\"&N2&\")\"","v":"セミオーダー昇華シャツ長袖(カラー３)"},{"$f":"$G$66&\"(\"&N2&\")\"","v":"セミオーダー昇華パンツ(カラー３)"},{"$f":"$G$67&\"(\"&N2&\")\"","v":"セミオーダーソックス(カラー３)"}]
[null,"注 文 数",null,null,{"$f":"SUM(F53:Q53)","v":0},{"$f":"SUM(F35:F52)","v":0},0,0,0,0,0,0,0,0,0,0,0]
[null,"定  価（税込）",null,null,{"$f":"$L$68","v":1080},{"$f":"$L$64","v":3780},{"$f":"$L$65","v":4860},{"$f":"$L$66","v":3996},{"$f":"$L$67","v":1944},{"$f":"$L$64","v":3780},{"$f":"$L$65","v":4860},{"$f":"$L$66","v":3996},{"$f":"$L$67","v":1944},{"$f":"$L$64","v":3780},{"$f":"$L$65","v":4860},{"$f":"$L$66","v":3996},{"$f":"$L$67","v":1944}]
[null,"販売価格（税込）",null,null,{"$f":"$M$68","v":1080},{"$f":"$M$64","v":3780},{"$f":"$M$65","v":4860},{"$f":"$M$66","v":3996},{"$f":"$M$67","v":1944},{"$f":"$M$64","v":3780},{"$f":"$M$65","v":4860},{"$f":"$M$66","v":3996},{"$f":"$M$67","v":1944},{"$f":"$M$64","v":3780},{"$f":"$M$65","v":4860},{"$f":"$M$66","v":3996},{"$f":"$M$67","v":1944}]
[null,"商品金額小計（税込）",null,null,{"$f":"E59*E57","v":0},0,0,0,0,0,0,0,0,0,0,0,0]
[null,null,null,null,null,{"$f":"IF(AND(COUNTIF(F6:F10,\"選択して下さい\")>0,F57>0),\"↑注文エラー\",\"\")","v":""},{"$f":"IF(AND(COUNTIF(G6:G10,\"選択して下さい\")>0,G57>0),\"↑注文エラー\",\"\")","v":""},"","","","","","","","","",""]
[null,"■ 簡易見積表",null,null,null,null,"■ 料金について（金額は税込定価です）"]
[null,"商 品 合 計",null,{"$f":"SUM(F57:Q57)","v":0},{"$f":"SUM(P64:P67)","v":0},null,"商品名",null,null,"代表商品コード",null,"定価(税込)","売価(税込)","掛率(X10%)","注文数","金額"]
[null,"マーキング代合計",null,null,{"$f":"SUM(P68:P78)","v":0},null,"セミオーダー昇華シャツ半袖",null,null,"ag-cs",null,3780,{"$f":"ROUND(L64*N64*0.1,0)","v":3780},10,{"$f":"SUMIF(F$54:Q$54,J64,F$57:Q$57)","v":0},{"$f":"M64*O64","v":0}]
[null,"送 料",null,null,{"$f":"P79","v":0},null,"セミオーダー昇華シャツ長袖",null,null,"ag-cl",null,4860,{"$f":"ROUND(L65*N65*0.1,0)","v":4860},{"$f":"$N$64","v":10},{"$f":"SUMIF(F$54:Q$54,J65,F$57:Q$57)","v":0},{"$f":"M65*O65","v":0}]
[null," ―",null,null,0,null,"セミオーダー昇華パンツ",null,null,"ag-cp",null,3996,3996,{"$f":"$N$64","v":10},{"$f":"SUMIF(F$54:Q$54,J66,F$57:Q$57)","v":0},0]
[null,"合計金額（税込）",null,null,{"$f":"SUM(E63:E66)","v":0},null,"セミオーダーソックス",null,null,"ag-st",null,1944,1944,10,{"$f":"SUMIF(F$54:Q$54,J67,F$57:Q$57)","v":0},0]
[null,"税抜金額",null,null,{"$f":"E66-E69","v":0},null,"マーキング","個人名",null,"ag-name1000",null,1080,1080,10,{"$f":"$AI$36","v":0},0]
[null,0.08,null,null,{"$f":"E66-ROUND(E66/(1+B69),0)","v":0},null,"マーキング","胸番号 １桁",null,"mark-500",null,540,{"$f":"ROUND(L69*N69*0.1,0)","v":540},10,{"$f":"$AJ$36","v":0},0]
[null,null,null,null,null,null,"マーキング","胸番号 ２桁",null,"mark-800",null,864,{"$f":"ROUND(L70*N70*0.1,0)","v":864},10,{"$f":"$AK$36","v":0},0]
[null,null,null,null,null,null,"マーキング","背番号 １桁",null,"mark-800",null,864,864,10,{"$f":"$AL$36","v":0},0]
[null,null,null,null,null,null,"マーキング","背番号 ２桁",null,"mark-1500",null,1620,{"$f":"ROUND(L72*N72*0.1,0)","v":1620},10,{"$f":"$AM$36","v":0},0]
[null,null,null,null,null,null,"マーキング","パンツ番号 １桁",null,"mark-500",null,540,{"$f":"ROUND(L73*N73*0.1,0)","v":540},10,{"$f":"$AN$36","v":0},0]
[null,{"$f":"IF(F34<>\"\",\"ご注意\",\"\")","v":""},null,null,null,null,"マーキング","パンツ番号 ２桁",null,"mark-800",null,864,864,10,{"$f":"$AO$36","v":0},0]
[null,{"$f":"IF(F34<>\"\",F34,\"\")","v":""},null,null,null,null,"マーキング","エンブレム",null,"mark-1500",null,1620,1620,10,{"$f":"$AP$36","v":0},0]
[null,null,null,null,null,null,"マーキング","チーム名",null,"mark-1500",null,1620,1620,10,{"$f":"$AQ$36","v":0},0]
[null,null,null,null,null,null,"マーキング","スポンサーバナー",null,"mark-2000",null,2400,{"$f":"ROUND(L77*N77*0.1,0)","v":2400},10,{"$f":"$AS$36","v":0},0]
[null,null,null,null,null,null,"マーキング","メッセージ",null,"mark-1500",null,1620,1620,10,{"$f":"$AR$36","v":0},0]
[null,null,null,null,null,null,"送料（税込10,800円以上で送料無料）",null,null,null,null,540,null,null,null,{"$f":"IF(AND(E63>0,SUM(E63:E64)<10800),$L$79,0)","v":0}]

{"sheet":"インナー","index":10,"n_rows":65,"n_cols":17,"rows_kept":65,"cut":false,"hidden":true,"merged":[[41,1,41,3],[42,1,42,3],[30,15,30,16],[1,0,4,0],[1,15,1,16],[2,15,2,16],[4,15,4,16],[4,1,7,3],[1,1,3,3],[31,1,31,3],[53,9,53,10],[43,1,43,3],[45,1,45,3],[46,1,46,3],[47,1,47,3],[48,1,48,3],[49,1,49,3],[52,6,52,8],[52,9,52,10],[44,1,44,3],[52,1,52,2],[60,7,60,8],[60,9,60,10],[57,6,57,8],[57,9,57,10],[58,7,58,8],[58,9,58,10],[57,1,57,3],[59,7,59,8],[59,9,59,10],[58,1,58,3],[55,1,55,3],[56,1,56,3],[63,1,63,4],[64,1,66,4],[63,6,63,10],[53,1,53,3],[53,6,53,8],[61,7,61,8],[61,9,61,10],[62,7,62,8],[62,9,62,10],[56,6,56,8],[56,9,56,10],[55,6,55,8],[55,9,55,10],[54,1,54,3],[54,6,54,8],[54,9,54,10]]}
[]
["お客様記入→","agrina\nインナー注文書",null,null,"種　別","カラー１",null,null,null,null,"カラー２",null,null,null,null,"メモ欄 "]
[null,null,null,null,"画　像"]
[null,null,null,null,null,"agrina","agrina","agrina","agrina","agrina","agrina","agrina","agrina","agrina","agrina"]
[null,{"$f":"IF(ご注文者様チーム名=\"\",\"「メインメニュー」のご注文者様情報をご記入ください。\",ご注文者様チーム名)","v":"「メインメニュー」のご注文者様情報をご記入ください。"},null,null,"名　称","インナートップ\n長袖","インナートップ\n半袖","インナートップ\nノースリーブ","インナー\nロングパンツ","インナー\nスパッツ","インナートップ\n長袖","インナートップ\n半袖","インナートップ\nノースリーブ","インナー\nロングパンツ","インナー\nスパッツ"]
["非表示",null,null,null,"商品コード",{"$f":"IF(F47>0,IF(F45=\"\",\"追加商品コード未記入\",F44&F45),\"\")","v":""},"","","","","","","","",""]
["➡",null,null,null,"本体カラー","カラーを選択","カラーを選択","カラーを選択","カラーを選択","カラーを選択","カラーを選択","カラーを選択","カラーを選択","カラーを選択","カラーを選択"]
["➡",null,null,null,"文字カラー","カラーを選択","カラーを選択","カラーを選択","カラーを選択","カラーを選択","カラーを選択","カラーを選択","カラーを選択","カラーを選択","カラーを選択"]
[null,"#","注文者氏名",{"$f":"\"マーキング名\"","v":"マーキング名"},"背番号","サイズ",null,null,null,null,"サイズ",null,null,null,null,"個人別価格","備考(お客様使用)"]
[null,"例","加藤貴行","T.KATO",10,"M","L","M","L","L","M","L","M","L","L"]
["➡",1,null,null,null,null,null,null,null,null,null,null,null,null,null,{"$f":"SUMIF(F11:O11,\"<>\",$F$49:$O$49)+IF($D11<>\"\",COUNTIFS(F11:O11,\"<>\",$F$43:$O$43,\">0\")*$M$59,0)","v":0}]
[null,2,null,null,null,null,null,null,null,null,null,null,null,null,null,0]
[null,3,null,null,null,null,null,null,null,null,null,null,null,null,null,0]
[null,4,null,null,null,null,null,null,null,null,null,null,null,null,null,0]
[null,5,null,null,null,null,null,null,null,null,null,null,null,null,null,0]
[null,6,null,null,null,null,null,null,null,null,null,null,null,null,null,0]
[null,7,null,null,null,null,null,null,null,null,null,null,null,null,null,0]
[null,8,null,null,null,null,null,null,null,null,null,null,null,null,null,0]
[null,9,null,null,null,null,null,null,null,null,null,null,null,null,null,0]
[null,10,null,null,null,null,null,null,null,null,null,null,null,null,null,0]
[null,11,null,null,null,null,null,null,null,null,null,null,null,null,null,0]
[null,12,null,null,null,null,null,null,null,null,null,null,null,null,null,0]
[null,13,null,null,null,null,null,null,null,null,null,null,null,null,null,0]
[null,14,null,null,null,null,null,null,null,null,null,null,null,null,null,0]
[null,15,null,null,null,null,null,null,null,null,null,null,null,null,null,0]
[null,16,null,null,null,null,null,null,null,null,null,null,null,null,null,0]
[null,17,null,null,null,null,null,null,null,null,null,null,null,null,null,0]
[null,18,null,null,null,null,null,null,null,null,null,null,null,null,null,0]
[null,19,null,null,null,null,null,null,null,null,null,null,null,null,null,0]
[null,20,null,null,null,null,null,null,null,null,null,null,null,null,null,0]
[null,null,null,null,null,{"$f":"IF(COUNTIF(F51:O51,\"?*\")>0,\"　※カラーを選択して下さい。\",\"\")","v":""},null,null,null,null,null,null,null,null,null,{"$f":"IF(E55>0,\"※ 個人別価格に送料は含まれていません。\",\"\")","v":""}]
[null,"注 文 集 計",null,null,110,{"$f":"COUNTIF(F$11:F$30,$E32)","v":0},0,0,0,0,0,0,0,0,0]
[null,null,null,null,130,0,0,0,0,0,0,0,0,0,0]
[null,null,null,null,150,0,0,0,0,0,0,0,0,0,0]
[null,null,null,null,"S",0,0,0,0,0,0,0,0,0,0]
[null,null,null,null,"M",0,0,0,0,0,0,0,0,0,0]
[null,null,null,null,"L",0,0,0,0,0,0,0,0,0,0]
[null,null,null,null,"XL",0,0,0,0,0,0,0,0,0,0]
[null,null,null,null,"3L",0,0,0,0,0,0,0,0,0,0]
[null,null,null,null,"4L",0,0,0,0,0,0,0,0,0,0]
[null,null,null,null,"5L",0,0,0,0,0,0,0,0,0,0]
[null,"マーキング",null,null,"個人名有無","個人名【有】","個人名【有】","個人名【有】","個人名【無】","個人名【無】","個人名【有】","個人名【有】","個人名【有】","個人名【無】","個人名【無】"]
[null,null,null,null,"マーキング数",{"$f":"IF(F42=\"個人名【有】\",COUNTIFS($D$11:$D$30,\"<>\",F$11:F$30,\"<>\"),0)","v":0},{"$f":"IF(G42=\"個人名【有】\",COUNTIFS($D$11:$D$30,\"<>\",G$11:G$30,\"<>\"),0)","v":0},{"$f":"IF(H42=\"個人名【有】\",COUNTIFS($D$11:$D$30,\"<>\",H$11:H$30,\"<>\"),0)","v":0},{"$f":"IF(I42=\"個人名【有】\",COUNTIFS($D$11:$D$30,\"<>\",I$11:I$30,\"<>\"),0)","v":0},0,{"$f":"IF(K42=\"個人名【有】\",COUNTIFS($D$11:$D$30,\"<>\",K$11:K$30,\"<>\"),0)","v":0},{"$f":"IF(L42=\"個人名【有】\",COUNTIFS($D$11:$D$30,\"<>\",L$11:L$30,\"<>\"),0)","v":0},{"$f":"IF(M42=\"個人名【有】\",COUNTIFS($D$11:$D$30,\"<>\",M$11:M$30,\"<>\"),0)","v":0},{"$f":"IF(N42=\"個人名【有】\",COUNTIFS($D$11:$D$30,\"<>\",N$11:N$30,\"<>\"),0)","v":0},{"$f":"IF(O42=\"個人名【有】\",COUNTIFS($D$11:$D$30,\"<>\",O$11:O$30,\"<>\"),0)","v":0}]
[null,"代表商品コード",null,null,{"$f":"$J$59","v":"ag-name1000"},{"$f":"$J$54","v":"ag-it"},{"$f":"$J$55","v":"ag-is"},{"$f":"$J$54","v":"ag-it"},{"$f":"$J$55","v":"ag-is"},{"$f":"$J$58","v":"ag-ih"},{"$f":"$J$54","v":"ag-it"},{"$f":"$J$55","v":"ag-is"},{"$f":"$J$54","v":"ag-it"},{"$f":"$J$55","v":"ag-is"},{"$f":"$J$58","v":"ag-ih"}]
[null,"追加商品コード"]
[null,"商 品 名",null,null,"個人名\nﾏｰｷﾝｸﾞ",{"$f":"$G$54 & \"(\" & F7 & \"x\" & F8 &\")\"","v":"昇華インナートップ長袖(カラーを選択xカラーを選択)"},{"$f":"$G$55 & \"(\" & G7 & \"x\" & G8 &\")\"","v":"昇華インナートップ半袖(カラーを選択xカラーを選択)"},{"$f":"$G$56 & \"(\" & H7 & \"x\" & H8 &\")\"","v":"昇華インナートップノースリーブ(カラーを選択xカラーを選択)"},{"$f":"$G$57 & \"(\" & I7 & \"x\" & I8 &\")\"","v":"昇華インナーロングパンツ(カラーを選択xカラーを選択)"},{"$f":"$G$58 & \"(\" & J7 & \"x\" & J8 &\")\"","v":"昇華インナースパッツ(カラーを選択xカラーを選択)"},{"$f":"$G$54 & \"(\" & K7 & \"x\" & K8 &\")\"","v":"昇華インナートップ長袖(カラーを選択xカラーを選択)"},{"$f":"$G$54 & \"(\" & L7 & \"x\" & L8 &\")\"","v":"昇華インナートップ長袖(カラーを選択xカラーを選択)"},{"$f":"$G$54 & \"(\" & M7 & \"x\" & M8 &\")\"","v":"昇華インナートップ長袖(カラーを選択xカラーを選択)"},{"$f":"$G$54 & \"(\" & N7 & \"x\" & N8 &\")\"","v":"昇華インナートップ長袖(カラーを選択xカラーを選択)"},{"$f":"$G$54 & \"(\" & O7 & \"x\" & O8 &\")\"","v":"昇華インナートップ長袖(カラーを選択xカラーを選択)"}]
[null,"注 文 数",null,null,{"$f":"SUM(F43:O43)","v":0},{"$f":"SUM(F32:F41)","v":0},0,0,0,0,0,0,0,0,0]
[null,"定  価（税込）",null,null,{"$f":"$L$59","v":1080},{"$f":"$L$54","v":6480},{"$f":"$L$55","v":5940},{"$f":"$L$54","v":6480},{"$f":"$L$55","v":5940},{"$f":"$L$58","v":5400},{"$f":"$L$54","v":6480},{"$f":"$L$55","v":5940},{"$f":"$L$54","v":6480},{"$f":"$L$55","v":5940},{"$f":"$L$58","v":5400}]
[null,"販売価格（税込）",null,null,{"$f":"$M$59","v":1080},{"$f":"$M$54","v":6480},{"$f":"$M$55","v":5940},{"$f":"$M$54","v":6480},{"$f":"$M$55","v":5940},{"$f":"$M$58","v":5400},{"$f":"$M$54","v":6480},{"$f":"$M$55","v":5940},{"$f":"$M$54","v":6480},{"$f":"$M$55","v":5940},{"$f":"$M$58","v":5400}]
[null,"商品金額小計（税込）",null,null,{"$f":"E49*E47","v":0},0,0,0,0,0,0,0,0,0,0]
[null,null,null,null,null,{"$f":"IF(AND(COUNTIF(F7:F8,\"カラーを選択\")>0,F47>0),\"↑注文エラー\",\"\")","v":""},"","","","","","","","",""]
[null,"■ 簡易見積表",null,null,null,null,"■ 料金について（金額は税込定価です）"]
[null,"商 品 合 計",null,{"$f":"SUM(F47:O47)","v":0},{"$f":"SUM(F50:O50)","v":0},null,"商品名",null,null,"代表商品コード",null,"定価(税込)","売価(税込)","掛率(X10%)","注文数"]
[null,"マーキング代合計",null,null,{"$f":"E50","v":0},null,"昇華インナートップ長袖",null,null,"ag-it",null,6480,{"$f":"ROUND(L54*N54*0.1,0)","v":6480},10,{"$f":"SUMIF(F$44:O$44,J54,F$47:O$47)","v":0}]
[null,"送 料",null,null,{"$f":"IF(AND((E54+E53)>0,(E54+E53)<10800),$L$64,0)","v":0},null,"昇華インナートップ半袖",null,null,"ag-is",null,5940,{"$f":"ROUND(L55*N55*0.1,0)","v":5940},{"$f":"$N$54","v":10},{"$f":"SUMIF(F$44:O$44,J55,F$47:O$47)","v":0}]
[null," ―",null,null,0,null,"昇華インナートップノースリーブ",null,null,"ag-in",null,5940,5940,10,{"$f":"SUMIF(F$44:O$44,J56,F$47:O$47)","v":0}]
[null,"合計金額（税込）",null,null,{"$f":"SUM(E53:E56)","v":0},null,"昇華インナーロングパンツ",null,null,"ag-ip",null,6480,{"$f":"ROUND(L57*N57*0.1,0)","v":6480},10,{"$f":"SUMIF(F$44:O$44,J57,F$47:O$47)","v":0}]
[null,"税抜金額",null,null,{"$f":"E56-E59","v":0},null,"昇華インナースパッツ",null,null,"ag-ih",null,5400,5400,10,{"$f":"SUMIF(F$44:O$44,J58,F$47:O$47)","v":0}]
[null,0.08,null,null,{"$f":"E56-ROUND(E56/(1+B59),0)","v":0},null,"マーキング","個人名",null,"ag-name1000",null,1080,1080,10,{"$f":"E47","v":0}]
[null,null,null,null,null,null,"マーキング","背/胸/パンツ番号",null,"無料サービス",null,0,0,10]
[null,null,null,null,null,null,"マーキング","エンブレム",null,"無料サービス",null,0,0,10]
[null,null,null,null,null,null,"マーキング","チーム名",null,"無料サービス",null,0,0,10]
[null,null,null,null,null,null,"マーキング","スポンサーバナー",null,"無料サービス",null,0,0,10]
[null,{"$f":"IF(F31<>\"\",\"ご注意\",\"\")","v":""},null,null,null,null,"送料（税込10,800円以上で送料無料）",null,null,null,null,540]
[null,{"$f":"IF(F31<>\"\",F31,\"\")","v":""}]

{"sheet":"ビブス","index":11,"n_rows":37,"n_cols":13,"rows_kept":37,"cut":false,"hidden":true,"merged":[[27,1,27,3],[15,1,15,4],[8,2,8,3],[9,2,9,3],[12,1,12,3],[10,2,10,3],[24,1,24,3],[25,1,25,3],[26,1,26,3],[1,11,1,12],[2,11,3,12],[8,11,8,12],[9,11,9,12],[30,6,30,8],[10,11,10,12],[7,11,7,12],[35,1,35,4],[36,1,38,4],[1,0,4,0],[16,1,16,4],[17,1,17,4],[18,1,18,4],[19,1,19,4],[20,1,20,4],[21,1,21,4],[2,4,3,4],[30,1,30,2],[29,1,29,2],[1,1,2,3],[3,1,6,3],[7,2,7,3],[28,1,28,3]]}
[]
["お客様記入→","agrina\nビブス注文書",null,null,"種　別","カラー１","カラー２","カラー３","カラー４","カラー５","カラー６","メモ欄 "]
[null,null,null,null,"画　像"]
[null,{"$f":"IF(ご注文者様チーム名=\"\",\"「メインメニュー」のご注文者様情報をご記入ください。\",ご注文者様チーム名)","v":"「メインメニュー」のご注文者様情報をご記入ください。"}]
[null,null,null,null,"名　称","ビブス(10枚 1セット)","ビブス(10枚 1セット)","ビブス(10枚 1セット)","ビブス(10枚 1セット)","ビブス(10枚 1セット)","ビブス(10枚 1セット)"]
["非表示",null,null,null,"商品コード",{"$f":"IF(F19>0,IF(F17=\"\",\"追加商品コード未記入\",F16&F17),\"\")","v":""},"","","","",""]
["➡",null,null,null,"デザイン\nURL","入力してください","入力してください","入力してください","入力してください","入力してください","入力してください"]
[null,"#","サイズ",null,"番号","個数","個数","個数","個数","個数","個数","備考(お客様使用)"]
["➡",1,"Junior",null,"2～11"]
[null,2,"Free",null,"2～11"]
[null,3,"3L",null,"2～11"]
[null,null,null,null,null,{"$f":"IF(COUNTIF(F23:K23,\"?*\")>0,\"　※カラーを正しく選択して下さい。\",\"\")","v":""}]
[null,"注 文 集 計",null,null,"JR",{"$f":"F9","v":0},0,0,0,0,0]
[null,null,null,null,"F",{"$f":"F10","v":0},{"$f":"G10","v":0},0,0,0,0]
[null,null,null,null,"3L",{"$f":"F11","v":0},0,0,0,0,0]
[null,"代表商品コード",null,null,null,{"$f":"$I$26","v":"ag-bib"},"ag-bib","ag-bib","ag-bib","ag-bib","ag-bib"]
[null,"追加商品コード"]
[null,"商品名",null,null,null,{"$f":"$G$26& \"(\"&F2&\")\"","v":"セミオーダー昇華ビブス(カラー１)"},"セミオーダー昇華ビブス(カラー２)","セミオーダー昇華ビブス(カラー３)","セミオーダー昇華ビブス(カラー４)","セミオーダー昇華ビブス(カラー５)","セミオーダー昇華ビブス(カラー６)"]
[null,"注文数",null,null,null,{"$f":"SUM(F13:F15)","v":0},0,0,0,0,0]
[null,"定  価（税込）",null,null,null,{"$f":"$J$26","v":27000},27000,27000,27000,27000,27000]
[null,"販売価格（税込）",null,null,null,{"$f":"$K$26","v":27000},27000,27000,27000,27000,27000]
[null,"商品金額小計（税込）",null,null,null,{"$f":"F21*F19","v":0},0,0,0,0,0]
[]
[null,"■ 簡易見積表",null,null,null,null,"■ 料金について（金額は税込定価です）"]
[null,{"$f":"\"商 品 合 計　　　\" &  SUM(F19:K19) & \"セット\"","v":"商 品 合 計　　　0セット"},null,null,{"$f":"SUM(F22:K22)","v":0},null,"商品名",null,"代表商品コード","定価(税込)","売価(税込)","掛率(X10%)","注文数"]
[null,"マーキング代合計",null,null,{"$f":"E22","v":0},null,"セミオーダー昇華ビブス",null,"ag-bib",27000,{"$f":"ROUND(J26*L26*0.1,0)","v":27000},10,{"$f":"SUM(F19:K19)","v":0}]
[null,"送 料",null,null,{"$f":"IF(AND((E26+E25)>0,(E26+E25)<10800),$K$31,0)","v":0},null,"マーキング","背/胸番号","無料サービス",0,{"$f":"ROUND(J27*L27*0.1,0)","v":0},{"$f":"$L$26","v":10}]
[null," ―",null,null,0,null,"マーキング","エンブレム","無料サービス",0,{"$f":"ROUND(J28*L28*0.1,0)","v":0},{"$f":"$L$26","v":10}]
[null,"合計金額（税込）",null,null,{"$f":"SUM(E25:E28)","v":0},null,"マーキング","チーム名","無料サービス",0,{"$f":"ROUND(J29*L29*0.1,0)","v":0},{"$f":"$L$26","v":10}]
[null,"税抜金額",null,null,{"$f":"E28-E31","v":0},null,"マーキング","スポンサーバナー","無料サービス",0,{"$f":"ROUND(J30*L30*0.1,0)","v":0},{"$f":"$L$26","v":10}]
[null,0.08,null,null,{"$f":"E28-ROUND(E28/(1+B31),0)","v":0},null,"送料（税込10,800円以上で送料無料）",null,null,540]
[]
[]
[]
[]
[null,{"$f":"IF(F12<>\"\",\"ご注意\",\"\")","v":""}]
[null,{"$f":"IF(F12<>\"\",F12,\"\")","v":""}]

{"sheet":"ポロシャツ","index":12,"n_rows":72,"n_cols":19,"rows_kept":72,"cut":false,"hidden":true,"merged":[[71,6,71,10],[29,5,29,16],[54,1,54,2],[43,1,43,3],[44,1,44,3],[45,1,45,3],[66,7,66,8],[64,1,64,4],[70,6,70,8],[66,9,66,10],[67,7,67,8],[67,9,67,10],[30,1,30,3],[65,1,71,4],[57,1,57,3],[58,1,58,3],[64,7,64,8],[64,9,64,10],[65,7,65,8],[65,9,65,10],[54,6,54,8],[62,7,62,8],[62,9,62,10],[63,7,63,8],[63,9,63,10],[60,9,60,10],[61,7,61,8],[61,9,61,10],[60,7,60,8],[70,9,70,10],[68,7,68,8],[68,9,68,10],[69,7,69,8],[69,9,69,10],[1,17,1,18],[2,17,2,18],[29,17,29,18],[3,17,6,18],[6,5,6,7],[6,8,6,10],[6,11,6,13],[6,14,6,16],[1,0,3,0],[1,1,2,3],[48,1,48,3],[49,1,49,3],[50,1,50,3],[41,1,41,3],[42,1,42,3],[46,1,46,3],[47,1,47,3],[40,1,40,3],[3,1,6,3],[51,1,51,3],[54,9,54,10],[60,1,60,3],[56,1,56,3],[56,6,56,8],[56,9,56,10],[58,6,58,8],[58,9,58,10],[57,9,57,10],[57,6,57,8],[55,1,55,3],[55,6,55,8],[55,9,55,10],[59,7,59,8],[59,9,59,10],[59,1,59,3]]}
[]
["お客様記入→","agrina\nポロシャツ\n注文書",null,null,"種　別","カラー１",null,null,"カラー２",null,null,"カラー３",null,null,"カラー４",null,null,"メモ欄 "]
[null,null,null,null,"画　像"]
[null,{"$f":"IF(ご注文者様チーム名=\"\",\"「メインメニュー」のご注文者様情報をご記入ください。\",ご注文者様チーム名)","v":"「メインメニュー」のご注文者様情報をご記入ください。"},null,null,"名　称","ポロシャツ","スウェット\nハーフパンツ","ソックス","ポロシャツ","スウェット\nハーフパンツ","ソックス","ポロシャツ","スウェット\nハーフパンツ","ソックス","ポロシャツ","スウェット\nハーフパンツ","ソックス","　３Dシミュレーターの「デザインを保存\n　する」ボタンをクリックして表示される\n☜「デザインURL」を貼り付けて下さい。"]
["非表示",null,null,null,"商品コード",{"$f":"IF(F48>0,IF(F43=\"\",\"追加商品コード未記入\",F42&F43),\"\")","v":""},{"$f":"IF(G48>0,IF(G43=\"\",\"追加商品コード未記入\",G42&G43),\"\")","v":""},{"$f":"IF(H48>0,IF(H43=\"\",\"追加商品コード未記入\",H42&H43),\"\")","v":""},{"$f":"IF(I48>0,IF(I43=\"\",\"追加商品コード未記入\",I42&I43),\"\")","v":""},"","",{"$f":"IF(L48>0,IF(L43=\"\",\"追加商品コード未記入\",L42&L43),\"\")","v":""},"","",{"$f":"IF(O48>0,IF(O43=\"\",\"追加商品コード未記入\",O42&O43),\"\")","v":""},"",""]
["➡",null,null,null,"素材","素材を選択",null,null,"素材を選択",null,null,"素材を選択",null,null,"素材を選択"]
["➡",null,null,null,"デザイン\nURL","入力してください",null,null,"入力してください",null,null,"入力してください",null,null,"入力してください"]
[null,"#","注文者氏名",{"$f":"\"マーキング名\"","v":"マーキング名"},"背番号","サイズ",null,null,"サイズ",null,null,"サイズ",null,null,"サイズ",null,null,"個人別価格","備考(お客様使用)"]
[null,"例","加藤貴行","T.KATO",10,"M","L","25x27","M","L","25x27"]
["➡",1,null,null,null,null,null,null,null,null,null,null,null,null,null,null,null,{"$f":"SUMIF(F10:Q10,\"<>\",$F$50:$Q$50)","v":0}]
[null,2,null,null,null,null,null,null,null,null,null,null,null,null,null,null,null,{"$f":"SUMIF(F11:Q11,\"<>\",$F$50:$Q$50)","v":0}]
[null,3,null,null,null,null,null,null,null,null,null,null,null,null,null,null,null,0]
[null,4,null,null,null,null,null,null,null,null,null,null,null,null,null,null,null,0]
[null,5,null,null,null,null,null,null,null,null,null,null,null,null,null,null,null,0]
[null,6,null,null,null,null,null,null,null,null,null,null,null,null,null,null,null,0]
[null,7,null,null,null,null,null,null,null,null,null,null,null,null,null,null,null,0]
[null,8,null,null,null,null,null,null,null,null,null,null,null,null,null,null,null,0]
[null,9,null,null,null,null,null,null,null,null,null,null,null,null,null,null,null,0]
[null,10,null,null,null,null,null,null,null,null,null,null,null,null,null,null,null,0]
[null,11,null,null,null,null,null,null,null,null,null,null,null,null,null,null,null,0]
[null,12,null,null,null,null,null,null,null,null,null,null,null,null,null,null,null,0]
[null,13,null,null,null,null,null,null,null,null,null,null,null,null,null,null,null,0]
[null,14,null,null,null,null,null,null,null,null,null,null,null,null,null,null,null,0]
[null,15,null,null,null,null,null,null,null,null,null,null,null,null,null,null,null,0]
[null,16,null,null,null,null,null,null,null,null,null,null,null,null,null,null,null,0]
[null,17,null,null,null,null,null,null,null,null,null,null,null,null,null,null,null,0]
[null,18,null,null,null,null,null,null,null,null,null,null,null,null,null,null,null,0]
[null,19,null,null,null,null,null,null,null,null,null,null,null,null,null,null,null,0]
[null,20,null,null,null,null,null,null,null,null,null,null,null,null,null,null,null,0]
[null,null,null,null,null,{"$f":"IF(O56+O57>0,\"※マーキング代が別途かかります。ご注文受付後に金額をご案内いたします。 \",\"\") & IF(COUNTIF(F53:Q53,\"?*\")>0,\"※素材を選択して下さい。 \",\"\") &\nIF(SUM(F52:Q52)>0,\"※少量生産手数料が加算されています。(シャツ[素材別]・パンツ４着以下。ソックス５足以下。)\",\"\")","v":""},null,null,null,null,null,null,null,null,null,null,null,"※ 個人別価格にマーキング代・手数料・送料は含まれていません。"]
[null,"注 文 集 計",null,null,"S",{"$f":"COUNTIF(F$10:F$29,$E31)","v":0},0,null,{"$f":"COUNTIF(I$10:I$29,$E31)","v":0},0,null,{"$f":"COUNTIF(L$10:L$29,$E31)","v":0},0,null,{"$f":"COUNTIF(O$10:O$29,$E31)","v":0},0]
[null,null,null,null,"M",0,0,null,0,0,null,0,0,null,0,0]
[null,null,null,null,"L",0,0,null,0,0,null,0,0,null,0,0]
[null,null,null,null,"XL",0,0,null,0,0,null,0,0,null,0,0]
[null,null,null,null,"3L",0,0,null,0,0,null,0,0,null,0,0]
[null,null,null,null,"4L",0,0,null,0,0,null,0,0,null,0,0]
[null,null,null,null,"19x21",null,null,{"$f":"COUNTIF(H$10:H$29,$E37)","v":0},null,null,{"$f":"COUNTIF(K$10:K$29,$E37)","v":0},null,null,{"$f":"COUNTIF(N$10:N$29,$E37)","v":0},null,null,{"$f":"COUNTIF(Q$10:Q$29,$E37)","v":0}]
[null,null,null,null,"22x24",null,null,{"$f":"COUNTIF(H$10:H$29,$E38)","v":0},null,null,{"$f":"COUNTIF(K$10:K$29,$E38)","v":0},null,null,{"$f":"COUNTIF(N$10:N$29,$E38)","v":0},null,null,{"$f":"COUNTIF(Q$10:Q$29,$E38)","v":0}]
[null,null,null,null,"25x27",null,null,{"$f":"COUNTIF(H$10:H$29,$E39)","v":0},null,null,{"$f":"COUNTIF(K$10:K$29,$E39)","v":0},null,null,{"$f":"COUNTIF(N$10:N$29,$E39)","v":0},null,null,{"$f":"COUNTIF(Q$10:Q$29,$E39)","v":0}]
[null,null,null,null,"27x29",null,null,{"$f":"COUNTIF(H$10:H$29,$E40)","v":0},null,null,{"$f":"COUNTIF(K$10:K$29,$E40)","v":0},null,null,{"$f":"COUNTIF(N$10:N$29,$E40)","v":0},null,null,{"$f":"COUNTIF(Q$10:Q$29,$E40)","v":0}]
[null,"マーキング",null,null,"個人名",{"$f":"COUNTIFS($D$10:$D$29,\"<>\",F$10:F$29,\"<>\")","v":0},null,null,{"$f":"COUNTIFS($D$10:$D$29,\"<>\",I$10:I$29,\"<>\")","v":0},null,null,{"$f":"COUNTIFS($D$10:$D$29,\"<>\",L$10:L$29,\"<>\")","v":0},null,null,{"$f":"COUNTIFS($D$10:$D$29,\"<>\",O$10:O$29,\"<>\")","v":0}]
[null,"代表商品コード",null,null,null,{"$f":"IF(F6=\"ドライ\",$J$56,\nIF(F6=\"スタンダード\",$J$57,\n\"\"))","v":""},{"$f":"$J$58","v":"ag-mp"},{"$f":"$J$59","v":"ag-0227"},{"$f":"IF(I6=\"ドライ\",$J$56,\nIF(I6=\"スタンダード\",$J$57,\n\"\"))","v":""},{"$f":"$J$58","v":"ag-mp"},{"$f":"$J$59","v":"ag-0227"},{"$f":"IF(L6=\"ドライ\",$J$56,\nIF(L6=\"スタンダード\",$J$57,\n\"\"))","v":""},{"$f":"$J$58","v":"ag-mp"},{"$f":"$J$59","v":"ag-0227"},{"$f":"IF(O6=\"ドライ\",$J$56,\nIF(O6=\"スタンダード\",$J$57,\n\"\"))","v":""},{"$f":"$J$58","v":"ag-mp"},{"$f":"$J$59","v":"ag-0227"}]
[null,"追加商品コード"]
[null,"agrinaボディカラー",null,null,"　"]
["非表示","Tomsボディ品番",null,null,"　",{"$f":"IF(F6=\"ドライ\",\"00302-ADP\",\nIF(F6=\"スタンダード\",\"00223-SDP\",\n\"\"))","v":""},"00187-NHP",null,{"$f":"IF(I6=\"ドライ\",\"00302-ADP\",\nIF(I6=\"スタンダード\",\"00223-SDP\",\n\"\"))","v":""},"00187-NHP",null,{"$f":"IF(L6=\"ドライ\",\"00302-ADP\",\nIF(L6=\"スタンダード\",\"00223-SDP\",\n\"\"))","v":""},"00187-NHP",null,{"$f":"IF(O6=\"ドライ\",\"00302-ADP\",\nIF(O6=\"スタンダード\",\"00223-SDP\",\n\"\"))","v":""},"00187-NHP"]
["非表示","Tomsボディカラー",null,null,"　",{"$f":"IFERROR(TEXT(VALUE(LEFT(F44,3))-10,\"000\") & MID(F44,4,99),\"\")","v":""},{"$f":"IFERROR(TEXT(VALUE(LEFT(G44,3))-10,\"000\") & MID(G44,4,99),\"\")","v":""},null,{"$f":"IFERROR(TEXT(VALUE(LEFT(I44,3))-10,\"000\") & MID(I44,4,99),\"\")","v":""},{"$f":"IFERROR(TEXT(VALUE(LEFT(J44,3))-10,\"000\") & MID(J44,4,99),\"\")","v":""},null,{"$f":"IFERROR(TEXT(VALUE(LEFT(L44,3))-10,\"000\") & MID(L44,4,99),\"\")","v":""},{"$f":"IFERROR(TEXT(VALUE(LEFT(M44,3))-10,\"000\") & MID(M44,4,99),\"\")","v":""},null,{"$f":"IFERROR(TEXT(VALUE(LEFT(O44,3))-10,\"000\") & MID(O44,4,99),\"\")","v":""},{"$f":"IFERROR(TEXT(VALUE(LEFT(P44,3))-10,\"000\") & MID(P44,4,99),\"\")","v":""}]
[null,"商 品 名",null,null,null,{"$f":"IF(F6=\"ドライ\",$G$56 & \"(\"&F2&\")\",\nIF(F6=\"スタンダード\",$G$57 & \"(\"&F2&\")\",\n\"\"))","v":""},{"$f":"$G$58& \"(\"&F2&\")\"","v":"セミオーダースウェットハーフパンツ(カラー１)"},{"$f":"$G$59& \"(\"&F2&\")\"","v":"セミオーダーソックス(カラー１)"},{"$f":"IF(I6=\"ドライ\",$G$56 & \"(\"&I2&\")\",\nIF(I6=\"スタンダード\",$G$57 & \"(\"&I2&\")\",\n\"\"))","v":""},{"$f":"$G$58& \"(\"&I2&\")\"","v":"セミオーダースウェットハーフパンツ(カラー２)"},{"$f":"$G$59& \"(\"&I2&\")\"","v":"セミオーダーソックス(カラー２)"},{"$f":"IF(L6=\"ドライ\",$G$56 & \"(\"&L2&\")\",\nIF(L6=\"スタンダード\",$G$57 & \"(\"&L2&\")\",\n\"\"))","v":""},{"$f":"$G$58& \"(\"&L2&\")\"","v":"セミオーダースウェットハーフパンツ(カラー３)"},{"$f":"$G$59& \"(\"&L2&\")\"","v":"セミオーダーソックス(カラー３)"},{"$f":"IF(O6=\"ドライ\",$G$56 & \"(\"&O2&\")\",\nIF(O6=\"スタンダード\",$G$57 & \"(\"&O2&\")\",\n\"\"))","v":""},{"$f":"$G$58& \"(\"&O2&\")\"","v":"セミオーダースウェットハーフパンツ(カラー４)"},{"$f":"$G$59& \"(\"&O2&\")\"","v":"セミオーダーソックス(カラー４)"}]
[null,"注 文 数",null,null,null,{"$f":"SUM(F31:F40)","v":0},0,0,0,0,0,0,0,0,0,0,0]
[null,"定  価（税込）",null,null,null,{"$f":"$L$56","v":4104},{"$f":"$L$57","v":4104},{"$f":"$L$59","v":1296},{"$f":"$L$56","v":4104},{"$f":"$L$57","v":4104},{"$f":"$L$59","v":1296},{"$f":"$L$56","v":4104},{"$f":"$L$57","v":4104},{"$f":"$L$59","v":1296},{"$f":"$L$56","v":4104},{"$f":"$L$57","v":4104},{"$f":"$L$59","v":1296}]
[null,"販売価格（税込）",null,null,null,{"$f":"$M$56","v":4104},{"$f":"$M$57","v":4104},{"$f":"$M$59","v":1296},{"$f":"$M$56","v":4104},{"$f":"$M$57","v":4104},{"$f":"$M$59","v":1296},{"$f":"$M$56","v":4104},{"$f":"$M$57","v":4104},{"$f":"$M$59","v":1296},{"$f":"$M$56","v":4104},{"$f":"$M$57","v":4104},{"$f":"$M$59","v":1296}]
[null,"商品金額小計（税込）",null,null,null,{"$f":"F50*F48","v":0},0,0,0,0,0,0,0,0,0,0,0]
[null,"少量生産手数料（税込）",null,null,null,{"$f":"IF(AND($O$56>0,$O$56<5),$M$71,0) + IF(AND($O$57>0,$O$57<5),$M$71,0)","v":0},{"$f":"IF(AND($O$58>0,$O$58<5),$M$71,0)","v":0},{"$f":"IF(AND($O$59>0,$O$59<6),$M$71,0)","v":0}]
[null,null,null,null,null,{"$f":"IF(AND(F47=\"\",F48>0),\"↑注文エラー\",\"\")","v":""},null,null,{"$f":"IF(AND(I47=\"\",I48>0),\"↑注文エラー\",\"\")","v":""},null,null,{"$f":"IF(AND(L47=\"\",L48>0),\"↑注文エラー\",\"\")","v":""},null,null,{"$f":"IF(AND(O47=\"\",O48>0),\"↑注文エラー\",\"\")","v":""}]
[null,"■ 簡易見積表",null,null,null,null,"■ 料金について（金額は税込定価です）"]
[null,"商 品 合 計",null,{"$f":"SUM(F48:Q48)","v":0},{"$f":"SUM(F51:Q51)+SUM(F52:Q52)","v":0},null,"商品名",null,null,"代表商品コード",null,"定価(税込)","売価(税込)","掛率(X10%)","注文数"]
[null,"マーキング代別途",null,null,null,null,"セミオーダードライポロシャツ",null,null,"ag-msa",null,4104,{"$f":"ROUND(L56*N56*0.1,0)","v":4104},10,{"$f":"SUMIF(F$42:Q$42,J56,F$48:Q$48)","v":0}]
[null,"送 料",null,null,{"$f":"IF(AND((E56+E55)>0,(E56+E55)<10800),$L$72,0)","v":0},null,"セミオーダースタンダードポロシャツ",null,null,"ag-mss",null,4104,4104,{"$f":"$N$56","v":10},{"$f":"SUMIF(F$42:Q$42,J57,F$48:Q$48)","v":0}]
[null," ―",null,null,0,null,"セミオーダースウェットハーフパンツ",null,null,"ag-mp",null,4320,4320,{"$f":"$N$56","v":10},{"$f":"SUMIF(F$42:Q$42,J58,F$48:Q$48)","v":0}]
[null,"合計金額（税込）",null,null,{"$f":"SUM(E55:E58)","v":0},null,"セミオーダーソックス",null,null,"ag-0227",null,1296,1296,{"$f":"$N$56","v":10},{"$f":"SUMIF(F$42:Q$42,J59,F$48:Q$48)","v":0}]
[null,"税抜金額",null,null,{"$f":"E58-E61","v":0},null,"マーキング","個人名",null,"ag-name1000",null,1080,1080,{"$f":"$N$56","v":10}]
[null,0.08,null,null,{"$f":"E58-ROUND(E58/(1+B61),0)","v":0},null,"マーキング","胸番号 １桁",null,"mark-500",null,540,540,{"$f":"$N$56","v":10}]
[null,null,null,null,null,null,"マーキング","胸番号 ２桁",null,"mark-800",null,864,864,10]
[null,null,null,null,null,null,"マーキング","背番号 １桁",null,"mark-800",null,864,864,10]
[null,null,null,null,null,null,"マーキング","背番号 ２桁",null,"mark-1500",null,1620,1620,10]
[null,{"$f":"IF(F30<>\"\",\"ご注意\",\"\")","v":""},null,null,null,null,"マーキング","パンツ番号 １桁",null,"mark-500",null,540,540,10]
[null,{"$f":"IF(F30<>\"\",F30,\"\")","v":""},null,null,null,null,"マーキング","パンツ番号 ２桁",null,"mark-800",null,864,864,10]
[null,null,null,null,null,null,"マーキング","エンブレム",null,"mark-1500",null,1620,1620,10]
[null,null,null,null,null,null,"マーキング","チーム名",null,"mark-1500",null,1620,1620,10]
[null,null,null,null,null,null,"マーキング","スポンサーバナー",null,"mark-2000",null,2400,2400,10]
[null,null,null,null,null,null,"マーキング","メッセージ",null,"mark-1500",null,1620,1620,10]
[null,null,null,null,null,null,"少量生産手数料",null,null,"ag-fee",null,2160,2160,10,{"$f":"COUNTIF(F52:H52,\">0\")","v":0}]
[null,null,null,null,null,null,"送料（税込10,800円以上で送料無料）",null,null,null,null,540]

{"sheet":"ノースリーブ","index":13,"n_rows":65,"n_cols":19,"rows_kept":65,"cut":false,"hidden":true,"merged":[[39,1,39,3],[28,17,28,18],[1,0,3,0],[1,1,2,3],[1,17,1,18],[2,17,2,18],[3,1,5,3],[3,17,5,18],[5,5,5,7],[5,8,5,10],[5,11,5,13],[5,14,5,16],[28,5,28,16],[29,1,29,3],[53,9,53,10],[40,1,40,3],[41,1,41,3],[45,1,45,3],[46,1,46,3],[47,1,47,3],[48,1,48,3],[49,1,49,3],[50,1,50,3],[53,6,53,8],[53,1,53,2],[42,1,42,3],[43,1,43,3],[44,1,44,3],[54,1,54,3],[54,6,54,8],[54,9,54,10],[55,1,55,3],[56,1,56,3],[57,1,57,3],[55,6,55,8],[55,9,55,10],[56,6,56,8],[56,9,56,10],[57,7,57,8],[57,9,57,10],[63,1,63,4],[62,6,62,8],[62,9,62,10],[64,1,68,4],[63,6,63,10],[60,7,60,8],[60,9,60,10],[61,7,61,8],[61,9,61,10],[58,1,58,3],[59,1,59,3],[58,7,58,8],[58,9,58,10],[59,7,59,8],[59,9,59,10]]}
[]
["お客様記入→","agrina\nノースリーブシャツ\n注文書",null,null,"種　別","カラー１",null,null,"カラー２",null,null,"カラー３",null,null,"カラー４",null,null,"メモ欄 "]
[null,null,null,null,"画　像"]
[null,{"$f":"IF(ご注文者様チーム名=\"\",\"「メインメニュー」のご注文者様情報をご記入ください。\",ご注文者様チーム名)","v":"「メインメニュー」のご注文者様情報をご記入ください。"},null,null,"名　称","ノースリーブ\nシャツ","ハーフパンツ","ソックス","ノースリーブ\nシャツ","ハーフパンツ","ソックス","ノースリーブ\nシャツ","ハーフパンツ","ソックス","ノースリーブ\nシャツ","ハーフパンツ","ソックス","　３Dシミュレーターの「デザインを保存\n　する」ボタンをクリックして表示される\n☜「デザインURL」を貼り付けて下さい。"]
["非表示",null,null,null,"商品コード",{"$f":"IF(F47>0,IF(F42=\"\",\"追加商品コード未記入\",F41&F42),\"\")","v":""},{"$f":"IF(G47>0,IF(G42=\"\",\"追加商品コード未記入\",G41&G42),\"\")","v":""},"",{"$f":"IF(I47>0,IF(I42=\"\",\"追加商品コード未記入\",I41&I42),\"\")","v":""},"","",{"$f":"IF(L47>0,IF(L42=\"\",\"追加商品コード未記入\",L41&L42),\"\")","v":""},"","",{"$f":"IF(O47>0,IF(O42=\"\",\"追加商品コード未記入\",O41&O42),\"\")","v":""},"",""]
["➡",null,null,null,"デザイン\nURL","入力してください",null,null,"入力してください",null,null,"入力してください",null,null,"入力してください"]
[null,"#","注文者氏名",{"$f":"\"マーキング名\"","v":"マーキング名"},"背番号","サイズ",null,null,"サイズ",null,null,"サイズ",null,null,"サイズ",null,null,"個人別価格","備考(お客様使用)"]
[null,"例","加藤貴行","T.KATO",10,"M","L","25x27","M","L","25x27"]
["➡",1,null,null,null,null,null,null,null,null,null,null,null,null,null,null,null,{"$f":"SUMIF(F9:Q9,\"<>\",$F$49:$Q$49)","v":0}]
[null,2,null,null,null,null,null,null,null,null,null,null,null,null,null,null,null,0]
[null,3,null,null,null,null,null,null,null,null,null,null,null,null,null,null,null,0]
[null,4,null,null,null,null,null,null,null,null,null,null,null,null,null,null,null,0]
[null,5,null,null,null,null,null,null,null,null,null,null,null,null,null,null,null,0]
[null,6,null,null,null,null,null,null,null,null,null,null,null,null,null,null,null,0]
[null,7,null,null,null,null,null,null,null,null,null,null,null,null,null,null,null,0]
[null,8,null,null,null,null,null,null,null,null,null,null,null,null,null,null,null,0]
[null,9,null,null,null,null,null,null,null,null,null,null,null,null,null,null,null,0]
[null,10,null,null,null,null,null,null,null,null,null,null,null,null,null,null,null,0]
[null,11,null,null,null,null,null,null,null,null,null,null,null,null,null,null,null,0]
[null,12,null,null,null,null,null,null,null,null,null,null,null,null,null,null,null,0]
[null,13,null,null,null,null,null,null,null,null,null,null,null,null,null,null,null,0]
[null,14,null,null,null,null,null,null,null,null,null,null,null,null,null,null,null,0]
[null,15,null,null,null,null,null,null,null,null,null,null,null,null,null,null,null,0]
[null,16,null,null,null,null,null,null,null,null,null,null,null,null,null,null,null,0]
[null,17,null,null,null,null,null,null,null,null,null,null,null,null,null,null,null,0]
[null,18,null,null,null,null,null,null,null,null,null,null,null,null,null,null,null,0]
[null,19,null,null,null,null,null,null,null,null,null,null,null,null,null,null,null,0]
[null,20,null,null,null,null,null,null,null,null,null,null,null,null,null,null,null,0]
[null,null,null,null,null,{"$f":"IF(O55+O56>0,\"※マーキング代が別途かかります。ご注文受付後に金額をご案内いたします。 \",\"\") & IF(SUM(F51:Q51)>0,\"　※少量生産手数料が加算されています。(シャツ・パンツ４着以下。ソックス５足以下。)\",\"\")","v":""},null,null,null,null,null,null,null,null,null,null,null,"※ 個人別価格にマーキング代・手数料・送料は含まれていません。"]
[null,"注 文 集 計",null,null,"S",{"$f":"COUNTIF(F$9:F$28,$E30)","v":0},0,null,{"$f":"COUNTIF(I$9:I$28,$E30)","v":0},0,null,{"$f":"COUNTIF(L$9:L$28,$E30)","v":0},0,null,{"$f":"COUNTIF(O$9:O$28,$E30)","v":0},0]
[null,null,null,null,"M",0,0,null,0,0,null,0,0,null,0,0]
[null,null,null,null,"L",0,0,null,0,0,null,0,0,null,0,0]
[null,null,null,null,"XL",0,0,null,0,0,null,0,0,null,0,0]
[null,null,null,null,"3L",0,0,null,0,0,null,0,0,null,0,0]
[null,null,null,null,"4L",0,0,null,0,0,null,0,0,null,0,0]
[null,null,null,null,"19x21",null,null,{"$f":"COUNTIF(H$9:H$28,$E36)","v":0},null,null,{"$f":"COUNTIF(K$9:K$28,$E36)","v":0},null,null,{"$f":"COUNTIF(N$9:N$28,$E36)","v":0},null,null,{"$f":"COUNTIF(Q$9:Q$28,$E36)","v":0}]
[null,null,null,null,"22x24",null,null,{"$f":"COUNTIF(H$9:H$28,$E37)","v":0},null,null,{"$f":"COUNTIF(K$9:K$28,$E37)","v":0},null,null,{"$f":"COUNTIF(N$9:N$28,$E37)","v":0},null,null,{"$f":"COUNTIF(Q$9:Q$28,$E37)","v":0}]
[null,null,null,null,"25x27",null,null,{"$f":"COUNTIF(H$9:H$28,$E38)","v":0},null,null,{"$f":"COUNTIF(K$9:K$28,$E38)","v":0},null,null,{"$f":"COUNTIF(N$9:N$28,$E38)","v":0},null,null,{"$f":"COUNTIF(Q$9:Q$28,$E38)","v":0}]
[null,null,null,null,"27x29",null,null,{"$f":"COUNTIF(H$9:H$28,$E39)","v":0},null,null,{"$f":"COUNTIF(K$9:K$28,$E39)","v":0},null,null,{"$f":"COUNTIF(N$9:N$28,$E39)","v":0},null,null,{"$f":"COUNTIF(Q$9:Q$28,$E39)","v":0}]
[null,"マーキング",null,null,"個人名",{"$f":"COUNTIFS($D$9:$D$28,\"<>\",F$9:F$28,\"<>\")","v":0},null,null,{"$f":"COUNTIFS($D$9:$D$28,\"<>\",I$9:I$28,\"<>\")","v":0},null,null,{"$f":"COUNTIFS($D$9:$D$28,\"<>\",L$9:L$28,\"<>\")","v":0},null,null,{"$f":"COUNTIFS($D$9:$D$28,\"<>\",O$9:O$28,\"<>\")","v":0}]
[null,"代表商品コード",null,null,{"$f":"$J$58","v":"ag-name1000"},{"$f":"$J$55","v":"ag-ns"},{"$f":"$J$56","v":"ag-sp"},{"$f":"$J$57","v":"ag-st"},{"$f":"$J$55","v":"ag-ns"},{"$f":"$J$56","v":"ag-sp"},{"$f":"$J$57","v":"ag-st"},{"$f":"$J$55","v":"ag-ns"},{"$f":"$J$56","v":"ag-sp"},{"$f":"$J$57","v":"ag-st"},{"$f":"$J$55","v":"ag-ns"},{"$f":"$J$56","v":"ag-sp"},{"$f":"$J$57","v":"ag-st"}]
[null,"追加商品コード"]
[null,"agrinaボディカラー",null,null,"　"]
["非表示","Tomsボディ品番",null,null,"　","00329-LANT","00325-ACP",null,"00329-LANT","00325-ACP",null,"00329-LANT","00325-ACP",null,"00329-LANT","00325-ACP"]
["非表示","Tomsボディカラー",null,null,"　",{"$f":"IFERROR(TEXT(VALUE(LEFT(F43,3))-10,\"000\") & MID(F43,4,99),\"\")","v":""},{"$f":"IFERROR(TEXT(VALUE(LEFT(G43,3))-10,\"000\") & MID(G43,4,99),\"\")","v":""},null,{"$f":"IFERROR(TEXT(VALUE(LEFT(I43,3))-10,\"000\") & MID(I43,4,99),\"\")","v":""},{"$f":"IFERROR(TEXT(VALUE(LEFT(J43,3))-10,\"000\") & MID(J43,4,99),\"\")","v":""},null,{"$f":"IFERROR(TEXT(VALUE(LEFT(L43,3))-10,\"000\") & MID(L43,4,99),\"\")","v":""},{"$f":"IFERROR(TEXT(VALUE(LEFT(M43,3))-10,\"000\") & MID(M43,4,99),\"\")","v":""},null,{"$f":"IFERROR(TEXT(VALUE(LEFT(O43,3))-10,\"000\") & MID(O43,4,99),\"\")","v":""},{"$f":"IFERROR(TEXT(VALUE(LEFT(P43,3))-10,\"000\") & MID(P43,4,99),\"\")","v":""}]
[null,"商 品 名",null,null,"個人名\nﾏｰｷﾝｸﾞ",{"$f":"$G$55&\"(\"&F2&\")\"","v":"セミオーダーノースリーブシャツ(カラー１)"},{"$f":"$G$56&\"(\"&F2&\")\"","v":"セミオーダーハーフパンツ(カラー１)"},{"$f":"$G$57&\"(\"&F2&\")\"","v":"セミオーダーソックス(カラー１)"},{"$f":"$G$55&\"(\"&I2&\")\"","v":"セミオーダーノースリーブシャツ(カラー２)"},{"$f":"$G$56&\"(\"&I2&\")\"","v":"セミオーダーハーフパンツ(カラー２)"},{"$f":"$G$57&\"(\"&I2&\")\"","v":"セミオーダーソックス(カラー２)"},{"$f":"$G$55&\"(\"&L2&\")\"","v":"セミオーダーノースリーブシャツ(カラー３)"},{"$f":"$G$56&\"(\"&L2&\")\"","v":"セミオーダーハーフパンツ(カラー３)"},{"$f":"$G$57&\"(\"&L2&\")\"","v":"セミオーダーソックス(カラー３)"},{"$f":"$G$55&\"(\"&O2&\")\"","v":"セミオーダーノースリーブシャツ(カラー４)"},{"$f":"$G$56&\"(\"&O2&\")\"","v":"セミオーダーハーフパンツ(カラー４)"},{"$f":"$G$57&\"(\"&O2&\")\"","v":"セミオーダーソックス(カラー４)"}]
[null,"注 文 数",null,null,{"$f":"SUM(F40:Q40)","v":0},{"$f":"SUM(F30:F39)","v":0},0,0,0,0,0,0,0,0,0,0,0]
[null,"定  価（税込）",null,null,{"$f":"$L$58","v":1080},{"$f":"$L$55","v":3456},{"$f":"$L$56","v":3996},{"$f":"$L$57","v":1944},{"$f":"$L$55","v":3456},{"$f":"$L$56","v":3996},{"$f":"$L$57","v":1944},{"$f":"$L$55","v":3456},{"$f":"$L$56","v":3996},{"$f":"$L$57","v":1944},{"$f":"$L$55","v":3456},{"$f":"$L$56","v":3996},{"$f":"$L$57","v":1944}]
[null,"販売価格（税込）",null,null,{"$f":"$M$58","v":1080},{"$f":"$M$55","v":3456},{"$f":"$M$56","v":3996},{"$f":"$M$57","v":1944},{"$f":"$M$55","v":3456},{"$f":"$M$56","v":3996},{"$f":"$M$57","v":1944},{"$f":"$M$55","v":3456},{"$f":"$M$56","v":3996},{"$f":"$M$57","v":1944},{"$f":"$M$55","v":3456},{"$f":"$M$56","v":3996},{"$f":"$M$57","v":1944}]
[null,"商品金額小計（税込）",null,null,{"$f":"E49*E47","v":0},0,0,0,0,0,0,0,0,0,0,0,0]
[null,"少量生産手数料（税込）",null,null,null,{"$f":"IF(AND(O55>0,O55<5),$M$63,0)","v":0},{"$f":"IF(AND(O56>0,O56<5),$M$63,0)","v":0},{"$f":"IF(AND(H47+K47+N47+Q47>0,H47+K47+N47+Q47<6),$M$63,0)","v":0}]
[]
[null,"■ 簡易見積表",null,null,null,null,"■ 料金について（金額は税込定価です）"]
[null,"商 品 合 計",null,{"$f":"SUM(F47:Q47)","v":0},{"$f":"SUM(F50:Q50)+SUM(F51:Q51)","v":0},null,"商品名",null,null,"代表商品コード",null,"定価(税込)","売価(税込)","掛率(X10%)","注文数"]
[null,"マーキング代別途",null,null,null,null,"セミオーダーノースリーブシャツ",null,null,"ag-ns",null,3456,{"$f":"ROUND(L55*N55*0.1,0)","v":3456},10,{"$f":"SUMIF(F$41:Q$41,J55,F$47:Q$47)","v":0}]
[null,"送 料",null,null,{"$f":"IF(AND((E55+E54)>0,(E55+E54)<10800),$L$64,0)","v":0},null,"セミオーダーハーフパンツ",null,null,"ag-sp",null,3996,{"$f":"ROUND(L56*N56*0.1,0)","v":3996},{"$f":"$N$55","v":10},{"$f":"SUMIF(F$41:Q$41,J56,F$47:Q$47)","v":0}]
[null," ―",null,null,0,null,"セミオーダーソックス",null,null,"ag-st",null,1944,1944,10,{"$f":"SUMIF(F$41:Q$41,J57,F$47:Q$47)","v":0}]
[null,"合計金額（税込）",null,null,{"$f":"SUM(E54:E57)","v":0},null,"マーキング","個人名",null,"ag-name1000",null,1080,1080,10,{"$f":"SUM(F47:Q47)","v":0}]
[null,"税抜金額",null,null,{"$f":"E57-E60","v":0},null,"マーキング","背/胸/パンツ番号",null,"無料サービス",null,0,0,10]
[null,0.08,null,null,{"$f":"E57-ROUND(E57/(1+B60),0)","v":0},null,"マーキング","エンブレム",null,"無料サービス",null,0,0,10]
[null,null,null,null,null,null,"マーキング","チーム名",null,"無料サービス",null,0,0,10]
[null,null,null,null,null,null,"マーキング","スポンサーバナー",null,"無料サービス",null,0,0,10]
[null,null,null,null,null,null,"少量生産手数料",null,null,"ag-fee",null,2160,2160,10,{"$f":"COUNTIF(F51:H51,\">0\")","v":0}]
[null,{"$f":"IF(F29<>\"\",\"ご注意\",\"\")","v":""},null,null,null,null,"送料（税込10,800円以上で送料無料）",null,null,null,null,540]
[null,{"$f":"IF(F29<>\"\",F29,\"\")","v":""}]

{"sheet":"ベンチコート","index":14,"n_rows":63,"n_cols":15,"rows_kept":63,"cut":false,"hidden":true,"merged":[[39,1,39,3],[28,13,28,14],[1,0,3,0],[1,1,2,3],[1,13,1,14],[2,13,2,14],[3,1,5,3],[3,13,5,14],[29,1,29,3],[50,9,50,10],[40,1,40,3],[41,1,41,3],[42,1,42,3],[43,1,43,3],[44,1,44,3],[45,1,45,3],[46,1,46,3],[50,6,50,8],[47,1,47,3],[50,1,50,2],[53,7,53,8],[53,9,53,10],[54,7,54,8],[54,9,54,10],[53,1,53,3],[54,1,54,3],[51,1,51,3],[51,6,51,8],[51,9,51,10],[52,1,52,3],[52,6,52,8],[52,9,52,10],[62,1,64,4],[55,7,55,8],[55,9,55,10],[56,7,56,8],[56,9,56,10],[57,7,57,8],[57,9,57,10],[59,6,59,10],[55,1,55,3],[56,1,56,3],[58,6,58,8],[58,9,58,10],[61,1,61,4]]}
[]
["お客様記入→","agrina\nベンチコート注文書",null,null,"種　別","カラー１",null,"カラー２",null,"カラー３",null,"カラー４",null,"メモ欄 "]
[null,null,null,null,"画　像"]
[null,{"$f":"IF(ご注文者様チーム名=\"\",\"「メインメニュー」のご注文者様情報をご記入ください。\",ご注文者様チーム名)","v":"「メインメニュー」のご注文者様情報をご記入ください。"},null,null,"名　称","ハーフコート","ベンチコート","ハーフコート","ベンチコート","ハーフコート","ベンチコート","ハーフコート","ベンチコート","　３Dシミュレーターの「デザインを保存\n　する」ボタンをクリックして表示される\n☜「デザインURL」を貼り付けて下さい。"]
["非表示",null,null,null,"商品コード",{"$f":"IF(F47>0,IF(F42=\"\",\"追加商品コード未記入\",F41&F42),\"\")","v":""},{"$f":"IF(G47>0,IF(G42=\"\",\"追加商品コード未記入\",G41&G42),\"\")","v":""},"","","","","",""]
["➡",null,null,null,"デザイン\nURL","入力してください","入力してください","入力してください","入力してください","入力してください","入力してください","入力してください","入力してください"]
[null,"#","注文者氏名",{"$f":"\"マーキング名\"","v":"マーキング名"},"背番号","サイズ","サイズ","サイズ","サイズ","サイズ","サイズ","サイズ","サイズ","個人別価格","備考(お客様使用)"]
[null,"例","加藤貴行","T.KATO",10,"M","M","M","M"]
["➡",1,null,null,null,null,null,null,null,null,null,null,null,{"$f":"SUMIF(F9:M9,\"<>\",$F$46:$M$46)+IF($D9<>\"\",COUNTIFS(F9:M9,\"<>\",$F$40:$M$40,\">0\")*$M$54,0)","v":0}]
[null,2,null,null,null,null,null,null,null,null,null,null,null,0]
[null,3,null,null,null,null,null,null,null,null,null,null,null,0]
[null,4,null,null,null,null,null,null,null,null,null,null,null,0]
[null,5,null,null,null,null,null,null,null,null,null,null,null,0]
[null,6,null,null,null,null,null,null,null,null,null,null,null,0]
[null,7,null,null,null,null,null,null,null,null,null,null,null,0]
[null,8,null,null,null,null,null,null,null,null,null,null,null,0]
[null,9,null,null,null,null,null,null,null,null,null,null,null,0]
[null,10,null,null,null,null,null,null,null,null,null,null,null,0]
[null,11,null,null,null,null,null,null,null,null,null,null,null,0]
[null,12,null,null,null,null,null,null,null,null,null,null,null,0]
[null,13,null,null,null,null,null,null,null,null,null,null,null,0]
[null,14,null,null,null,null,null,null,null,null,null,null,null,0]
[null,15,null,null,null,null,null,null,null,null,null,null,null,0]
[null,16,null,null,null,null,null,null,null,null,null,null,null,0]
[null,17,null,null,null,null,null,null,null,null,null,null,null,0]
[null,18,null,null,null,null,null,null,null,null,null,null,null,0]
[null,19,null,null,null,null,null,null,null,null,null,null,null,0]
[null,20,null,null,null,null,null,null,null,null,null,null,null,0]
[null,null,null,null,null,{"$f":"IF(SUM(F48:M48)>0,\"　※少量生産手数料が加算されています。(４着以下)\",\"\")","v":""},null,null,null,null,null,null,null,"※ 個人別価格に手数料・送料は含まれていません。"]
[null,"注 文 集 計",null,null,110,{"$f":"COUNTIF(F$9:F$28,$E30)","v":0},0,{"$f":"COUNTIF(H$9:H$28,$E30)","v":0},0,0,0,0,0]
[null,null,null,null,130,0,0,0,0,0,0,0,0]
[null,null,null,null,150,0,0,0,0,0,0,0,0]
[null,null,null,null,"S",0,0,0,0,0,0,0,0]
[null,null,null,null,"M",0,0,0,0,0,0,0,0]
[null,null,null,null,"L",0,0,0,0,0,0,0,0]
[null,null,null,null,"XL",0,0,0,0,0,0,0,0]
[null,null,null,null,"3L",0,0,0,0,0,0,0,0]
[null,null,null,null,"4L",0,0,0,0,0,0,0,0]
[null,null,null,null,"5L",0,0,0,0,0,0,0,0]
[null,"マーキング",null,null,"個人名",{"$f":"COUNTIFS($D$9:$D$28,\"<>\",F$9:F$28,\"<>\")","v":0},0,0,0,0,0,0,0]
[null,"代表商品コード",null,null,{"$f":"$J$54","v":"ag-name1000"},{"$f":"$J$52","v":"ag-hc"},{"$f":"$J$53","v":"ag-bc"},{"$f":"$J$52","v":"ag-hc"},{"$f":"$J$53","v":"ag-bc"},{"$f":"$J$52","v":"ag-hc"},{"$f":"$J$53","v":"ag-bc"},{"$f":"$J$52","v":"ag-hc"},{"$f":"$J$53","v":"ag-bc"}]
[null,"追加商品コード"]
[null,"商 品 名",null,null,"個人名\nﾏｰｷﾝｸﾞ",{"$f":"$G$52&\"(\"&F2&\")\"","v":"セミオーダー昇華ハーフコート(カラー１)"},{"$f":"$G$53&\"(\"&F2&\")\"","v":"セミオーダー昇華ベンチコート(カラー１)"},{"$f":"$G$52&\"(\"&H2&\")\"","v":"セミオーダー昇華ハーフコート(カラー２)"},{"$f":"$G$53&\"(\"&H2&\")\"","v":"セミオーダー昇華ベンチコート(カラー２)"},{"$f":"$G$52&\"(\"&J2&\")\"","v":"セミオーダー昇華ハーフコート(カラー３)"},{"$f":"$G$53&\"(\"&J2&\")\"","v":"セミオーダー昇華ベンチコート(カラー３)"},{"$f":"$G$52&\"(\"&L2&\")\"","v":"セミオーダー昇華ハーフコート(カラー４)"},{"$f":"$G$53&\"(\"&L2&\")\"","v":"セミオーダー昇華ベンチコート(カラー４)"}]
[null,"注 文 数",null,null,{"$f":"SUM(F40:M40)","v":0},{"$f":"SUM(F30:F39)","v":0},0,0,0,0,0,0,0]
[null,"定  価（税込）",null,null,{"$f":"$L$54","v":1080},{"$f":"$L$52","v":23760},{"$f":"$L$53","v":24840},{"$f":"$L$52","v":23760},{"$f":"$L$53","v":24840},{"$f":"$L$52","v":23760},{"$f":"$L$53","v":24840},{"$f":"$L$52","v":23760},{"$f":"$L$53","v":24840}]
[null,"販売価格（税込）",null,null,{"$f":"$M$54","v":1080},{"$f":"$M$52","v":23760},{"$f":"$M$53","v":24840},{"$f":"$M$52","v":23760},{"$f":"$M$53","v":24840},{"$f":"$M$52","v":23760},{"$f":"$M$53","v":24840},{"$f":"$M$52","v":23760},{"$f":"$M$53","v":24840}]
[null,"商品金額小計（税込）",null,null,{"$f":"E46*E44","v":0},{"$f":"F46*F44","v":0},{"$f":"G46*G44","v":0},{"$f":"H46*H44","v":0},0,0,0,0,0]
[null,"少量生産手数料（税込）",null,null,null,{"$f":"IF(AND(SUM(F44,H44,J44,L44)>0,SUM(F44,H44,J44,L44)<5),$M$59,0)","v":0},{"$f":"IF(AND(SUM(G44,I44,K44,M44)>0,SUM(G44,I44,K44,M44)<5),$M$59,0)","v":0}]
[null,null,null,null,null,{"$f":"IF(AND(F41=\"\",F44>0),\"↑注文エラー\",\"\")","v":""},{"$f":"IF(AND(G41=\"\",G44>0),\"↑注文エラー\",\"\")","v":""},"","","","","",""]
[null,"■ 簡易見積表",null,null,null,null,"■ 料金について（金額は税込定価です）"]
[null,"商 品 合 計",null,{"$f":"SUM(F44:M44)","v":0},{"$f":"SUM(F47:M47)+SUM(F48:M48)","v":0},null,"商品名",null,null,"代表商品コード",null,"定価(税込)","売価(税込)","掛率(X10%)","注文数"]
[null,"マーキング代合計",null,null,{"$f":"E47","v":0},null,"セミオーダー昇華ハーフコート",null,null,"ag-hc",null,23760,{"$f":"ROUND(L52*N52*0.1,0)","v":23760},10,{"$f":"SUMIF($F$41:$M$41,J52,$F$44:$M$44)","v":0}]
[null,"送 料",null,null,{"$f":"IF(AND((E52+E51)>0,(E52+E51)<10800),$L$60,0)","v":0},null,"セミオーダー昇華ベンチコート",null,null,"ag-bc",null,24840,24840,{"$f":"$N$52","v":10},{"$f":"SUMIF($F$41:$M$41,J53,$F$44:$M$44)","v":0}]
[null," ―",null,null,0,null,"マーキング","個人名",null,"ag-name1000",null,1080,1080,10,{"$f":"E44","v":0}]
[null,"合計金額（税込）",null,null,{"$f":"SUM(E51:E54)","v":0},null,"マーキング","背/胸/パンツ番号",null,"無料サービス",null,0,0,10]
[null,"税抜金額",null,null,{"$f":"E54-E57","v":0},null,"マーキング","エンブレム",null,"無料サービス",null,0,0,10]
[null,0.08,null,null,{"$f":"E54-ROUND(E54/(1+B57),0)","v":0},null,"マーキング","チーム名",null,"無料サービス",null,0,0,10]
[null,null,null,null,null,null,"マーキング","スポンサーバナー",null,"無料サービス",null,0,0,10]
[null,null,null,null,null,null,"少量生産手数料",null,null,"ag-fee",null,2160,{"$f":"ROUND(L59*N59*0.1,0)","v":2160},10,{"$f":"COUNTIF(F48:G48,\">0\")","v":0}]
[null,null,null,null,null,null,"送料（税込10,800円以上で送料無料）",null,null,null,null,540]
[]
[null,{"$f":"IF(F29<>\"\",\"ご注意\",\"\")","v":""}]
[null,{"$f":"IF(F29<>\"\",F29,\"\")","v":""}]

{"sheet":"準備中","index":15,"n_rows":2,"n_cols":4,"rows_kept":2,"cut":false,"hidden":true,"merged":[[1,3,2,8],[1,1,2,2]]}
[]
[null,"agrina\n注文書",null,"現在、準備中です。申し訳ございませんが、しばらくお待ちください。"]

{"sheet":"デザインURL説明","index":16,"n_rows":36,"n_cols":3,"rows_kept":36,"cut":false,"hidden":true,"merged":[[1,1,1,15]]}
[]
[null,"３DシミュレーターのデザインURLのコピー方法"]
[]
[null,"①","3Dシミュレーターの右下の[デザインを保存する]をクリックします。"]
[]
[]
[]
[]
[]
[]
[]
[]
[]
[]
[]
[]
[]
[]
[]
[null,"②","デザインURLの枠内の文字をすべて選択してコピーします。"]
[]
[]
[]
[]
[]
[]
[]
[]
[]
[]
[]
[]
[]
[]
[]
[null,"③","注文書のデザインURLに貼り付けます。"]

{"sheet":"読込中","index":17,"n_rows":2,"n_cols":4,"rows_kept":2,"cut":false,"hidden":true,"merged":[[1,1,2,2],[1,3,2,8]]}
[]
[null,"agrina\n注文書",null,"ファイルを開いています。少々お待ちください。"]

{"sheet":"お願い","index":18,"n_rows":26,"n_cols":2,"rows_kept":26,"cut":false,"hidden":false,"merged":[[1,1,1,12],[0,1,0,12]]}
[null,"注文書を作成する前のお願い"]
[null,"Excelの自動処理(マクロ)が無効になっています。お手数ですがマクロを有効にしてください。"]
[]
[null,"■ マクロを有効にする方法"]
[]
[null,"1.注文書ファイルを開くと、以下のようなメッセージが画面左上に表示されます。"]
[]
[]
[]
[null,"2.「コンテンツの有効化」ボタンをクリックしてください。"]
[]
[null,"■ 上記の操作を行なっても、この画面が表示される場合・上記のメッセージが表示されない場合"]
[]
[null,"1. [ファイル] タブをクリックします。"]
[]
[null,"2. [オプション] をクリックします。"]
[]
[null,"3. [セキュリティ センター] をクリックし、[セキュリティ センターの設定] をクリックします。"]
[]
[null,"4. [セキュリティ センター] の [マクロの設定] をクリックします。"]
[]
[null,"5. [警告を表示してすべてのマクロを無効にする]をクリックします。"]
[]
[null,"6. [OK] をクリックします。"]
[]
[null,"7. ファイルを保存して、開きなおしてください。"]